BEGIN:VCALENDAR
VERSION:2.0
PRODID:-//Miami Industrial Trucks - ECPv6.15.20//NONSGML v1.0//EN
CALSCALE:GREGORIAN
METHOD:PUBLISH
X-WR-CALNAME:Miami Industrial Trucks
X-ORIGINAL-URL:https://www.mitlift.com
X-WR-CALDESC:Events for Miami Industrial Trucks
REFRESH-INTERVAL;VALUE=DURATION:PT1H
X-Robots-Tag:noindex
X-PUBLISHED-TTL:PT1H
BEGIN:VTIMEZONE
TZID:America/Detroit
BEGIN:DAYLIGHT
TZOFFSETFROM:-0500
TZOFFSETTO:-0400
TZNAME:EDT
DTSTART:20190310T070000
END:DAYLIGHT
BEGIN:STANDARD
TZOFFSETFROM:-0400
TZOFFSETTO:-0500
TZNAME:EST
DTSTART:20191103T060000
END:STANDARD
BEGIN:DAYLIGHT
TZOFFSETFROM:-0500
TZOFFSETTO:-0400
TZNAME:EDT
DTSTART:20200308T070000
END:DAYLIGHT
BEGIN:STANDARD
TZOFFSETFROM:-0400
TZOFFSETTO:-0500
TZNAME:EST
DTSTART:20201101T060000
END:STANDARD
BEGIN:DAYLIGHT
TZOFFSETFROM:-0500
TZOFFSETTO:-0400
TZNAME:EDT
DTSTART:20210314T070000
END:DAYLIGHT
BEGIN:STANDARD
TZOFFSETFROM:-0400
TZOFFSETTO:-0500
TZNAME:EST
DTSTART:20211107T060000
END:STANDARD
BEGIN:DAYLIGHT
TZOFFSETFROM:-0500
TZOFFSETTO:-0400
TZNAME:EDT
DTSTART:20220313T070000
END:DAYLIGHT
BEGIN:STANDARD
TZOFFSETFROM:-0400
TZOFFSETTO:-0500
TZNAME:EST
DTSTART:20221106T060000
END:STANDARD
END:VTIMEZONE
BEGIN:VEVENT
DTSTART;TZID=America/Detroit:20200820T083000
DTEND;TZID=America/Detroit:20200820T140000
DTSTAMP:20260421T005731
CREATED:20191111T164525Z
LAST-MODIFIED:20191111T164525Z
UID:10000029-1597912200-1597932000@www.mitlift.com
SUMMARY:Findlay Forklift
DESCRIPTION:
URL:https://www.mitlift.com/event/findlay-forklift-9/
LOCATION:MIT Findlay\, 130 Stanford Pkwy\, Findlay\, OH\, 45840\, United States
CATEGORIES:Forklift
ORGANIZER;CN="George Mackenzie":MAILTO:gmackenzie@mitlift.com
END:VEVENT
BEGIN:VEVENT
DTSTART;TZID=America/Detroit:20200825T083000
DTEND;TZID=America/Detroit:20200825T140000
DTSTAMP:20260421T005731
CREATED:20191111T164703Z
LAST-MODIFIED:20200807T141909Z
UID:10000001-1598344200-1598364000@www.mitlift.com
SUMMARY:Dayton Forklift
DESCRIPTION:
URL:https://www.mitlift.com/event/dayton-forklift-27/
LOCATION:MIT Dayton\, 2830 E. River Road\, Dayton\, OH\, 45439\, United States
CATEGORIES:Forklift
ORGANIZER;CN="George Mackenzie":MAILTO:gmackenzie@mitlift.com
END:VEVENT
BEGIN:VEVENT
DTSTART;TZID=America/Detroit:20200827T083000
DTEND;TZID=America/Detroit:20200827T140000
DTSTAMP:20260421T005731
CREATED:20191111T164837Z
LAST-MODIFIED:20191111T164852Z
UID:10000010-1598517000-1598536800@www.mitlift.com
SUMMARY:Toledo Forklift
DESCRIPTION:
URL:https://www.mitlift.com/event/toledo-forklift-10/
LOCATION:MIT Toledo\, 10406 Geiser Road\, Toledo\, OH\, 43528\, United States
CATEGORIES:Forklift
ORGANIZER;CN="George Mackenzie":MAILTO:gmackenzie@mitlift.com
END:VEVENT
BEGIN:VEVENT
DTSTART;TZID=America/Detroit:20200902T083000
DTEND;TZID=America/Detroit:20200902T140000
DTSTAMP:20260421T005731
CREATED:20191111T165002Z
LAST-MODIFIED:20200831T131004Z
UID:10000009-1599035400-1599055200@www.mitlift.com
SUMMARY:Dayton Forklift
DESCRIPTION:
URL:https://www.mitlift.com/event/dayton-forklift-28/
LOCATION:MIT Dayton\, 2830 E. River Road\, Dayton\, OH\, 45439\, United States
CATEGORIES:Forklift
ORGANIZER;CN="George Mackenzie":MAILTO:gmackenzie@mitlift.com
END:VEVENT
BEGIN:VEVENT
DTSTART;TZID=America/Detroit:20200910T083000
DTEND;TZID=America/Detroit:20200910T140000
DTSTAMP:20260421T005731
CREATED:20191111T165142Z
LAST-MODIFIED:20200909T163009Z
UID:10000008-1599726600-1599746400@www.mitlift.com
SUMMARY:Dayton Forklift
DESCRIPTION:
URL:https://www.mitlift.com/event/dayton-forklift-29/
LOCATION:MIT Dayton\, 2830 E. River Road\, Dayton\, OH\, 45439\, United States
CATEGORIES:Forklift
END:VEVENT
BEGIN:VEVENT
DTSTART;TZID=America/Detroit:20200916T083000
DTEND;TZID=America/Detroit:20200916T140000
DTSTAMP:20260421T005731
CREATED:20191111T165303Z
LAST-MODIFIED:20191111T165303Z
UID:10000007-1600245000-1600264800@www.mitlift.com
SUMMARY:Troy Forklift
DESCRIPTION:
URL:https://www.mitlift.com/event/troy-forklift-9/
LOCATION:MIT Troy\, 1101 Horizon West Court\, Troy\, OH\, 45373\, United States
CATEGORIES:Forklift
ORGANIZER;CN="George Mackenzie":MAILTO:gmackenzie@mitlift.com
END:VEVENT
BEGIN:VEVENT
DTSTART;TZID=America/Detroit:20200917T083000
DTEND;TZID=America/Detroit:20200917T140000
DTSTAMP:20260421T005731
CREATED:20191111T165409Z
LAST-MODIFIED:20191111T165616Z
UID:10000002-1600331400-1600351200@www.mitlift.com
SUMMARY:Findlay Forklift
DESCRIPTION:
URL:https://www.mitlift.com/event/findlay-forklift-10/
LOCATION:MIT Findlay\, 130 Stanford Pkwy\, Findlay\, OH\, 45840\, United States
CATEGORIES:Forklift
ORGANIZER;CN="George Mackenzie":MAILTO:gmackenzie@mitlift.com
END:VEVENT
BEGIN:VEVENT
DTSTART;TZID=America/Detroit:20200922T083000
DTEND;TZID=America/Detroit:20200922T140000
DTSTAMP:20260421T005731
CREATED:20191111T165813Z
LAST-MODIFIED:20191111T165813Z
UID:10000003-1600763400-1600783200@www.mitlift.com
SUMMARY:Dayton Forklift
DESCRIPTION:
URL:https://www.mitlift.com/event/dayton-forklift-30/
LOCATION:MIT Dayton\, 2830 E. River Road\, Dayton\, OH\, 45439\, United States
CATEGORIES:Forklift
ORGANIZER;CN="George Mackenzie":MAILTO:gmackenzie@mitlift.com
END:VEVENT
BEGIN:VEVENT
DTSTART;TZID=America/Detroit:20200924T083000
DTEND;TZID=America/Detroit:20200924T140000
DTSTAMP:20260421T005731
CREATED:20191111T165923Z
LAST-MODIFIED:20191111T165923Z
UID:10000005-1600936200-1600956000@www.mitlift.com
SUMMARY:Toledo Forklift
DESCRIPTION:
URL:https://www.mitlift.com/event/toledo-forklift-11/
LOCATION:MIT Toledo\, 10406 Geiser Road\, Toledo\, OH\, 43528\, United States
CATEGORIES:Forklift
ORGANIZER;CN="George Mackenzie":MAILTO:gmackenzie@mitlift.com
END:VEVENT
BEGIN:VEVENT
DTSTART;TZID=America/Detroit:20201006T083000
DTEND;TZID=America/Detroit:20201006T140000
DTSTAMP:20260421T005731
CREATED:20191111T170058Z
LAST-MODIFIED:20191111T170616Z
UID:10000006-1601973000-1601992800@www.mitlift.com
SUMMARY:Dayton Forklift
DESCRIPTION:
URL:https://www.mitlift.com/event/dayton-forklift-31/
LOCATION:MIT Dayton\, 2830 E. River Road\, Dayton\, OH\, 45439\, United States
CATEGORIES:Forklift
ORGANIZER;CN="George Mackenzie":MAILTO:gmackenzie@mitlift.com
END:VEVENT
BEGIN:VEVENT
DTSTART;TZID=America/Detroit:20201013T083000
DTEND;TZID=America/Detroit:20201013T140000
DTSTAMP:20260421T005731
CREATED:20191111T170812Z
LAST-MODIFIED:20201008T184936Z
UID:10000004-1602577800-1602597600@www.mitlift.com
SUMMARY:Troy Forklift
DESCRIPTION:
URL:https://www.mitlift.com/event/troy-forklift-10/
LOCATION:MIT Troy\, 1101 Horizon West Court\, Troy\, OH\, 45373\, United States
CATEGORIES:Forklift
ORGANIZER;CN="George Mackenzie":MAILTO:gmackenzie@mitlift.com
END:VEVENT
BEGIN:VEVENT
DTSTART;TZID=America/Detroit:20201015T083000
DTEND;TZID=America/Detroit:20201015T140000
DTSTAMP:20260421T005731
CREATED:20191111T181003Z
LAST-MODIFIED:20191111T190543Z
UID:10000124-1602750600-1602770400@www.mitlift.com
SUMMARY:Findlay Forklift
DESCRIPTION:
URL:https://www.mitlift.com/event/findlay-forklift-12/
LOCATION:MIT Findlay\, 130 Stanford Pkwy\, Findlay\, OH\, 45840\, United States
CATEGORIES:Forklift
ORGANIZER;CN="George Mackenzie":MAILTO:gmackenzie@mitlift.com
END:VEVENT
BEGIN:VEVENT
DTSTART;TZID=America/Detroit:20201020T083000
DTEND;TZID=America/Detroit:20201020T140000
DTSTAMP:20260421T005731
CREATED:20191111T171054Z
LAST-MODIFIED:20191111T171054Z
UID:10000101-1603182600-1603202400@www.mitlift.com
SUMMARY:Dayton Forklift
DESCRIPTION:
URL:https://www.mitlift.com/event/dayton-forklift-32/
LOCATION:MIT Dayton\, 2830 E. River Road\, Dayton\, OH\, 45439\, United States
CATEGORIES:Forklift
ORGANIZER;CN="George Mackenzie":MAILTO:gmackenzie@mitlift.com
END:VEVENT
BEGIN:VEVENT
DTSTART;TZID=America/Detroit:20201022T083000
DTEND;TZID=America/Detroit:20201022T140000
DTSTAMP:20260421T005731
CREATED:20201013T165358Z
LAST-MODIFIED:20201013T165358Z
UID:10000127-1603355400-1603375200@www.mitlift.com
SUMMARY:Toledo Forklift
DESCRIPTION:
URL:https://www.mitlift.com/event/toledo-forklift-3/
LOCATION:MIT Toledo\, 10406 Geiser Road\, Toledo\, OH\, 43528\, United States
CATEGORIES:Forklift,Forklift Training Toledo
ORGANIZER;CN="George Mackenzie":MAILTO:gmackenzie@mitlift.com
END:VEVENT
BEGIN:VEVENT
DTSTART;TZID=America/Detroit:20201029T083000
DTEND;TZID=America/Detroit:20201029T140000
DTSTAMP:20260421T005731
CREATED:20191111T171615Z
LAST-MODIFIED:20201016T140415Z
UID:10000102-1603960200-1603980000@www.mitlift.com
SUMMARY:Dayton Forklift
DESCRIPTION:
URL:https://www.mitlift.com/event/dayton-forklift-33/
LOCATION:MIT Dayton\, 2830 E. River Road\, Dayton\, OH\, 45439\, United States
CATEGORIES:Forklift
ORGANIZER;CN="George Mackenzie":MAILTO:gmackenzie@mitlift.com
END:VEVENT
BEGIN:VEVENT
DTSTART;TZID=America/Detroit:20201103T083000
DTEND;TZID=America/Detroit:20201103T140000
DTSTAMP:20260421T005731
CREATED:20191111T172251Z
LAST-MODIFIED:20191111T181625Z
UID:10000103-1604392200-1604412000@www.mitlift.com
SUMMARY:Dayton Forklift
DESCRIPTION:
URL:https://www.mitlift.com/event/dayton-forklift-34/
LOCATION:MIT Dayton\, 2830 E. River Road\, Dayton\, OH\, 45439\, United States
CATEGORIES:Forklift
ORGANIZER;CN="George Mackenzie":MAILTO:gmackenzie@mitlift.com
END:VEVENT
BEGIN:VEVENT
DTSTART;TZID=America/Detroit:20201112T083000
DTEND;TZID=America/Detroit:20201112T140000
DTSTAMP:20260421T005731
CREATED:20191111T173209Z
LAST-MODIFIED:20191111T173430Z
UID:10000104-1605169800-1605189600@www.mitlift.com
SUMMARY:Dayton Forklift
DESCRIPTION:
URL:https://www.mitlift.com/event/dayton-forklift-35/
LOCATION:MIT Dayton\, 2830 E. River Road\, Dayton\, OH\, 45439\, United States
CATEGORIES:Forklift
ORGANIZER;CN="George Mackenzie":MAILTO:gmackenzie@mitlift.com
END:VEVENT
BEGIN:VEVENT
DTSTART;TZID=America/Detroit:20201113T080000
DTEND;TZID=America/Detroit:20201113T170000
DTSTAMP:20260421T005731
CREATED:20201113T202638Z
LAST-MODIFIED:20201113T202638Z
UID:10000194-1605254400-1605286800@www.mitlift.com
SUMMARY:Toledo Forklift
DESCRIPTION:
URL:https://www.mitlift.com/event/toledo-forklift-22/
LOCATION:MIT Dayton\, 2830 E. River Road\, Dayton\, OH\, 45439\, United States
CATEGORIES:Forklift
END:VEVENT
BEGIN:VEVENT
DTSTART;TZID=America/Detroit:20201113T083000
DTEND;TZID=America/Detroit:20201113T140000
DTSTAMP:20260421T005731
CREATED:20201113T172705Z
LAST-MODIFIED:20201113T172705Z
UID:10000168-1605256200-1605276000@www.mitlift.com
SUMMARY:Dayton Forklift
DESCRIPTION:
URL:https://www.mitlift.com/event/dayton-forklift-72/
LOCATION:MIT Dayton\, 2830 E. River Road\, Dayton\, OH\, 45439\, United States
CATEGORIES:Forklift,Forklift Training Dayton
ORGANIZER;CN="George Mackenzie":MAILTO:gmackenzie@mitlift.com
END:VEVENT
BEGIN:VEVENT
DTSTART;TZID=America/Detroit:20201117T083000
DTEND;TZID=America/Detroit:20201117T140000
DTSTAMP:20260421T005731
CREATED:20191111T173552Z
LAST-MODIFIED:20201113T173700Z
UID:10000105-1605601800-1605621600@www.mitlift.com
SUMMARY:Toledo Forklift
DESCRIPTION:
URL:https://www.mitlift.com/event/toledo-forklift-13/
LOCATION:MIT Toledo\, 10406 Geiser Road\, Toledo\, OH\, 43528\, United States
CATEGORIES:Forklift
ORGANIZER;CN="George Mackenzie":MAILTO:gmackenzie@mitlift.com
END:VEVENT
BEGIN:VEVENT
DTSTART;TZID=America/Detroit:20201118T083000
DTEND;TZID=America/Detroit:20201118T140000
DTSTAMP:20260421T005731
CREATED:20191111T173704Z
LAST-MODIFIED:20191111T173704Z
UID:10000106-1605688200-1605708000@www.mitlift.com
SUMMARY:Troy Forklift
DESCRIPTION:
URL:https://www.mitlift.com/event/troy-forklift-11/
LOCATION:MIT Troy\, 1101 Horizon West Court\, Troy\, OH\, 45373\, United States
CATEGORIES:Forklift
ORGANIZER;CN="George Mackenzie":MAILTO:gmackenzie@mitlift.com
END:VEVENT
BEGIN:VEVENT
DTSTART;TZID=America/Detroit:20201119T083000
DTEND;TZID=America/Detroit:20201119T140000
DTSTAMP:20260421T005731
CREATED:20191111T174537Z
LAST-MODIFIED:20201112T151247Z
UID:10000107-1605774600-1605794400@www.mitlift.com
SUMMARY:Findlay Forklift
DESCRIPTION:
URL:https://www.mitlift.com/event/findlay-forklift-11/
LOCATION:MIT Findlay\, 130 Stanford Pkwy\, Findlay\, OH\, 45840\, United States
CATEGORIES:Forklift
ORGANIZER;CN="George Mackenzie":MAILTO:gmackenzie@mitlift.com
END:VEVENT
BEGIN:VEVENT
DTSTART;TZID=America/Detroit:20201120T083000
DTEND;TZID=America/Detroit:20201120T140000
DTSTAMP:20260421T005731
CREATED:20191111T174755Z
LAST-MODIFIED:20201112T151007Z
UID:10000109-1605861000-1605880800@www.mitlift.com
SUMMARY:Dayton Forklift
DESCRIPTION:
URL:https://www.mitlift.com/event/dayton-forklift-36/
LOCATION:MIT Dayton\, 2830 E. River Road\, Dayton\, OH\, 45439\, United States
CATEGORIES:Forklift
ORGANIZER;CN="George Mackenzie":MAILTO:gmackenzie@mitlift.com
END:VEVENT
BEGIN:VEVENT
DTSTART;TZID=America/Detroit:20201202T080000
DTEND;TZID=America/Detroit:20201202T170000
DTSTAMP:20260421T005731
CREATED:20201202T173739Z
LAST-MODIFIED:20201202T173739Z
UID:10000227-1606896000-1606928400@www.mitlift.com
SUMMARY:Findlay Aerial
DESCRIPTION:
URL:https://www.mitlift.com/event/findlay-aerial-20/
LOCATION:MIT Dayton\, 2830 E. River Road\, Dayton\, OH\, 45439\, United States
END:VEVENT
BEGIN:VEVENT
DTSTART;TZID=America/Detroit:20201202T083000
DTEND;TZID=America/Detroit:20201202T140000
DTSTAMP:20260421T005731
CREATED:20191111T174910Z
LAST-MODIFIED:20191111T174910Z
UID:10000117-1606897800-1606917600@www.mitlift.com
SUMMARY:Dayton Forklift
DESCRIPTION:
URL:https://www.mitlift.com/event/dayton-forklift-37/
LOCATION:MIT Dayton\, 2830 E. River Road\, Dayton\, OH\, 45439\, United States
CATEGORIES:Forklift
ORGANIZER;CN="George Mackenzie":MAILTO:gmackenzie@mitlift.com
END:VEVENT
BEGIN:VEVENT
DTSTART;TZID=America/Detroit:20201210T083000
DTEND;TZID=America/Detroit:20201210T140000
DTSTAMP:20260421T005731
CREATED:20191111T175025Z
LAST-MODIFIED:20191111T175025Z
UID:10000119-1607589000-1607608800@www.mitlift.com
SUMMARY:Dayton Forklift
DESCRIPTION:
URL:https://www.mitlift.com/event/dayton-forklift-38/
LOCATION:MIT Dayton\, 2830 E. River Road\, Dayton\, OH\, 45439\, United States
CATEGORIES:Forklift
ORGANIZER;CN="George Mackenzie":MAILTO:gmackenzie@mitlift.com
END:VEVENT
BEGIN:VEVENT
DTSTART;TZID=America/Detroit:20201215T083000
DTEND;TZID=America/Detroit:20201215T140000
DTSTAMP:20260421T005731
CREATED:20191111T175123Z
LAST-MODIFIED:20201210T201219Z
UID:10000121-1608021000-1608040800@www.mitlift.com
SUMMARY:Toledo Forklift
DESCRIPTION:
URL:https://www.mitlift.com/event/toledo-forklift-14/
LOCATION:MIT Toledo\, 10406 Geiser Road\, Toledo\, OH\, 43528\, United States
CATEGORIES:Forklift
ORGANIZER;CN="George Mackenzie":MAILTO:gmackenzie@mitlift.com
END:VEVENT
BEGIN:VEVENT
DTSTART;TZID=America/Detroit:20201217T083000
DTEND;TZID=America/Detroit:20201217T140000
DTSTAMP:20260421T005731
CREATED:20191111T175228Z
LAST-MODIFIED:20201211T150932Z
UID:10000122-1608193800-1608213600@www.mitlift.com
SUMMARY:Findlay Training
DESCRIPTION:
URL:https://www.mitlift.com/event/findlay-training/
LOCATION:MIT Findlay\, 130 Stanford Pkwy\, Findlay\, OH\, 45840\, United States
CATEGORIES:Forklift
ORGANIZER;CN="George Mackenzie":MAILTO:gmackenzie@mitlift.com
END:VEVENT
BEGIN:VEVENT
DTSTART;TZID=America/Detroit:20201218T083000
DTEND;TZID=America/Detroit:20201218T140000
DTSTAMP:20260421T005731
CREATED:20191111T175349Z
LAST-MODIFIED:20201113T155458Z
UID:10000123-1608280200-1608300000@www.mitlift.com
SUMMARY:Dayton Forklift
DESCRIPTION:
URL:https://www.mitlift.com/event/dayton-forklift-39/
LOCATION:MIT Dayton\, 2830 E. River Road\, Dayton\, OH\, 45439\, United States
CATEGORIES:Forklift
ORGANIZER;CN="George Mackenzie":MAILTO:gmackenzie@mitlift.com
END:VEVENT
BEGIN:VEVENT
DTSTART;TZID=America/Detroit:20210106T083000
DTEND;TZID=America/Detroit:20210106T143000
DTSTAMP:20260421T005731
CREATED:20200804T191812Z
LAST-MODIFIED:20210104T174851Z
UID:10000126-1609921800-1609943400@www.mitlift.com
SUMMARY:Dayton Forklift
DESCRIPTION:
URL:https://www.mitlift.com/event/dayton-forklift-40/
LOCATION:MIT Dayton\, 2830 E. River Road\, Dayton\, OH\, 45439\, United States
CATEGORIES:Forklift,Forklift Training Dayton
ORGANIZER;CN="George Mackenzie":MAILTO:gmackenzie@mitlift.com
END:VEVENT
END:VCALENDAR