BEGIN:VCALENDAR
VERSION:2.0
PRODID:-//Miami Industrial Trucks - ECPv6.15.20//NONSGML v1.0//EN
CALSCALE:GREGORIAN
METHOD:PUBLISH
X-WR-CALNAME:Miami Industrial Trucks
X-ORIGINAL-URL:https://www.mitlift.com
X-WR-CALDESC:Events for Miami Industrial Trucks
REFRESH-INTERVAL;VALUE=DURATION:PT1H
X-Robots-Tag:noindex
X-PUBLISHED-TTL:PT1H
BEGIN:VTIMEZONE
TZID:America/Detroit
BEGIN:DAYLIGHT
TZOFFSETFROM:-0500
TZOFFSETTO:-0400
TZNAME:EDT
DTSTART:20190310T070000
END:DAYLIGHT
BEGIN:STANDARD
TZOFFSETFROM:-0400
TZOFFSETTO:-0500
TZNAME:EST
DTSTART:20191103T060000
END:STANDARD
BEGIN:DAYLIGHT
TZOFFSETFROM:-0500
TZOFFSETTO:-0400
TZNAME:EDT
DTSTART:20200308T070000
END:DAYLIGHT
BEGIN:STANDARD
TZOFFSETFROM:-0400
TZOFFSETTO:-0500
TZNAME:EST
DTSTART:20201101T060000
END:STANDARD
BEGIN:DAYLIGHT
TZOFFSETFROM:-0500
TZOFFSETTO:-0400
TZNAME:EDT
DTSTART:20210314T070000
END:DAYLIGHT
BEGIN:STANDARD
TZOFFSETFROM:-0400
TZOFFSETTO:-0500
TZNAME:EST
DTSTART:20211107T060000
END:STANDARD
END:VTIMEZONE
BEGIN:VEVENT
DTSTART;TZID=America/Detroit:20200513T083000
DTEND;TZID=America/Detroit:20200513T140000
DTSTAMP:20260421T000027
CREATED:20191111T155103Z
LAST-MODIFIED:20200507T131610Z
UID:10000041-1589358600-1589378400@www.mitlift.com
SUMMARY:Troy Forklift
DESCRIPTION:
URL:https://www.mitlift.com/event/troy-forklift-5/
LOCATION:MIT Troy\, 1101 Horizon West Court\, Troy\, OH\, 45373\, United States
CATEGORIES:Forklift
ORGANIZER;CN="George Mackenzie":MAILTO:gmackenzie@mitlift.com
END:VEVENT
BEGIN:VEVENT
DTSTART;TZID=America/Detroit:20200514T083000
DTEND;TZID=America/Detroit:20200514T140000
DTSTAMP:20260421T000027
CREATED:20191111T155217Z
LAST-MODIFIED:20200513T133138Z
UID:10000014-1589445000-1589464800@www.mitlift.com
SUMMARY:Findlay Forklift
DESCRIPTION:
URL:https://www.mitlift.com/event/findlay-forklift-6/
LOCATION:MIT Findlay\, 130 Stanford Pkwy\, Findlay\, OH\, 45840\, United States
CATEGORIES:Forklift
ORGANIZER;CN="George Mackenzie":MAILTO:gmackenzie@mitlift.com
END:VEVENT
BEGIN:VEVENT
DTSTART;TZID=America/Detroit:20200519T083000
DTEND;TZID=America/Detroit:20200519T140000
DTSTAMP:20260421T000027
CREATED:20191111T155336Z
LAST-MODIFIED:20200514T204743Z
UID:10000015-1589877000-1589896800@www.mitlift.com
SUMMARY:Dayton Forklift
DESCRIPTION:
URL:https://www.mitlift.com/event/dayton-forklift-17/
LOCATION:MIT Dayton\, 2830 E. River Road\, Dayton\, OH\, 45439\, United States
CATEGORIES:Forklift
ORGANIZER;CN="George Mackenzie":MAILTO:gmackenzie@mitlift.com
END:VEVENT
BEGIN:VEVENT
DTSTART;TZID=America/Detroit:20200521T083000
DTEND;TZID=America/Detroit:20200521T140000
DTSTAMP:20260421T000027
CREATED:20191111T155452Z
LAST-MODIFIED:20200519T120259Z
UID:10000016-1590049800-1590069600@www.mitlift.com
SUMMARY:Toledo Forklift
DESCRIPTION:
URL:https://www.mitlift.com/event/toledo-forklift-7/
LOCATION:MIT Toledo\, 10406 Geiser Road\, Toledo\, OH\, 43528\, United States
CATEGORIES:Forklift
ORGANIZER;CN="George Mackenzie":MAILTO:gmackenzie@mitlift.com
END:VEVENT
BEGIN:VEVENT
DTSTART;TZID=America/Detroit:20200528T083000
DTEND;TZID=America/Detroit:20200528T140000
DTSTAMP:20260421T000027
CREATED:20191111T155608Z
LAST-MODIFIED:20191111T155608Z
UID:10000017-1590654600-1590674400@www.mitlift.com
SUMMARY:Dayton Forklift
DESCRIPTION:
URL:https://www.mitlift.com/event/dayton-forklift-18/
LOCATION:MIT Dayton\, 2830 E. River Road\, Dayton\, OH\, 45439\, United States
CATEGORIES:Forklift
ORGANIZER;CN="George Mackenzie":MAILTO:gmackenzie@mitlift.com
END:VEVENT
BEGIN:VEVENT
DTSTART;TZID=America/Detroit:20200604T083000
DTEND;TZID=America/Detroit:20200604T140000
DTSTAMP:20260421T000027
CREATED:20191111T161717Z
LAST-MODIFIED:20200602T182747Z
UID:10000018-1591259400-1591279200@www.mitlift.com
SUMMARY:Dayton Forklift
DESCRIPTION:
URL:https://www.mitlift.com/event/dayton-forklift-19/
LOCATION:MIT Dayton\, 2830 E. River Road\, Dayton\, OH\, 45439\, United States
CATEGORIES:Forklift
ORGANIZER;CN="George Mackenzie":MAILTO:gmackenzie@mitlift.com
END:VEVENT
BEGIN:VEVENT
DTSTART;TZID=America/Detroit:20200616T083000
DTEND;TZID=America/Detroit:20200616T140000
DTSTAMP:20260421T000027
CREATED:20191111T162226Z
LAST-MODIFIED:20200605T142353Z
UID:10000020-1592296200-1592316000@www.mitlift.com
SUMMARY:Dayton Forklift
DESCRIPTION:
URL:https://www.mitlift.com/event/dayton-forklift-20/
LOCATION:MIT Dayton\, 2830 E. River Road\, Dayton\, OH\, 45439\, United States
CATEGORIES:Forklift
ORGANIZER;CN="George Mackenzie":MAILTO:gmackenzie@mitlift.com
END:VEVENT
BEGIN:VEVENT
DTSTART;TZID=America/Detroit:20200617T083000
DTEND;TZID=America/Detroit:20200617T140000
DTSTAMP:20260421T000027
CREATED:20191111T162349Z
LAST-MODIFIED:20200605T142515Z
UID:10000022-1592382600-1592402400@www.mitlift.com
SUMMARY:Troy Forklift
DESCRIPTION:
URL:https://www.mitlift.com/event/troy-forklift-6/
LOCATION:MIT Troy\, 1101 Horizon West Court\, Troy\, OH\, 45373\, United States
CATEGORIES:Forklift
ORGANIZER;CN="George Mackenzie":MAILTO:gmackenzie@mitlift.com
END:VEVENT
BEGIN:VEVENT
DTSTART;TZID=America/Detroit:20200618T083000
DTEND;TZID=America/Detroit:20200618T140000
DTSTAMP:20260421T000027
CREATED:20191111T162628Z
LAST-MODIFIED:20191111T162628Z
UID:10000025-1592469000-1592488800@www.mitlift.com
SUMMARY:Findlay Forklift
DESCRIPTION:
URL:https://www.mitlift.com/event/findlay-forklift-7/
LOCATION:MIT Findlay\, 130 Stanford Pkwy\, Findlay\, OH\, 45840\, United States
CATEGORIES:Forklift
ORGANIZER;CN="George Mackenzie":MAILTO:gmackenzie@mitlift.com
END:VEVENT
BEGIN:VEVENT
DTSTART;TZID=America/Detroit:20200623T083000
DTEND;TZID=America/Detroit:20200623T140000
DTSTAMP:20260421T000027
CREATED:20191111T162757Z
LAST-MODIFIED:20191111T162757Z
UID:10000040-1592901000-1592920800@www.mitlift.com
SUMMARY:Toledo Forklift
DESCRIPTION:
URL:https://www.mitlift.com/event/toledo-forklift-8/
LOCATION:MIT Toledo\, 10406 Geiser Road\, Toledo\, OH\, 43528\, United States
CATEGORIES:Forklift
ORGANIZER;CN="George Mackenzie":MAILTO:gmackenzie@mitlift.com
END:VEVENT
BEGIN:VEVENT
DTSTART;TZID=America/Detroit:20200625T083000
DTEND;TZID=America/Detroit:20200625T140000
DTSTAMP:20260421T000027
CREATED:20191111T162932Z
LAST-MODIFIED:20200605T142739Z
UID:10000031-1593073800-1593093600@www.mitlift.com
SUMMARY:Dayton Forklift
DESCRIPTION:
URL:https://www.mitlift.com/event/dayton-forklift-21/
LOCATION:MIT Dayton\, 2830 E. River Road\, Dayton\, OH\, 45439\, United States
CATEGORIES:Forklift
ORGANIZER;CN="George Mackenzie":MAILTO:gmackenzie@mitlift.com
END:VEVENT
BEGIN:VEVENT
DTSTART;TZID=America/Detroit:20200708T083000
DTEND;TZID=America/Detroit:20200708T140000
DTSTAMP:20260421T000027
CREATED:20191111T163149Z
LAST-MODIFIED:20191111T163149Z
UID:10000033-1594197000-1594216800@www.mitlift.com
SUMMARY:Dayton Forklift
DESCRIPTION:
URL:https://www.mitlift.com/event/dayton-forklift-22/
LOCATION:MIT Dayton\, 2830 E. River Road\, Dayton\, OH\, 45439\, United States
CATEGORIES:Forklift
ORGANIZER;CN="George Mackenzie":MAILTO:gmackenzie@mitlift.com
END:VEVENT
BEGIN:VEVENT
DTSTART;TZID=America/Detroit:20200715T083000
DTEND;TZID=America/Detroit:20200715T140000
DTSTAMP:20260421T000027
CREATED:20191111T163254Z
LAST-MODIFIED:20200617T182737Z
UID:10000035-1594801800-1594821600@www.mitlift.com
SUMMARY:Troy Forklift
DESCRIPTION:
URL:https://www.mitlift.com/event/troy-forklift-7/
LOCATION:MIT Troy\, 1101 Horizon West Court\, Troy\, OH\, 45373\, United States
CATEGORIES:Forklift
ORGANIZER;CN="George Mackenzie":MAILTO:gmackenzie@mitlift.com
END:VEVENT
BEGIN:VEVENT
DTSTART;TZID=America/Detroit:20200721T083000
DTEND;TZID=America/Detroit:20200721T140000
DTSTAMP:20260421T000027
CREATED:20191111T163629Z
LAST-MODIFIED:20200605T144509Z
UID:10000085-1595320200-1595340000@www.mitlift.com
SUMMARY:Dayton Forklift
DESCRIPTION:
URL:https://www.mitlift.com/event/dayton-forklift-23/
LOCATION:MIT Dayton\, 2830 E. River Road\, Dayton\, OH\, 45439\, United States
CATEGORIES:Forklift
ORGANIZER;CN="George Mackenzie":MAILTO:gmackenzie@mitlift.com
END:VEVENT
BEGIN:VEVENT
DTSTART;TZID=America/Detroit:20200723T083000
DTEND;TZID=America/Detroit:20200723T140000
DTSTAMP:20260421T000027
CREATED:20191111T163512Z
LAST-MODIFIED:20200714T133434Z
UID:10000037-1595493000-1595512800@www.mitlift.com
SUMMARY:Findlay Forklift
DESCRIPTION:
URL:https://www.mitlift.com/event/findlay-forklift-8/
LOCATION:MIT Findlay\, 130 Stanford Pkwy\, Findlay\, OH\, 45840\, United States
CATEGORIES:Forklift
ORGANIZER;CN="George Mackenzie":MAILTO:gmackenzie@mitlift.com
END:VEVENT
BEGIN:VEVENT
DTSTART;TZID=America/Detroit:20200729T083000
DTEND;TZID=America/Detroit:20200729T140000
DTSTAMP:20260421T000027
CREATED:20191111T164020Z
LAST-MODIFIED:20191111T164020Z
UID:10000063-1596011400-1596031200@www.mitlift.com
SUMMARY:Dayton Forklift
DESCRIPTION:
URL:https://www.mitlift.com/event/dayton-forklift-24/
LOCATION:MIT Dayton\, 2830 E. River Road\, Dayton\, OH\, 45439\, United States
CATEGORIES:Forklift
ORGANIZER;CN="George Mackenzie":MAILTO:gmackenzie@mitlift.com
END:VEVENT
BEGIN:VEVENT
DTSTART;TZID=America/Detroit:20200730T083000
DTEND;TZID=America/Detroit:20200730T140000
DTSTAMP:20260421T000027
CREATED:20191111T163744Z
LAST-MODIFIED:20200727T180706Z
UID:10000077-1596097800-1596117600@www.mitlift.com
SUMMARY:Toledo Forklift
DESCRIPTION:
URL:https://www.mitlift.com/event/toledo-forklift-9/
LOCATION:MIT Toledo\, 10406 Geiser Road\, Toledo\, OH\, 43528\, United States
CATEGORIES:Forklift,Forklift Training Toledo
ORGANIZER;CN="George Mackenzie":MAILTO:gmackenzie@mitlift.com
END:VEVENT
BEGIN:VEVENT
DTSTART;TZID=America/Detroit:20200806T083000
DTEND;TZID=America/Detroit:20200806T140000
DTSTAMP:20260421T000027
CREATED:20191111T164131Z
LAST-MODIFIED:20191111T164131Z
UID:10000012-1596702600-1596722400@www.mitlift.com
SUMMARY:Dayton Forklift
DESCRIPTION:
URL:https://www.mitlift.com/event/dayton-forklift-25/
LOCATION:MIT Dayton\, 2830 E. River Road\, Dayton\, OH\, 45439\, United States
CATEGORIES:Forklift
ORGANIZER;CN="George Mackenzie":MAILTO:gmackenzie@mitlift.com
END:VEVENT
BEGIN:VEVENT
DTSTART;TZID=America/Detroit:20200812T083000
DTEND;TZID=America/Detroit:20200812T140000
DTSTAMP:20260421T000027
CREATED:20191111T164249Z
LAST-MODIFIED:20191111T164249Z
UID:10000013-1597221000-1597240800@www.mitlift.com
SUMMARY:Dayton Forklift
DESCRIPTION:
URL:https://www.mitlift.com/event/dayton-forklift-26/
LOCATION:MIT Dayton\, 2830 E. River Road\, Dayton\, OH\, 45439\, United States
CATEGORIES:Forklift
ORGANIZER;CN="George Mackenzie":MAILTO:gmackenzie@mitlift.com
END:VEVENT
BEGIN:VEVENT
DTSTART;TZID=America/Detroit:20200819T083000
DTEND;TZID=America/Detroit:20200819T140000
DTSTAMP:20260421T000027
CREATED:20191111T164417Z
LAST-MODIFIED:20191111T164417Z
UID:10000027-1597825800-1597845600@www.mitlift.com
SUMMARY:Troy Forklift
DESCRIPTION:
URL:https://www.mitlift.com/event/troy-forklift-8/
LOCATION:MIT Troy\, 1101 Horizon West Court\, Troy\, OH\, 45373\, United States
CATEGORIES:Forklift
ORGANIZER;CN="George Mackenzie":MAILTO:gmackenzie@mitlift.com
END:VEVENT
BEGIN:VEVENT
DTSTART;TZID=America/Detroit:20200820T083000
DTEND;TZID=America/Detroit:20200820T140000
DTSTAMP:20260421T000027
CREATED:20191111T164525Z
LAST-MODIFIED:20191111T164525Z
UID:10000029-1597912200-1597932000@www.mitlift.com
SUMMARY:Findlay Forklift
DESCRIPTION:
URL:https://www.mitlift.com/event/findlay-forklift-9/
LOCATION:MIT Findlay\, 130 Stanford Pkwy\, Findlay\, OH\, 45840\, United States
CATEGORIES:Forklift
ORGANIZER;CN="George Mackenzie":MAILTO:gmackenzie@mitlift.com
END:VEVENT
BEGIN:VEVENT
DTSTART;TZID=America/Detroit:20200825T083000
DTEND;TZID=America/Detroit:20200825T140000
DTSTAMP:20260421T000027
CREATED:20191111T164703Z
LAST-MODIFIED:20200807T141909Z
UID:10000001-1598344200-1598364000@www.mitlift.com
SUMMARY:Dayton Forklift
DESCRIPTION:
URL:https://www.mitlift.com/event/dayton-forklift-27/
LOCATION:MIT Dayton\, 2830 E. River Road\, Dayton\, OH\, 45439\, United States
CATEGORIES:Forklift
ORGANIZER;CN="George Mackenzie":MAILTO:gmackenzie@mitlift.com
END:VEVENT
BEGIN:VEVENT
DTSTART;TZID=America/Detroit:20200827T083000
DTEND;TZID=America/Detroit:20200827T140000
DTSTAMP:20260421T000027
CREATED:20191111T164837Z
LAST-MODIFIED:20191111T164852Z
UID:10000010-1598517000-1598536800@www.mitlift.com
SUMMARY:Toledo Forklift
DESCRIPTION:
URL:https://www.mitlift.com/event/toledo-forklift-10/
LOCATION:MIT Toledo\, 10406 Geiser Road\, Toledo\, OH\, 43528\, United States
CATEGORIES:Forklift
ORGANIZER;CN="George Mackenzie":MAILTO:gmackenzie@mitlift.com
END:VEVENT
BEGIN:VEVENT
DTSTART;TZID=America/Detroit:20200902T083000
DTEND;TZID=America/Detroit:20200902T140000
DTSTAMP:20260421T000027
CREATED:20191111T165002Z
LAST-MODIFIED:20200831T131004Z
UID:10000009-1599035400-1599055200@www.mitlift.com
SUMMARY:Dayton Forklift
DESCRIPTION:
URL:https://www.mitlift.com/event/dayton-forklift-28/
LOCATION:MIT Dayton\, 2830 E. River Road\, Dayton\, OH\, 45439\, United States
CATEGORIES:Forklift
ORGANIZER;CN="George Mackenzie":MAILTO:gmackenzie@mitlift.com
END:VEVENT
BEGIN:VEVENT
DTSTART;TZID=America/Detroit:20200910T083000
DTEND;TZID=America/Detroit:20200910T140000
DTSTAMP:20260421T000027
CREATED:20191111T165142Z
LAST-MODIFIED:20200909T163009Z
UID:10000008-1599726600-1599746400@www.mitlift.com
SUMMARY:Dayton Forklift
DESCRIPTION:
URL:https://www.mitlift.com/event/dayton-forklift-29/
LOCATION:MIT Dayton\, 2830 E. River Road\, Dayton\, OH\, 45439\, United States
CATEGORIES:Forklift
END:VEVENT
BEGIN:VEVENT
DTSTART;TZID=America/Detroit:20200916T083000
DTEND;TZID=America/Detroit:20200916T140000
DTSTAMP:20260421T000027
CREATED:20191111T165303Z
LAST-MODIFIED:20191111T165303Z
UID:10000007-1600245000-1600264800@www.mitlift.com
SUMMARY:Troy Forklift
DESCRIPTION:
URL:https://www.mitlift.com/event/troy-forklift-9/
LOCATION:MIT Troy\, 1101 Horizon West Court\, Troy\, OH\, 45373\, United States
CATEGORIES:Forklift
ORGANIZER;CN="George Mackenzie":MAILTO:gmackenzie@mitlift.com
END:VEVENT
BEGIN:VEVENT
DTSTART;TZID=America/Detroit:20200917T083000
DTEND;TZID=America/Detroit:20200917T140000
DTSTAMP:20260421T000027
CREATED:20191111T165409Z
LAST-MODIFIED:20191111T165616Z
UID:10000002-1600331400-1600351200@www.mitlift.com
SUMMARY:Findlay Forklift
DESCRIPTION:
URL:https://www.mitlift.com/event/findlay-forklift-10/
LOCATION:MIT Findlay\, 130 Stanford Pkwy\, Findlay\, OH\, 45840\, United States
CATEGORIES:Forklift
ORGANIZER;CN="George Mackenzie":MAILTO:gmackenzie@mitlift.com
END:VEVENT
BEGIN:VEVENT
DTSTART;TZID=America/Detroit:20200922T083000
DTEND;TZID=America/Detroit:20200922T140000
DTSTAMP:20260421T000027
CREATED:20191111T165813Z
LAST-MODIFIED:20191111T165813Z
UID:10000003-1600763400-1600783200@www.mitlift.com
SUMMARY:Dayton Forklift
DESCRIPTION:
URL:https://www.mitlift.com/event/dayton-forklift-30/
LOCATION:MIT Dayton\, 2830 E. River Road\, Dayton\, OH\, 45439\, United States
CATEGORIES:Forklift
ORGANIZER;CN="George Mackenzie":MAILTO:gmackenzie@mitlift.com
END:VEVENT
BEGIN:VEVENT
DTSTART;TZID=America/Detroit:20200924T083000
DTEND;TZID=America/Detroit:20200924T140000
DTSTAMP:20260421T000027
CREATED:20191111T165923Z
LAST-MODIFIED:20191111T165923Z
UID:10000005-1600936200-1600956000@www.mitlift.com
SUMMARY:Toledo Forklift
DESCRIPTION:
URL:https://www.mitlift.com/event/toledo-forklift-11/
LOCATION:MIT Toledo\, 10406 Geiser Road\, Toledo\, OH\, 43528\, United States
CATEGORIES:Forklift
ORGANIZER;CN="George Mackenzie":MAILTO:gmackenzie@mitlift.com
END:VEVENT
BEGIN:VEVENT
DTSTART;TZID=America/Detroit:20201006T083000
DTEND;TZID=America/Detroit:20201006T140000
DTSTAMP:20260421T000027
CREATED:20191111T170058Z
LAST-MODIFIED:20191111T170616Z
UID:10000006-1601973000-1601992800@www.mitlift.com
SUMMARY:Dayton Forklift
DESCRIPTION:
URL:https://www.mitlift.com/event/dayton-forklift-31/
LOCATION:MIT Dayton\, 2830 E. River Road\, Dayton\, OH\, 45439\, United States
CATEGORIES:Forklift
ORGANIZER;CN="George Mackenzie":MAILTO:gmackenzie@mitlift.com
END:VEVENT
END:VCALENDAR