BEGIN:VCALENDAR
VERSION:2.0
PRODID:-//Miami Industrial Trucks - ECPv6.15.20//NONSGML v1.0//EN
CALSCALE:GREGORIAN
METHOD:PUBLISH
X-WR-CALNAME:Miami Industrial Trucks
X-ORIGINAL-URL:https://www.mitlift.com
X-WR-CALDESC:Events for Miami Industrial Trucks
REFRESH-INTERVAL;VALUE=DURATION:PT1H
X-Robots-Tag:noindex
X-PUBLISHED-TTL:PT1H
BEGIN:VTIMEZONE
TZID:America/Detroit
BEGIN:DAYLIGHT
TZOFFSETFROM:-0500
TZOFFSETTO:-0400
TZNAME:EDT
DTSTART:20210314T070000
END:DAYLIGHT
BEGIN:STANDARD
TZOFFSETFROM:-0400
TZOFFSETTO:-0500
TZNAME:EST
DTSTART:20211107T060000
END:STANDARD
BEGIN:DAYLIGHT
TZOFFSETFROM:-0500
TZOFFSETTO:-0400
TZNAME:EDT
DTSTART:20220313T070000
END:DAYLIGHT
BEGIN:STANDARD
TZOFFSETFROM:-0400
TZOFFSETTO:-0500
TZNAME:EST
DTSTART:20221106T060000
END:STANDARD
BEGIN:DAYLIGHT
TZOFFSETFROM:-0500
TZOFFSETTO:-0400
TZNAME:EDT
DTSTART:20230312T070000
END:DAYLIGHT
BEGIN:STANDARD
TZOFFSETFROM:-0400
TZOFFSETTO:-0500
TZNAME:EST
DTSTART:20231105T060000
END:STANDARD
END:VTIMEZONE
BEGIN:VEVENT
DTSTART;TZID=America/Detroit:20220413T120000
DTEND;TZID=America/Detroit:20220413T120000
DTSTAMP:20260421T191646
CREATED:20211130T132137Z
LAST-MODIFIED:20220404T125505Z
UID:10000128-1649851200-1649851200@www.mitlift.com
SUMMARY:Troy Forklift Training
DESCRIPTION:
URL:https://www.mitlift.com/event/troy-forklift-training-4/
LOCATION:MIT Troy\, 1101 Horizon West Court\, Troy\, OH\, 45373\, United States
CATEGORIES:Forklift,Troy Forklift Training
ORGANIZER;CN="George Mackenzie":MAILTO:gmackenzie@mitlift.com
END:VEVENT
BEGIN:VEVENT
DTSTART;TZID=America/Detroit:20220419T080000
DTEND;TZID=America/Detroit:20220419T080000
DTSTAMP:20260421T191646
CREATED:20211130T142029Z
LAST-MODIFIED:20220302T164829Z
UID:10000291-1650355200-1650355200@www.mitlift.com
SUMMARY:Findlay Aerial Training
DESCRIPTION:
URL:https://www.mitlift.com/event/findlay-aerial-training-4/
LOCATION:MIT Findlay\, 130 Stanford Pkwy\, Findlay\, OH\, 45840\, United States
CATEGORIES:Aerial
ORGANIZER;CN="George Mackenzie":MAILTO:gmackenzie@mitlift.com
END:VEVENT
BEGIN:VEVENT
DTSTART;TZID=America/Detroit:20220419T120000
DTEND;TZID=America/Detroit:20220419T120000
DTSTAMP:20260421T191646
CREATED:20211129T195122Z
LAST-MODIFIED:20220302T164933Z
UID:10000115-1650369600-1650369600@www.mitlift.com
SUMMARY:Findlay Forklift Training
DESCRIPTION:
URL:https://www.mitlift.com/event/findlay-forklift-training-4/
LOCATION:MIT Findlay\, 130 Stanford Pkwy\, Findlay\, OH\, 45840\, United States
CATEGORIES:Findlay Forklift Training,Forklift
ORGANIZER;CN="George Mackenzie":MAILTO:gmackenzie@mitlift.com
END:VEVENT
BEGIN:VEVENT
DTSTART;TZID=America/Detroit:20220421T083000
DTEND;TZID=America/Detroit:20220421T140000
DTSTAMP:20260421T191646
CREATED:20211129T183644Z
LAST-MODIFIED:20211129T183644Z
UID:10000235-1650529800-1650549600@www.mitlift.com
SUMMARY:Dayton Forklift Training
DESCRIPTION:
URL:https://www.mitlift.com/event/dayton-forklift-training-11/
LOCATION:MIT Dayton\, 2830 E. River Road\, Dayton\, OH\, 45439\, United States
CATEGORIES:Forklift,Forklift Training Dayton
ORGANIZER;CN="George Mackenzie":MAILTO:gmackenzie@mitlift.com
END:VEVENT
BEGIN:VEVENT
DTSTART;TZID=America/Detroit:20220427T083000
DTEND;TZID=America/Detroit:20220427T140000
DTSTAMP:20260421T191646
CREATED:20211129T213511Z
LAST-MODIFIED:20220302T165034Z
UID:10000265-1651048200-1651068000@www.mitlift.com
SUMMARY:Toledo Forklift Training
DESCRIPTION:
URL:https://www.mitlift.com/event/toledo-forklift-training-4/
LOCATION:MIT Toledo\, 10406 Geiser Road\, Toledo\, OH\, 43528\, United States
CATEGORIES:Forklift,Toledo Forklift Training
ORGANIZER;CN="George Mackenzie":MAILTO:gmackenzie@mitlift.com
END:VEVENT
BEGIN:VEVENT
DTSTART;TZID=America/Detroit:20220503T083000
DTEND;TZID=America/Detroit:20220503T140000
DTSTAMP:20260421T191646
CREATED:20211129T183924Z
LAST-MODIFIED:20211129T183924Z
UID:10000236-1651566600-1651586400@www.mitlift.com
SUMMARY:Dayton Forklift Training
DESCRIPTION:
URL:https://www.mitlift.com/event/dayton-forklift-training-12/
LOCATION:MIT Dayton\, 2830 E. River Road\, Dayton\, OH\, 45439\, United States
CATEGORIES:Forklift,Forklift Training Dayton
ORGANIZER;CN="George Mackenzie":MAILTO:gmackenzie@mitlift.com
END:VEVENT
BEGIN:VEVENT
DTSTART;TZID=America/Detroit:20220505T080000
DTEND;TZID=America/Detroit:20220505T080000
DTSTAMP:20260421T191646
CREATED:20211130T135749Z
LAST-MODIFIED:20220428T122159Z
UID:10000280-1651737600-1651737600@www.mitlift.com
SUMMARY:Troy Aerial Training
DESCRIPTION:
URL:https://www.mitlift.com/event/troy-aerial-training-5/
LOCATION:MIT Troy\, 1101 Horizon West Court\, Troy\, OH\, 45373\, United States
CATEGORIES:Aerial
ORGANIZER;CN="George Mackenzie":MAILTO:gmackenzie@mitlift.com
END:VEVENT
BEGIN:VEVENT
DTSTART;TZID=America/Detroit:20220505T120000
DTEND;TZID=America/Detroit:20220505T120000
DTSTAMP:20260421T191646
CREATED:20211130T132320Z
LAST-MODIFIED:20220302T165256Z
UID:10000130-1651752000-1651752000@www.mitlift.com
SUMMARY:Troy Forklift Training
DESCRIPTION:
URL:https://www.mitlift.com/event/troy-forklift-training-5/
LOCATION:MIT Troy\, 1101 Horizon West Court\, Troy\, OH\, 45373\, United States
CATEGORIES:Forklift,Troy Forklift Training
END:VEVENT
BEGIN:VEVENT
DTSTART;TZID=America/Detroit:20220511T080000
DTEND;TZID=America/Detroit:20220511T080000
DTSTAMP:20260421T191646
CREATED:20211130T142243Z
LAST-MODIFIED:20220509T154305Z
UID:10000292-1652256000-1652256000@www.mitlift.com
SUMMARY:Findlay Aerial Training
DESCRIPTION:Classes will be conducted in English.\nThe attendee will need to provide a harness. \n 
URL:https://www.mitlift.com/event/findlay-aerial-training-5/
LOCATION:MIT Findlay\, 130 Stanford Pkwy\, Findlay\, OH\, 45840\, United States
CATEGORIES:Aerial
ORGANIZER;CN="George Mackenzie":MAILTO:gmackenzie@mitlift.com
END:VEVENT
BEGIN:VEVENT
DTSTART;TZID=America/Detroit:20220511T120000
DTEND;TZID=America/Detroit:20220511T120000
DTSTAMP:20260421T191646
CREATED:20211129T195306Z
LAST-MODIFIED:20220302T165507Z
UID:10000116-1652270400-1652270400@www.mitlift.com
SUMMARY:Findlay Forklift Training
DESCRIPTION:
URL:https://www.mitlift.com/event/findlay-forklift-training-5/
LOCATION:MIT Findlay\, 130 Stanford Pkwy\, Findlay\, OH\, 45840\, United States
CATEGORIES:Findlay Forklift Training,Forklift
ORGANIZER;CN="George Mackenzie":MAILTO:gmackenzie@mitlift.com
END:VEVENT
BEGIN:VEVENT
DTSTART;TZID=America/Detroit:20220518T083000
DTEND;TZID=America/Detroit:20220518T140000
DTSTAMP:20260421T191646
CREATED:20211129T184058Z
LAST-MODIFIED:20211129T184058Z
UID:10000237-1652862600-1652882400@www.mitlift.com
SUMMARY:Dayton Forklift Training
DESCRIPTION:
URL:https://www.mitlift.com/event/dayton-forklift-training-13/
LOCATION:MIT Dayton\, 2830 E. River Road\, Dayton\, OH\, 45439\, United States
CATEGORIES:Forklift,Forklift Training Dayton
ORGANIZER;CN="George Mackenzie":MAILTO:gmackenzie@mitlift.com
END:VEVENT
BEGIN:VEVENT
DTSTART;TZID=America/Detroit:20220525T083000
DTEND;TZID=America/Detroit:20220525T140000
DTSTAMP:20260421T191646
CREATED:20211129T213945Z
LAST-MODIFIED:20220524T142136Z
UID:10000266-1653467400-1653487200@www.mitlift.com
SUMMARY:Toledo Forklift Training
DESCRIPTION:
URL:https://www.mitlift.com/event/toledo-forklift-training-5/
LOCATION:MIT Toledo\, 10406 Geiser Road\, Toledo\, OH\, 43528\, United States
CATEGORIES:Forklift,Toledo Forklift Training
ORGANIZER;CN="George Mackenzie":MAILTO:gmackenzie@mitlift.com
END:VEVENT
BEGIN:VEVENT
DTSTART;TZID=America/Detroit:20220526T083000
DTEND;TZID=America/Detroit:20220526T140000
DTSTAMP:20260421T191646
CREATED:20211129T184217Z
LAST-MODIFIED:20211129T184251Z
UID:10000238-1653553800-1653573600@www.mitlift.com
SUMMARY:Dayton Forklift Training
DESCRIPTION:
URL:https://www.mitlift.com/event/dayton-forklift-training-may-26-2022/
LOCATION:MIT Dayton\, 2830 E. River Road\, Dayton\, OH\, 45439\, United States
CATEGORIES:Forklift,Forklift Training Dayton
ORGANIZER;CN="George Mackenzie":MAILTO:gmackenzie@mitlift.com
END:VEVENT
BEGIN:VEVENT
DTSTART;TZID=America/Detroit:20220602T080000
DTEND;TZID=America/Detroit:20220602T080000
DTSTAMP:20260421T191646
CREATED:20211130T135910Z
LAST-MODIFIED:20220302T165753Z
UID:10000281-1654156800-1654156800@www.mitlift.com
SUMMARY:Troy Aerial Training
DESCRIPTION:
URL:https://www.mitlift.com/event/troy-aerial-training-6/
LOCATION:MIT Troy\, 1101 Horizon West Court\, Troy\, OH\, 45373\, United States
CATEGORIES:Aerial
ORGANIZER;CN="George Mackenzie":MAILTO:gmackenzie@mitlift.com
END:VEVENT
BEGIN:VEVENT
DTSTART;TZID=America/Detroit:20220602T120000
DTEND;TZID=America/Detroit:20220602T120000
DTSTAMP:20260421T191646
CREATED:20211130T132813Z
LAST-MODIFIED:20220302T165857Z
UID:10000132-1654171200-1654171200@www.mitlift.com
SUMMARY:Troy Forklift Training
DESCRIPTION:
URL:https://www.mitlift.com/event/troy-forklift-training-6/
LOCATION:MIT Troy\, 1101 Horizon West Court\, Troy\, OH\, 45373\, United States
CATEGORIES:Forklift,Troy Forklift Training
ORGANIZER;CN="George Mackenzie":MAILTO:gmackenzie@mitlift.com
END:VEVENT
BEGIN:VEVENT
DTSTART;TZID=America/Detroit:20220608T083000
DTEND;TZID=America/Detroit:20220608T140000
DTSTAMP:20260421T191646
CREATED:20211129T184426Z
LAST-MODIFIED:20211129T184426Z
UID:10000239-1654677000-1654696800@www.mitlift.com
SUMMARY:Dayton Forklift Training
DESCRIPTION:
URL:https://www.mitlift.com/event/dayton-forklift-training-14/
LOCATION:MIT Dayton\, 2830 E. River Road\, Dayton\, OH\, 45439\, United States
CATEGORIES:Forklift,Forklift Training Dayton
ORGANIZER;CN="George Mackenzie":MAILTO:gmackenzie@mitlift.com
END:VEVENT
BEGIN:VEVENT
DTSTART;TZID=America/Detroit:20220614T080000
DTEND;TZID=America/Detroit:20220614T080000
DTSTAMP:20260421T191646
CREATED:20211130T142410Z
LAST-MODIFIED:20220302T182109Z
UID:10000293-1655193600-1655193600@www.mitlift.com
SUMMARY:Findlay Aerial Training
DESCRIPTION:
URL:https://www.mitlift.com/event/findlay-aerial-training-6/
LOCATION:MIT Findlay\, 130 Stanford Pkwy\, Findlay\, OH\, 45840\, United States
CATEGORIES:Aerial
ORGANIZER;CN="George Mackenzie":MAILTO:gmackenzie@mitlift.com
END:VEVENT
BEGIN:VEVENT
DTSTART;TZID=America/Detroit:20220614T120000
DTEND;TZID=America/Detroit:20220614T120000
DTSTAMP:20260421T191646
CREATED:20211129T195446Z
LAST-MODIFIED:20220302T182154Z
UID:10000118-1655208000-1655208000@www.mitlift.com
SUMMARY:Findlay Forklift Training
DESCRIPTION:
URL:https://www.mitlift.com/event/findlay-forklift-training-6/
LOCATION:MIT Findlay\, 130 Stanford Pkwy\, Findlay\, OH\, 45840\, United States
CATEGORIES:Findlay Forklift Training,Forklift
ORGANIZER;CN="George Mackenzie":MAILTO:gmackenzie@mitlift.com
END:VEVENT
BEGIN:VEVENT
DTSTART;TZID=America/Detroit:20220621T083000
DTEND;TZID=America/Detroit:20220621T140000
DTSTAMP:20260421T191646
CREATED:20211129T184548Z
LAST-MODIFIED:20211129T184548Z
UID:10000240-1655800200-1655820000@www.mitlift.com
SUMMARY:Dayton Forklift Training
DESCRIPTION:
URL:https://www.mitlift.com/event/dayton-forklift-training-15/
LOCATION:MIT Dayton\, 2830 E. River Road\, Dayton\, OH\, 45439\, United States
CATEGORIES:Forklift,Forklift Training Dayton
ORGANIZER;CN="George Mackenzie":MAILTO:gmackenzie@mitlift.com
END:VEVENT
BEGIN:VEVENT
DTSTART;TZID=America/Detroit:20220628T083000
DTEND;TZID=America/Detroit:20220628T140000
DTSTAMP:20260421T191646
CREATED:20211129T214129Z
LAST-MODIFIED:20220622T133310Z
UID:10000267-1656405000-1656424800@www.mitlift.com
SUMMARY:Toledo Forklift Training
DESCRIPTION:
URL:https://www.mitlift.com/event/toledo-forklift-training-6/
LOCATION:MIT Toledo\, 10406 Geiser Road\, Toledo\, OH\, 43528\, United States
CATEGORIES:Forklift,Toledo Forklift Training
ORGANIZER;CN="George Mackenzie":MAILTO:gmackenzie@mitlift.com
END:VEVENT
BEGIN:VEVENT
DTSTART;TZID=America/Detroit:20220629T083000
DTEND;TZID=America/Detroit:20220629T140000
DTSTAMP:20260421T191646
CREATED:20211129T184659Z
LAST-MODIFIED:20211129T184659Z
UID:10000241-1656491400-1656511200@www.mitlift.com
SUMMARY:Dayton Forklift Training
DESCRIPTION:
URL:https://www.mitlift.com/event/dayton-forklift-training-16/
LOCATION:MIT Dayton\, 2830 E. River Road\, Dayton\, OH\, 45439\, United States
CATEGORIES:Forklift,Forklift Training Dayton
ORGANIZER;CN="George Mackenzie":MAILTO:gmackenzie@mitlift.com
END:VEVENT
BEGIN:VEVENT
DTSTART;TZID=America/Detroit:20220707T083000
DTEND;TZID=America/Detroit:20220707T140000
DTSTAMP:20260421T191646
CREATED:20211129T184926Z
LAST-MODIFIED:20220628T130634Z
UID:10000242-1657182600-1657202400@www.mitlift.com
SUMMARY:Dayton Forklift Training
DESCRIPTION:
URL:https://www.mitlift.com/event/dayton-forklift-training-17/
LOCATION:MIT Dayton\, 2830 E. River Road\, Dayton\, OH\, 45439\, United States
CATEGORIES:Forklift,Forklift Training Dayton
ORGANIZER;CN="George Mackenzie":MAILTO:gmackenzie@mitlift.com
END:VEVENT
BEGIN:VEVENT
DTSTART;TZID=America/Detroit:20220712T080000
DTEND;TZID=America/Detroit:20220712T080000
DTSTAMP:20260421T191646
CREATED:20211130T140028Z
LAST-MODIFIED:20220628T155356Z
UID:10000282-1657612800-1657612800@www.mitlift.com
SUMMARY:Troy Aerial Training
DESCRIPTION:
URL:https://www.mitlift.com/event/troy-aerial-training-7/
LOCATION:MIT Troy\, 1101 Horizon West Court\, Troy\, OH\, 45373\, United States
CATEGORIES:Aerial
ORGANIZER;CN="George Mackenzie":MAILTO:gmackenzie@mitlift.com
END:VEVENT
BEGIN:VEVENT
DTSTART;TZID=America/Detroit:20220712T120000
DTEND;TZID=America/Detroit:20220712T120000
DTSTAMP:20260421T191646
CREATED:20211130T133020Z
LAST-MODIFIED:20220628T155751Z
UID:10000134-1657627200-1657627200@www.mitlift.com
SUMMARY:Troy Forklift Training
DESCRIPTION:
URL:https://www.mitlift.com/event/troy-forklift-training-7/
LOCATION:MIT Troy\, 1101 Horizon West Court\, Troy\, OH\, 45373\, United States
CATEGORIES:Forklift,Troy Forklift Training
ORGANIZER;CN="George Mackenzie":MAILTO:gmackenzie@mitlift.com
END:VEVENT
BEGIN:VEVENT
DTSTART;TZID=America/Detroit:20220714T080000
DTEND;TZID=America/Detroit:20220714T080000
DTSTAMP:20260421T191646
CREATED:20211130T142529Z
LAST-MODIFIED:20220628T155159Z
UID:10000294-1657785600-1657785600@www.mitlift.com
SUMMARY:Findlay Aerial Training
DESCRIPTION:
URL:https://www.mitlift.com/event/findlay-aerial-training-7/
LOCATION:MIT Findlay\, 130 Stanford Pkwy\, Findlay\, OH\, 45840\, United States
CATEGORIES:Aerial
ORGANIZER;CN="George Mackenzie":MAILTO:gmackenzie@mitlift.com
END:VEVENT
BEGIN:VEVENT
DTSTART;TZID=America/Detroit:20220714T120000
DTEND;TZID=America/Detroit:20220714T120000
DTSTAMP:20260421T191646
CREATED:20211129T195609Z
LAST-MODIFIED:20220628T155013Z
UID:10000120-1657800000-1657800000@www.mitlift.com
SUMMARY:Findlay Forklift Training
DESCRIPTION:
URL:https://www.mitlift.com/event/findlay-forklift-training-7/
LOCATION:MIT Findlay\, 130 Stanford Pkwy\, Findlay\, OH\, 45840\, United States
CATEGORIES:Findlay Forklift Training,Forklift
ORGANIZER;CN="George Mackenzie":MAILTO:gmackenzie@mitlift.com
END:VEVENT
BEGIN:VEVENT
DTSTART;TZID=America/Detroit:20220719T083000
DTEND;TZID=America/Detroit:20220719T140000
DTSTAMP:20260421T191646
CREATED:20211129T185123Z
LAST-MODIFIED:20220715T125917Z
UID:10000243-1658219400-1658239200@www.mitlift.com
SUMMARY:Dayton Forklift Training
DESCRIPTION:
URL:https://www.mitlift.com/event/dayton-forklift-training-18/
LOCATION:MIT Dayton\, 2830 E. River Road\, Dayton\, OH\, 45439\, United States
CATEGORIES:Forklift,Forklift Training Dayton
ORGANIZER;CN="George Mackenzie":MAILTO:gmackenzie@mitlift.com
END:VEVENT
BEGIN:VEVENT
DTSTART;TZID=America/Detroit:20220727T083000
DTEND;TZID=America/Detroit:20220727T140000
DTSTAMP:20260421T191646
CREATED:20211129T185642Z
LAST-MODIFIED:20220720T120329Z
UID:10000244-1658910600-1658930400@www.mitlift.com
SUMMARY:Dayton Forklift Training
DESCRIPTION:
URL:https://www.mitlift.com/event/dayton-forklift-training-19/
LOCATION:MIT Dayton\, 2830 E. River Road\, Dayton\, OH\, 45439\, United States
CATEGORIES:Forklift,Forklift Training Dayton
ORGANIZER;CN="George Mackenzie":MAILTO:gmackenzie@mitlift.com
END:VEVENT
BEGIN:VEVENT
DTSTART;TZID=America/Detroit:20220728T083000
DTEND;TZID=America/Detroit:20220728T140000
DTSTAMP:20260421T191646
CREATED:20211129T214303Z
LAST-MODIFIED:20220715T130257Z
UID:10000268-1658997000-1659016800@www.mitlift.com
SUMMARY:Toledo Forklift Training
DESCRIPTION:
URL:https://www.mitlift.com/event/toledo-forklift-training-7/
LOCATION:MIT Toledo\, 10406 Geiser Road\, Toledo\, OH\, 43528\, United States
CATEGORIES:Forklift,Toledo Forklift Training
ORGANIZER;CN="George Mackenzie":MAILTO:gmackenzie@mitlift.com
END:VEVENT
BEGIN:VEVENT
DTSTART;TZID=America/Detroit:20220804T083000
DTEND;TZID=America/Detroit:20220804T140000
DTSTAMP:20260421T191646
CREATED:20211129T185808Z
LAST-MODIFIED:20220728T131444Z
UID:10000245-1659601800-1659621600@www.mitlift.com
SUMMARY:Dayton Forklift Training
DESCRIPTION:
URL:https://www.mitlift.com/event/dayton-forklift-training-20/
LOCATION:MIT Dayton\, 2830 E. River Road\, Dayton\, OH\, 45439\, United States
CATEGORIES:Forklift,Forklift Training Dayton
ORGANIZER;CN="George Mackenzie":MAILTO:gmackenzie@mitlift.com
END:VEVENT
END:VCALENDAR