BEGIN:VCALENDAR
VERSION:2.0
PRODID:-//Miami Industrial Trucks - ECPv6.15.20//NONSGML v1.0//EN
CALSCALE:GREGORIAN
METHOD:PUBLISH
X-WR-CALNAME:Miami Industrial Trucks
X-ORIGINAL-URL:https://www.mitlift.com
X-WR-CALDESC:Events for Miami Industrial Trucks
REFRESH-INTERVAL;VALUE=DURATION:PT1H
X-Robots-Tag:noindex
X-PUBLISHED-TTL:PT1H
BEGIN:VTIMEZONE
TZID:America/Detroit
BEGIN:DAYLIGHT
TZOFFSETFROM:-0500
TZOFFSETTO:-0400
TZNAME:EDT
DTSTART:20200308T070000
END:DAYLIGHT
BEGIN:STANDARD
TZOFFSETFROM:-0400
TZOFFSETTO:-0500
TZNAME:EST
DTSTART:20201101T060000
END:STANDARD
BEGIN:DAYLIGHT
TZOFFSETFROM:-0500
TZOFFSETTO:-0400
TZNAME:EDT
DTSTART:20210314T070000
END:DAYLIGHT
BEGIN:STANDARD
TZOFFSETFROM:-0400
TZOFFSETTO:-0500
TZNAME:EST
DTSTART:20211107T060000
END:STANDARD
BEGIN:DAYLIGHT
TZOFFSETFROM:-0500
TZOFFSETTO:-0400
TZNAME:EDT
DTSTART:20220313T070000
END:DAYLIGHT
BEGIN:STANDARD
TZOFFSETFROM:-0400
TZOFFSETTO:-0500
TZNAME:EST
DTSTART:20221106T060000
END:STANDARD
END:VTIMEZONE
BEGIN:VEVENT
DTSTART;TZID=America/Detroit:20210825T083000
DTEND;TZID=America/Detroit:20210825T140000
DTSTAMP:20260421T204401
CREATED:20201113T171503Z
LAST-MODIFIED:20201201T191629Z
UID:10000153-1629880200-1629900000@www.mitlift.com
SUMMARY:Dayton Forklift
DESCRIPTION:
URL:https://www.mitlift.com/event/dayton-forklift-64/
LOCATION:MIT Dayton\, 2830 E. River Road\, Dayton\, OH\, 45439\, United States
CATEGORIES:Forklift,Forklift Training Dayton
END:VEVENT
BEGIN:VEVENT
DTSTART;TZID=America/Detroit:20210826T083000
DTEND;TZID=America/Detroit:20210826T140000
DTSTAMP:20260421T204401
CREATED:20201113T202044Z
LAST-MODIFIED:20201201T191428Z
UID:10000193-1629966600-1629986400@www.mitlift.com
SUMMARY:Toledo Forklift
DESCRIPTION:
URL:https://www.mitlift.com/event/toledo-forklift-20/
LOCATION:MIT Toledo\, 10406 Geiser Road\, Toledo\, OH\, 43528\, United States
CATEGORIES:Forklift
ORGANIZER;CN="George Mackenzie":MAILTO:gmackenzie@mitlift.com
END:VEVENT
BEGIN:VEVENT
DTSTART;TZID=America/Detroit:20210902T083000
DTEND;TZID=America/Detroit:20210902T140000
DTSTAMP:20260421T204401
CREATED:20201113T171625Z
LAST-MODIFIED:20201201T190500Z
UID:10000155-1630571400-1630591200@www.mitlift.com
SUMMARY:Dayton Forklift
DESCRIPTION:
URL:https://www.mitlift.com/event/dayton-forklift-65/
LOCATION:MIT Dayton\, 2830 E. River Road\, Dayton\, OH\, 45439\, United States
CATEGORIES:Forklift,Forklift Training Dayton
ORGANIZER;CN="George Mackenzie":MAILTO:gmackenzie@mitlift.com
END:VEVENT
BEGIN:VEVENT
DTSTART;TZID=America/Detroit:20210914T083000
DTEND;TZID=America/Detroit:20210914T140000
DTSTAMP:20260421T204401
CREATED:20201202T173529Z
LAST-MODIFIED:20210318T174409Z
UID:10000225-1631608200-1631628000@www.mitlift.com
SUMMARY:Findlay Aerial
DESCRIPTION:
URL:https://www.mitlift.com/event/findlay-aerial-19/
LOCATION:MIT Findlay\, 130 Stanford Pkwy\, Findlay\, OH\, 45840\, United States
CATEGORIES:Aerial
ORGANIZER;CN="George Mackenzie":MAILTO:gmackenzie@mitlift.com
END:VEVENT
BEGIN:VEVENT
DTSTART;TZID=America/Detroit:20210914T083000
DTEND;TZID=America/Detroit:20210914T140000
DTSTAMP:20260421T204401
CREATED:20201202T173402Z
LAST-MODIFIED:20210318T174430Z
UID:10000224-1631608200-1631628000@www.mitlift.com
SUMMARY:Troy Aerial
DESCRIPTION:
URL:https://www.mitlift.com/event/troy-aerial-23/
LOCATION:MIT Findlay\, 130 Stanford Pkwy\, Findlay\, OH\, 45840\, United States
CATEGORIES:Aerial
ORGANIZER;CN="George Mackenzie":MAILTO:gmackenzie@mitlift.com
END:VEVENT
BEGIN:VEVENT
DTSTART;TZID=America/Detroit:20210915T083000
DTEND;TZID=America/Detroit:20210915T140000
DTSTAMP:20260421T204401
CREATED:20201113T194646Z
LAST-MODIFIED:20201201T190143Z
UID:10000052-1631694600-1631714400@www.mitlift.com
SUMMARY:Findlay Forklift
DESCRIPTION:
URL:https://www.mitlift.com/event/findlay-forklift-21/
LOCATION:MIT Findlay\, 130 Stanford Pkwy\, Findlay\, OH\, 45840\, United States
CATEGORIES:Forklift
ORGANIZER;CN="George Mackenzie":MAILTO:gmackenzie@mitlift.com
END:VEVENT
BEGIN:VEVENT
DTSTART;TZID=America/Detroit:20210916T083000
DTEND;TZID=America/Detroit:20210916T140000
DTSTAMP:20260421T204401
CREATED:20201202T154927Z
LAST-MODIFIED:20201202T154927Z
UID:10000064-1631781000-1631800800@www.mitlift.com
SUMMARY:Troy Forklift
DESCRIPTION:
URL:https://www.mitlift.com/event/troy-forklift-19/
LOCATION:MIT Troy\, 1101 Horizon West Court\, Troy\, OH\, 45373\, United States
CATEGORIES:Forklift
ORGANIZER;CN="George Mackenzie":MAILTO:gmackenzie@mitlift.com
END:VEVENT
BEGIN:VEVENT
DTSTART;TZID=America/Detroit:20210921T083000
DTEND;TZID=America/Detroit:20210921T140000
DTSTAMP:20260421T204401
CREATED:20201113T171813Z
LAST-MODIFIED:20201201T190011Z
UID:10000157-1632213000-1632232800@www.mitlift.com
SUMMARY:Dayton Forklift
DESCRIPTION:
URL:https://www.mitlift.com/event/dayton-forklift-66/
LOCATION:MIT Dayton\, 2830 E. River Road\, Dayton\, OH\, 45439\, United States
CATEGORIES:Forklift,Forklift Training Dayton
ORGANIZER;CN="George Mackenzie":MAILTO:gmackenzie@mitlift.com
END:VEVENT
BEGIN:VEVENT
DTSTART;TZID=America/Detroit:20210928T083000
DTEND;TZID=America/Detroit:20210928T140000
DTSTAMP:20260421T204401
CREATED:20201202T155641Z
LAST-MODIFIED:20201202T155641Z
UID:10000066-1632817800-1632837600@www.mitlift.com
SUMMARY:Toledo Forklift
DESCRIPTION:
URL:https://www.mitlift.com/event/toledo-forklift-21/
LOCATION:MIT Toledo\, 10406 Geiser Road\, Toledo\, OH\, 43528\, United States
CATEGORIES:Forklift,Forklift Training Toledo
ORGANIZER;CN="George Mackenzie":MAILTO:gmackenzie@mitlift.com
END:VEVENT
BEGIN:VEVENT
DTSTART;TZID=America/Detroit:20210929T083000
DTEND;TZID=America/Detroit:20210929T140000
DTSTAMP:20260421T204401
CREATED:20201113T171906Z
LAST-MODIFIED:20201201T185656Z
UID:10000159-1632904200-1632924000@www.mitlift.com
SUMMARY:Dayton Forklift
DESCRIPTION:
URL:https://www.mitlift.com/event/dayton-forklift-67/
LOCATION:MIT Dayton\, 2830 E. River Road\, Dayton\, OH\, 45439\, United States
CATEGORIES:Forklift,Forklift Training Dayton
ORGANIZER;CN="George Mackenzie":MAILTO:gmackenzie@mitlift.com
END:VEVENT
BEGIN:VEVENT
DTSTART;TZID=America/Detroit:20211007T083000
DTEND;TZID=America/Detroit:20211007T140000
DTSTAMP:20260421T204401
CREATED:20201113T172047Z
LAST-MODIFIED:20201201T185005Z
UID:10000161-1633595400-1633615200@www.mitlift.com
SUMMARY:Dayton Forklift
DESCRIPTION:
URL:https://www.mitlift.com/event/dayton-forklift-68/
LOCATION:MIT Dayton\, 2830 E. River Road\, Dayton\, OH\, 45439\, United States
CATEGORIES:Forklift,Forklift Training Dayton
ORGANIZER;CN="George Mackenzie":MAILTO:gmackenzie@mitlift.com
END:VEVENT
BEGIN:VEVENT
DTSTART;TZID=America/Detroit:20211012T083000
DTEND;TZID=America/Detroit:20211012T140000
DTSTAMP:20260421T204401
CREATED:20201202T173641Z
LAST-MODIFIED:20210318T174344Z
UID:10000226-1634027400-1634047200@www.mitlift.com
SUMMARY:Troy Aerial
DESCRIPTION:
URL:https://www.mitlift.com/event/troy-aerial-24/
LOCATION:MIT Troy\, 1101 Horizon West Court\, Troy\, OH\, 45373\, United States
CATEGORIES:Aerial
ORGANIZER;CN="George Mackenzie":MAILTO:gmackenzie@mitlift.com
END:VEVENT
BEGIN:VEVENT
DTSTART;TZID=America/Detroit:20211012T083000
DTEND;TZID=America/Detroit:20211012T143000
DTSTAMP:20260421T204401
CREATED:20210318T180902Z
LAST-MODIFIED:20210318T180902Z
UID:10000084-1634027400-1634049000@www.mitlift.com
SUMMARY:Findlay Aerial
DESCRIPTION:
URL:https://www.mitlift.com/event/findlay-aerial/
LOCATION:MIT Findlay\, 130 Stanford Pkwy\, Findlay\, OH\, 45840\, United States
CATEGORIES:Aerial
ORGANIZER;CN="George Mackenzie":MAILTO:gmackenzie@mitlift.com
END:VEVENT
BEGIN:VEVENT
DTSTART;TZID=America/Detroit:20211013T083000
DTEND;TZID=America/Detroit:20211013T140000
DTSTAMP:20260421T204401
CREATED:20201113T194805Z
LAST-MODIFIED:20201201T184833Z
UID:10000053-1634113800-1634133600@www.mitlift.com
SUMMARY:Findlay Forklift
DESCRIPTION:
URL:https://www.mitlift.com/event/findlay-forklift-22/
LOCATION:MIT Findlay\, 130 Stanford Pkwy\, Findlay\, OH\, 45840\, United States
CATEGORIES:Forklift
ORGANIZER;CN="George Mackenzie":MAILTO:gmackenzie@mitlift.com
END:VEVENT
BEGIN:VEVENT
DTSTART;TZID=America/Detroit:20211014T083000
DTEND;TZID=America/Detroit:20211014T140000
DTSTAMP:20260421T204401
CREATED:20201202T155814Z
LAST-MODIFIED:20201202T155814Z
UID:10000068-1634200200-1634220000@www.mitlift.com
SUMMARY:Troy Forklift
DESCRIPTION:
URL:https://www.mitlift.com/event/troy-forklift-20/
LOCATION:MIT Troy\, 1101 Horizon West Court\, Troy\, OH\, 45373\, United States
CATEGORIES:Forklift
ORGANIZER;CN="George Mackenzie":MAILTO:gmackenzie@mitlift.com
END:VEVENT
BEGIN:VEVENT
DTSTART;TZID=America/Detroit:20211019T083000
DTEND;TZID=America/Detroit:20211019T140000
DTSTAMP:20260421T204401
CREATED:20201113T172213Z
LAST-MODIFIED:20201201T184714Z
UID:10000163-1634632200-1634652000@www.mitlift.com
SUMMARY:Dayton Forklift
DESCRIPTION:
URL:https://www.mitlift.com/event/dayton-forklift-69/
LOCATION:MIT Dayton\, 2830 E. River Road\, Dayton\, OH\, 45439\, United States
CATEGORIES:Forklift,Forklift Training Dayton
ORGANIZER;CN="George Mackenzie":MAILTO:gmackenzie@mitlift.com
END:VEVENT
BEGIN:VEVENT
DTSTART;TZID=America/Detroit:20211027T083000
DTEND;TZID=America/Detroit:20211027T140000
DTSTAMP:20260421T204401
CREATED:20201202T160205Z
LAST-MODIFIED:20211020T164937Z
UID:10000070-1635323400-1635343200@www.mitlift.com
SUMMARY:Toledo Forklift
DESCRIPTION:
URL:https://www.mitlift.com/event/toledo-forklift-23/
LOCATION:MIT Toledo\, 10406 Geiser Road\, Toledo\, OH\, 43528\, United States
CATEGORIES:Forklift,Forklift Training Toledo
ORGANIZER;CN="George Mackenzie":MAILTO:gmackenzie@mitlift.com
END:VEVENT
BEGIN:VEVENT
DTSTART;TZID=America/Detroit:20211028T083000
DTEND;TZID=America/Detroit:20211028T140000
DTSTAMP:20260421T204401
CREATED:20201113T172324Z
LAST-MODIFIED:20201201T184036Z
UID:10000165-1635409800-1635429600@www.mitlift.com
SUMMARY:Dayton Forklift
DESCRIPTION:
URL:https://www.mitlift.com/event/dayton-forklift-70/
LOCATION:MIT Dayton\, 2830 E. River Road\, Dayton\, OH\, 45439\, United States
CATEGORIES:Forklift,Forklift Training Dayton
ORGANIZER;CN="George Mackenzie":MAILTO:gmackenzie@mitlift.com
END:VEVENT
BEGIN:VEVENT
DTSTART;TZID=America/Detroit:20211104T083000
DTEND;TZID=America/Detroit:20211104T140000
DTSTAMP:20260421T204401
CREATED:20201113T172528Z
LAST-MODIFIED:20201201T183203Z
UID:10000167-1636014600-1636034400@www.mitlift.com
SUMMARY:Dayton Forklift
DESCRIPTION:
URL:https://www.mitlift.com/event/dayton-forklift-71/
LOCATION:MIT Dayton\, 2830 E. River Road\, Dayton\, OH\, 45439\, United States
CATEGORIES:Forklift,Forklift Training Dayton
ORGANIZER;CN="George Mackenzie":MAILTO:gmackenzie@mitlift.com
END:VEVENT
BEGIN:VEVENT
DTSTART;TZID=America/Detroit:20211109T083000
DTEND;TZID=America/Detroit:20211109T140000
DTSTAMP:20260421T204401
CREATED:20201202T173952Z
LAST-MODIFIED:20210318T174258Z
UID:10000229-1636446600-1636466400@www.mitlift.com
SUMMARY:Findlay Aerial
DESCRIPTION:
URL:https://www.mitlift.com/event/findlay-aerial-21/
LOCATION:MIT Findlay\, 130 Stanford Pkwy\, Findlay\, OH\, 45840\, United States
CATEGORIES:Aerial
ORGANIZER;CN="George Mackenzie":MAILTO:gmackenzie@mitlift.com
END:VEVENT
BEGIN:VEVENT
DTSTART;TZID=America/Detroit:20211109T083000
DTEND;TZID=America/Detroit:20211109T140000
DTSTAMP:20260421T204401
CREATED:20201202T173846Z
LAST-MODIFIED:20210318T174318Z
UID:10000228-1636446600-1636466400@www.mitlift.com
SUMMARY:Troy Aerial
DESCRIPTION:
URL:https://www.mitlift.com/event/troy-aerial-25/
LOCATION:MIT Troy\, 1101 Horizon West Court\, Troy\, OH\, 45373\, United States
CATEGORIES:Aerial
ORGANIZER;CN="George Mackenzie":MAILTO:gmackenzie@mitlift.com
END:VEVENT
BEGIN:VEVENT
DTSTART;TZID=America/Detroit:20211110T083000
DTEND;TZID=America/Detroit:20211110T140000
DTSTAMP:20260421T204401
CREATED:20201113T194918Z
LAST-MODIFIED:20201201T183453Z
UID:10000180-1636533000-1636552800@www.mitlift.com
SUMMARY:Findlay Forklift
DESCRIPTION:
URL:https://www.mitlift.com/event/findlay-forklift-23/
LOCATION:MIT Findlay\, 130 Stanford Pkwy\, Findlay\, OH\, 45840\, United States
CATEGORIES:Forklift
ORGANIZER;CN="George Mackenzie":MAILTO:gmackenzie@mitlift.com
END:VEVENT
BEGIN:VEVENT
DTSTART;TZID=America/Detroit:20211111T083000
DTEND;TZID=America/Detroit:20211111T140000
DTSTAMP:20260421T204401
CREATED:20201202T160258Z
LAST-MODIFIED:20211014T125234Z
UID:10000072-1636619400-1636639200@www.mitlift.com
SUMMARY:Troy Forklift
DESCRIPTION:
URL:https://www.mitlift.com/event/troy-forklift-21/
LOCATION:MIT Troy\, 1101 Horizon West Court\, Troy\, OH\, 45373\, United States
CATEGORIES:Forklift
END:VEVENT
BEGIN:VEVENT
DTSTART;TZID=America/Detroit:20211116T083000
DTEND;TZID=America/Detroit:20211116T140000
DTSTAMP:20260421T204401
CREATED:20201113T172812Z
LAST-MODIFIED:20201201T183634Z
UID:10000169-1637051400-1637071200@www.mitlift.com
SUMMARY:Dayton Forklift
DESCRIPTION:
URL:https://www.mitlift.com/event/dayton-forklift-73/
LOCATION:MIT Dayton\, 2830 E. River Road\, Dayton\, OH\, 45439\, United States
CATEGORIES:Forklift,Forklift Training Dayton
ORGANIZER;CN="George Mackenzie":MAILTO:gmackenzie@mitlift.com
END:VEVENT
BEGIN:VEVENT
DTSTART;TZID=America/Detroit:20211118T083000
DTEND;TZID=America/Detroit:20211118T140000
DTSTAMP:20260421T204401
CREATED:20201202T160556Z
LAST-MODIFIED:20211111T150952Z
UID:10000074-1637224200-1637244000@www.mitlift.com
SUMMARY:Toledo Forklift
DESCRIPTION:
URL:https://www.mitlift.com/event/toledo-forklift-24/
LOCATION:MIT Toledo\, 10406 Geiser Road\, Toledo\, OH\, 43528\, United States
CATEGORIES:Forklift,Forklift Training Toledo
ORGANIZER;CN="George Mackenzie":MAILTO:gmackenzie@mitlift.com
END:VEVENT
BEGIN:VEVENT
DTSTART;TZID=America/Detroit:20211123T083000
DTEND;TZID=America/Detroit:20211123T140000
DTSTAMP:20260421T204401
CREATED:20201113T172918Z
LAST-MODIFIED:20201113T172918Z
UID:10000170-1637656200-1637676000@www.mitlift.com
SUMMARY:Dayton Forklift
DESCRIPTION:
URL:https://www.mitlift.com/event/dayton-forklift-74/
LOCATION:MIT Dayton\, 2830 E. River Road\, Dayton\, OH\, 45439\, United States
CATEGORIES:Forklift,Forklift Training Dayton
ORGANIZER;CN="George Mackenzie":MAILTO:gmackenzie@mitlift.com
END:VEVENT
BEGIN:VEVENT
DTSTART;TZID=America/Detroit:20211202T083000
DTEND;TZID=America/Detroit:20211202T140000
DTSTAMP:20260421T204401
CREATED:20201113T173033Z
LAST-MODIFIED:20201201T180411Z
UID:10000171-1638433800-1638453600@www.mitlift.com
SUMMARY:Dayton Forklift
DESCRIPTION:
URL:https://www.mitlift.com/event/dayton-forklift-75/
LOCATION:MIT Dayton\, 2830 E. River Road\, Dayton\, OH\, 45439\, United States
CATEGORIES:Forklift,Forklift Training Dayton
ORGANIZER;CN="George Mackenzie":MAILTO:gmackenzie@mitlift.com
END:VEVENT
BEGIN:VEVENT
DTSTART;TZID=America/Detroit:20211207T083000
DTEND;TZID=America/Detroit:20211207T140000
DTSTAMP:20260421T204401
CREATED:20201202T174233Z
LAST-MODIFIED:20210318T174008Z
UID:10000231-1638865800-1638885600@www.mitlift.com
SUMMARY:Troy Aerial
DESCRIPTION:
URL:https://www.mitlift.com/event/troy-aerial-26/
LOCATION:MIT Dayton\, 2830 E. River Road\, Dayton\, OH\, 45439\, United States
CATEGORIES:Aerial
ORGANIZER;CN="George Mackenzie":MAILTO:gmackenzie@mitlift.com
END:VEVENT
BEGIN:VEVENT
DTSTART;TZID=America/Detroit:20211207T110000
DTEND;TZID=America/Detroit:20211207T110000
DTSTAMP:20260421T204401
CREATED:20201202T174140Z
LAST-MODIFIED:20211129T132227Z
UID:10000230-1638874800-1638874800@www.mitlift.com
SUMMARY:Findlay Aerial
DESCRIPTION:
URL:https://www.mitlift.com/event/forklift-aerial/
LOCATION:MIT Findlay\, 130 Stanford Pkwy\, Findlay\, OH\, 45840\, United States
CATEGORIES:Aerial
ORGANIZER;CN="George Mackenzie":MAILTO:gmackenzie@mitlift.com
END:VEVENT
BEGIN:VEVENT
DTSTART;TZID=America/Detroit:20211208T083000
DTEND;TZID=America/Detroit:20211208T140000
DTSTAMP:20260421T204401
CREATED:20201113T195028Z
LAST-MODIFIED:20201201T173859Z
UID:10000182-1638952200-1638972000@www.mitlift.com
SUMMARY:Findlay Forklift
DESCRIPTION:
URL:https://www.mitlift.com/event/findlay-forklift-24/
LOCATION:MIT Findlay\, 130 Stanford Pkwy\, Findlay\, OH\, 45840\, United States
CATEGORIES:Forklift
ORGANIZER;CN="George Mackenzie":MAILTO:gmackenzie@mitlift.com
END:VEVENT
END:VCALENDAR