BEGIN:VCALENDAR
VERSION:2.0
PRODID:-//Miami Industrial Trucks - ECPv6.15.20//NONSGML v1.0//EN
CALSCALE:GREGORIAN
METHOD:PUBLISH
X-WR-CALNAME:Miami Industrial Trucks
X-ORIGINAL-URL:https://www.mitlift.com
X-WR-CALDESC:Events for Miami Industrial Trucks
REFRESH-INTERVAL;VALUE=DURATION:PT1H
X-Robots-Tag:noindex
X-PUBLISHED-TTL:PT1H
BEGIN:VTIMEZONE
TZID:America/Detroit
BEGIN:DAYLIGHT
TZOFFSETFROM:-0500
TZOFFSETTO:-0400
TZNAME:EDT
DTSTART:20200308T070000
END:DAYLIGHT
BEGIN:STANDARD
TZOFFSETFROM:-0400
TZOFFSETTO:-0500
TZNAME:EST
DTSTART:20201101T060000
END:STANDARD
BEGIN:DAYLIGHT
TZOFFSETFROM:-0500
TZOFFSETTO:-0400
TZNAME:EDT
DTSTART:20210314T070000
END:DAYLIGHT
BEGIN:STANDARD
TZOFFSETFROM:-0400
TZOFFSETTO:-0500
TZNAME:EST
DTSTART:20211107T060000
END:STANDARD
BEGIN:DAYLIGHT
TZOFFSETFROM:-0500
TZOFFSETTO:-0400
TZNAME:EDT
DTSTART:20220313T070000
END:DAYLIGHT
BEGIN:STANDARD
TZOFFSETFROM:-0400
TZOFFSETTO:-0500
TZNAME:EST
DTSTART:20221106T060000
END:STANDARD
END:VTIMEZONE
BEGIN:VEVENT
DTSTART;TZID=America/Detroit:20210325T083000
DTEND;TZID=America/Detroit:20210325T140000
DTSTAMP:20260420T223624
CREATED:20201113T162527Z
LAST-MODIFIED:20210308T155351Z
UID:10000032-1616661000-1616680800@www.mitlift.com
SUMMARY:Dayton Forklift
DESCRIPTION:
URL:https://www.mitlift.com/event/dayton-forklift-48/
LOCATION:MIT Dayton\, 2830 E. River Road\, Dayton\, OH\, 45439\, United States
CATEGORIES:Forklift,Forklift Training Dayton
ORGANIZER;CN="George Mackenzie":MAILTO:gmackenzie@mitlift.com
END:VEVENT
BEGIN:VEVENT
DTSTART;TZID=America/Detroit:20210330T083000
DTEND;TZID=America/Detroit:20210330T140000
DTSTAMP:20260420T223624
CREATED:20201113T195706Z
LAST-MODIFIED:20201130T174930Z
UID:10000188-1617093000-1617112800@www.mitlift.com
SUMMARY:Toledo Forklift
DESCRIPTION:
URL:https://www.mitlift.com/event/toledo-forklift-15/
LOCATION:MIT Toledo\, 10406 Geiser Road\, Toledo\, OH\, 43528\, United States
CATEGORIES:Forklift
ORGANIZER;CN="George Mackenzie":MAILTO:gmackenzie@mitlift.com
END:VEVENT
BEGIN:VEVENT
DTSTART;TZID=America/Detroit:20210407T083000
DTEND;TZID=America/Detroit:20210407T140000
DTSTAMP:20260420T223624
CREATED:20201113T163126Z
LAST-MODIFIED:20210223T151347Z
UID:10000034-1617784200-1617804000@www.mitlift.com
SUMMARY:Dayton Forklift
DESCRIPTION:
URL:https://www.mitlift.com/event/dayton-forklift-49/
LOCATION:MIT Dayton\, 2830 E. River Road\, Dayton\, OH\, 45439\, United States
CATEGORIES:Forklift,Forklift Training Dayton
ORGANIZER;CN="George Mackenzie":MAILTO:gmackenzie@mitlift.com
END:VEVENT
BEGIN:VEVENT
DTSTART;TZID=America/Detroit:20210413T083000
DTEND;TZID=America/Detroit:20210413T140000
DTSTAMP:20260420T223624
CREATED:20201202T170909Z
LAST-MODIFIED:20210318T175926Z
UID:10000215-1618302600-1618322400@www.mitlift.com
SUMMARY:Findlay Aerial
DESCRIPTION:
URL:https://www.mitlift.com/event/findlay-aerial-15/
LOCATION:MIT Findlay\, 130 Stanford Pkwy\, Findlay\, OH\, 45840\, United States
CATEGORIES:Aerial
ORGANIZER;CN="George Mackenzie":MAILTO:gmackenzie@mitlift.com
END:VEVENT
BEGIN:VEVENT
DTSTART;TZID=America/Detroit:20210413T083000
DTEND;TZID=America/Detroit:20210413T140000
DTSTAMP:20260420T223624
CREATED:20201202T165756Z
LAST-MODIFIED:20210318T180009Z
UID:10000214-1618302600-1618322400@www.mitlift.com
SUMMARY:Troy Aerial
DESCRIPTION:
URL:https://www.mitlift.com/event/troy-aerial-18/
LOCATION:MIT Troy\, 1101 Horizon West Court\, Troy\, OH\, 45373\, United States
CATEGORIES:Aerial
ORGANIZER;CN="George Mackenzie":MAILTO:gmackenzie@mitlift.com
END:VEVENT
BEGIN:VEVENT
DTSTART;TZID=America/Detroit:20210414T083000
DTEND;TZID=America/Detroit:20210414T140000
DTSTAMP:20260420T223624
CREATED:20201113T192217Z
LAST-MODIFIED:20201130T183406Z
UID:10000047-1618389000-1618408800@www.mitlift.com
SUMMARY:Findlay Forklift
DESCRIPTION:
URL:https://www.mitlift.com/event/findlay-forklift-16/
LOCATION:MIT Findlay\, 130 Stanford Pkwy\, Findlay\, OH\, 45840\, United States
CATEGORIES:Forklift
ORGANIZER;CN="George Mackenzie":MAILTO:gmackenzie@mitlift.com
END:VEVENT
BEGIN:VEVENT
DTSTART;TZID=America/Detroit:20210415T083000
DTEND;TZID=America/Detroit:20210415T140000
DTSTAMP:20260420T223624
CREATED:20201202T143603Z
LAST-MODIFIED:20201202T143603Z
UID:10000201-1618475400-1618495200@www.mitlift.com
SUMMARY:Troy Forklift
DESCRIPTION:
URL:https://www.mitlift.com/event/troy-forklift-14/
LOCATION:MIT Troy\, 1101 Horizon West Court\, Troy\, OH\, 45373\, United States
CATEGORIES:Forklift
ORGANIZER;CN="George Mackenzie":MAILTO:gmackenzie@mitlift.com
END:VEVENT
BEGIN:VEVENT
DTSTART;TZID=America/Detroit:20210420T083000
DTEND;TZID=America/Detroit:20210420T140000
DTSTAMP:20260420T223624
CREATED:20201113T164601Z
LAST-MODIFIED:20210413T194009Z
UID:10000036-1618907400-1618927200@www.mitlift.com
SUMMARY:Dayton Forklift
DESCRIPTION:
URL:https://www.mitlift.com/event/dayton-forklift-50/
LOCATION:MIT Dayton\, 2830 E. River Road\, Dayton\, OH\, 45439\, United States
CATEGORIES:Forklift,Forklift Training Dayton
ORGANIZER;CN="George Mackenzie":MAILTO:gmackenzie@mitlift.com
END:VEVENT
BEGIN:VEVENT
DTSTART;TZID=America/Detroit:20210427T083000
DTEND;TZID=America/Detroit:20210427T140000
DTSTAMP:20260420T223624
CREATED:20201113T201503Z
LAST-MODIFIED:20210412T122107Z
UID:10000189-1619512200-1619532000@www.mitlift.com
SUMMARY:Toledo Forklift
DESCRIPTION:
URL:https://www.mitlift.com/event/toledo-forklift-16/
LOCATION:MIT Toledo\, 10406 Geiser Road\, Toledo\, OH\, 43528\, United States
CATEGORIES:Forklift
ORGANIZER;CN="George Mackenzie":MAILTO:gmackenzie@mitlift.com
END:VEVENT
BEGIN:VEVENT
DTSTART;TZID=America/Detroit:20210428T083000
DTEND;TZID=America/Detroit:20210428T140000
DTSTAMP:20260420T223624
CREATED:20201113T164841Z
LAST-MODIFIED:20201130T183832Z
UID:10000129-1619598600-1619618400@www.mitlift.com
SUMMARY:Dayton Forklift
DESCRIPTION:
URL:https://www.mitlift.com/event/dayton-forklift-51/
LOCATION:MIT Dayton\, 2830 E. River Road\, Dayton\, OH\, 45439\, United States
CATEGORIES:Forklift,Forklift Training Dayton
END:VEVENT
BEGIN:VEVENT
DTSTART;TZID=America/Detroit:20210506T083000
DTEND;TZID=America/Detroit:20210506T140000
DTSTAMP:20260420T223624
CREATED:20201113T165016Z
LAST-MODIFIED:20201130T184051Z
UID:10000131-1620289800-1620309600@www.mitlift.com
SUMMARY:Dayton Forklift
DESCRIPTION:
URL:https://www.mitlift.com/event/dayton-forklift-52/
LOCATION:MIT Dayton\, 2830 E. River Road\, Dayton\, OH\, 45439\, United States
CATEGORIES:Forklift,Forklift Training Dayton
ORGANIZER;CN="George Mackenzie":MAILTO:gmackenzie@mitlift.com
END:VEVENT
BEGIN:VEVENT
DTSTART;TZID=America/Detroit:20210511T083000
DTEND;TZID=America/Detroit:20210511T140000
DTSTAMP:20260420T223624
CREATED:20201202T172026Z
LAST-MODIFIED:20210318T175728Z
UID:10000217-1620721800-1620741600@www.mitlift.com
SUMMARY:Findlay Aerial
DESCRIPTION:
URL:https://www.mitlift.com/event/findlay-aerial-16/
LOCATION:MIT Findlay\, 130 Stanford Pkwy\, Findlay\, OH\, 45840\, United States
CATEGORIES:Aerial
ORGANIZER;CN="George Mackenzie":MAILTO:gmackenzie@mitlift.com
END:VEVENT
BEGIN:VEVENT
DTSTART;TZID=America/Detroit:20210511T083000
DTEND;TZID=America/Detroit:20210511T140000
DTSTAMP:20260420T223624
CREATED:20201202T171644Z
LAST-MODIFIED:20210318T175815Z
UID:10000216-1620721800-1620741600@www.mitlift.com
SUMMARY:Troy Aerial
DESCRIPTION:
URL:https://www.mitlift.com/event/troy-aerial-19/
LOCATION:MIT Troy\, 1101 Horizon West Court\, Troy\, OH\, 45373\, United States
CATEGORIES:Aerial
ORGANIZER;CN="George Mackenzie":MAILTO:gmackenzie@mitlift.com
END:VEVENT
BEGIN:VEVENT
DTSTART;TZID=America/Detroit:20210512T083000
DTEND;TZID=America/Detroit:20210512T140000
DTSTAMP:20260420T223624
CREATED:20201113T193747Z
LAST-MODIFIED:20210507T124916Z
UID:10000048-1620808200-1620828000@www.mitlift.com
SUMMARY:Findlay Forklift
DESCRIPTION:
URL:https://www.mitlift.com/event/findlay-forklift-17/
LOCATION:MIT Findlay\, 130 Stanford Pkwy\, Findlay\, OH\, 45840\, United States
CATEGORIES:Forklift
ORGANIZER;CN="George Mackenzie":MAILTO:gmackenzie@mitlift.com
END:VEVENT
BEGIN:VEVENT
DTSTART;TZID=America/Detroit:20210513T083000
DTEND;TZID=America/Detroit:20210513T140000
DTSTAMP:20260420T223624
CREATED:20201202T145502Z
LAST-MODIFIED:20201202T145502Z
UID:10000203-1620894600-1620914400@www.mitlift.com
SUMMARY:Troy Forklift
DESCRIPTION:
URL:https://www.mitlift.com/event/troy-forklift-15/
LOCATION:MIT Troy\, 1101 Horizon West Court\, Troy\, OH\, 45373\, United States
CATEGORIES:Forklift
ORGANIZER;CN="George Mackenzie":MAILTO:gmackenzie@mitlift.com
END:VEVENT
BEGIN:VEVENT
DTSTART;TZID=America/Detroit:20210518T083000
DTEND;TZID=America/Detroit:20210518T140000
DTSTAMP:20260420T223624
CREATED:20201113T165136Z
LAST-MODIFIED:20201130T184658Z
UID:10000133-1621326600-1621346400@www.mitlift.com
SUMMARY:Dayton Forklift
DESCRIPTION:
URL:https://www.mitlift.com/event/dayton-forklift-53/
LOCATION:MIT Dayton\, 2830 E. River Road\, Dayton\, OH\, 45439\, United States
CATEGORIES:Forklift,Forklift Training Dayton
ORGANIZER;CN="George Mackenzie":MAILTO:gmackenzie@mitlift.com
END:VEVENT
BEGIN:VEVENT
DTSTART;TZID=America/Detroit:20210525T083000
DTEND;TZID=America/Detroit:20210525T140000
DTSTAMP:20260420T223624
CREATED:20201113T201615Z
LAST-MODIFIED:20201130T184746Z
UID:10000190-1621931400-1621951200@www.mitlift.com
SUMMARY:Toledo Forklift
DESCRIPTION:
URL:https://www.mitlift.com/event/toledo-forklift-17/
LOCATION:MIT Toledo\, 10406 Geiser Road\, Toledo\, OH\, 43528\, United States
CATEGORIES:Forklift
ORGANIZER;CN="George Mackenzie":MAILTO:gmackenzie@mitlift.com
END:VEVENT
BEGIN:VEVENT
DTSTART;TZID=America/Detroit:20210527T083000
DTEND;TZID=America/Detroit:20210527T140000
DTSTAMP:20260420T223624
CREATED:20201113T165348Z
LAST-MODIFIED:20201130T184837Z
UID:10000135-1622104200-1622124000@www.mitlift.com
SUMMARY:Dayton Forklift
DESCRIPTION:
URL:https://www.mitlift.com/event/dayton-forklift-54/
LOCATION:MIT Dayton\, 2830 E. River Road\, Dayton\, OH\, 45439\, United States
CATEGORIES:Forklift,Forklift Training Dayton
ORGANIZER;CN="George Mackenzie":MAILTO:gmackenzie@mitlift.com
END:VEVENT
BEGIN:VEVENT
DTSTART;TZID=America/Detroit:20210603T083000
DTEND;TZID=America/Detroit:20210603T140000
DTSTAMP:20260420T223624
CREATED:20201113T165538Z
LAST-MODIFIED:20201130T184931Z
UID:10000137-1622709000-1622728800@www.mitlift.com
SUMMARY:Dayton Forklift
DESCRIPTION:
URL:https://www.mitlift.com/event/dayton-forklift-55/
LOCATION:MIT Dayton\, 2830 E. River Road\, Dayton\, OH\, 45439\, United States
CATEGORIES:Forklift,Forklift Training Dayton
ORGANIZER;CN="George Mackenzie":MAILTO:gmackenzie@mitlift.com
END:VEVENT
BEGIN:VEVENT
DTSTART;TZID=America/Detroit:20210608T083000
DTEND;TZID=America/Detroit:20210608T140000
DTSTAMP:20260420T223624
CREATED:20201202T172558Z
LAST-MODIFIED:20210602T120455Z
UID:10000219-1623141000-1623160800@www.mitlift.com
SUMMARY:Findlay Aerial
DESCRIPTION:
URL:https://www.mitlift.com/event/findlay-forklift-25/
LOCATION:MIT Findlay\, 130 Stanford Pkwy\, Findlay\, OH\, 45840\, United States
CATEGORIES:Aerial
ORGANIZER;CN="George Mackenzie":MAILTO:gmackenzie@mitlift.com
END:VEVENT
BEGIN:VEVENT
DTSTART;TZID=America/Detroit:20210608T083000
DTEND;TZID=America/Detroit:20210608T140000
DTSTAMP:20260420T223624
CREATED:20201202T172426Z
LAST-MODIFIED:20210318T174715Z
UID:10000218-1623141000-1623160800@www.mitlift.com
SUMMARY:Troy Aerial
DESCRIPTION:
URL:https://www.mitlift.com/event/troy-aerial-20/
LOCATION:MIT Troy\, 1101 Horizon West Court\, Troy\, OH\, 45373\, United States
CATEGORIES:Aerial
ORGANIZER;CN="George Mackenzie":MAILTO:gmackenzie@mitlift.com
END:VEVENT
BEGIN:VEVENT
DTSTART;TZID=America/Detroit:20210609T083000
DTEND;TZID=America/Detroit:20210609T140000
DTSTAMP:20260420T223624
CREATED:20201113T194156Z
LAST-MODIFIED:20201130T185013Z
UID:10000049-1623227400-1623247200@www.mitlift.com
SUMMARY:Findlay Forklift
DESCRIPTION:
URL:https://www.mitlift.com/event/findlay-forklift-18/
LOCATION:MIT Findlay\, 130 Stanford Pkwy\, Findlay\, OH\, 45840\, United States
CATEGORIES:Forklift
ORGANIZER;CN="George Mackenzie":MAILTO:gmackenzie@mitlift.com
END:VEVENT
BEGIN:VEVENT
DTSTART;TZID=America/Detroit:20210610T083000
DTEND;TZID=America/Detroit:20210610T140000
DTSTAMP:20260420T223624
CREATED:20201202T153640Z
LAST-MODIFIED:20210602T120317Z
UID:10000209-1623313800-1623333600@www.mitlift.com
SUMMARY:Troy Forklift
DESCRIPTION:
URL:https://www.mitlift.com/event/troy-forklift-16/
LOCATION:MIT Troy\, 1101 Horizon West Court\, Troy\, OH\, 45373\, United States
CATEGORIES:Forklift
ORGANIZER;CN="George Mackenzie":MAILTO:gmackenzie@mitlift.com
END:VEVENT
BEGIN:VEVENT
DTSTART;TZID=America/Detroit:20210615T083000
DTEND;TZID=America/Detroit:20210615T140000
DTSTAMP:20260420T223624
CREATED:20201113T165701Z
LAST-MODIFIED:20201202T142640Z
UID:10000140-1623745800-1623765600@www.mitlift.com
SUMMARY:Dayton Forklift
DESCRIPTION:
URL:https://www.mitlift.com/event/dayton-forklift-56/
LOCATION:MIT Dayton\, 2830 E. River Road\, Dayton\, OH\, 45439\, United States
CATEGORIES:Forklift,Forklift Training Dayton
ORGANIZER;CN="George Mackenzie":MAILTO:gmackenzie@mitlift.com
END:VEVENT
BEGIN:VEVENT
DTSTART;TZID=America/Detroit:20210624T083000
DTEND;TZID=America/Detroit:20210624T140000
DTSTAMP:20260420T223624
CREATED:20201113T201729Z
LAST-MODIFIED:20201202T142444Z
UID:10000191-1624523400-1624543200@www.mitlift.com
SUMMARY:Toledo Forklift
DESCRIPTION:
URL:https://www.mitlift.com/event/toledo-forklift-18/
LOCATION:MIT Toledo\, 10406 Geiser Road\, Toledo\, OH\, 43528\, United States
CATEGORIES:Forklift,Forklift Training Toledo
ORGANIZER;CN="George Mackenzie":MAILTO:gmackenzie@mitlift.com
END:VEVENT
BEGIN:VEVENT
DTSTART;TZID=America/Detroit:20210629T083000
DTEND;TZID=America/Detroit:20210629T140000
DTSTAMP:20260420T223624
CREATED:20201113T170554Z
LAST-MODIFIED:20210628T151959Z
UID:10000142-1624955400-1624975200@www.mitlift.com
SUMMARY:Dayton Forklift
DESCRIPTION:
URL:https://www.mitlift.com/event/dayton-forklift-57/
LOCATION:MIT Dayton\, 2830 E. River Road\, Dayton\, OH\, 45439\, United States
CATEGORIES:Forklift,Forklift Training Dayton
ORGANIZER;CN="George Mackenzie":MAILTO:gmackenzie@mitlift.com
END:VEVENT
BEGIN:VEVENT
DTSTART;TZID=America/Detroit:20210707T083000
DTEND;TZID=America/Detroit:20210707T140000
DTSTAMP:20260420T223624
CREATED:20201113T170704Z
LAST-MODIFIED:20201202T142301Z
UID:10000144-1625646600-1625666400@www.mitlift.com
SUMMARY:Dayton Forklift
DESCRIPTION:
URL:https://www.mitlift.com/event/dayton-forklift-58/
LOCATION:MIT Dayton\, 2830 E. River Road\, Dayton\, OH\, 45439\, United States
CATEGORIES:Forklift,Forklift Training Dayton
ORGANIZER;CN="George Mackenzie":MAILTO:gmackenzie@mitlift.com
END:VEVENT
BEGIN:VEVENT
DTSTART;TZID=America/Detroit:20210713T083000
DTEND;TZID=America/Detroit:20210713T140000
DTSTAMP:20260420T223624
CREATED:20201202T172909Z
LAST-MODIFIED:20210318T174551Z
UID:10000221-1626165000-1626184800@www.mitlift.com
SUMMARY:Findlay Aerial
DESCRIPTION:
URL:https://www.mitlift.com/event/findlay-aerial-17/
LOCATION:MIT Findlay\, 130 Stanford Pkwy\, Findlay\, OH\, 45840\, United States
CATEGORIES:Aerial
ORGANIZER;CN="George Mackenzie":MAILTO:gmackenzie@mitlift.com
END:VEVENT
BEGIN:VEVENT
DTSTART;TZID=America/Detroit:20210713T083000
DTEND;TZID=America/Detroit:20210713T140000
DTSTAMP:20260420T223624
CREATED:20201202T172747Z
LAST-MODIFIED:20210318T174626Z
UID:10000220-1626165000-1626184800@www.mitlift.com
SUMMARY:Troy Aerial
DESCRIPTION:
URL:https://www.mitlift.com/event/troy-aerial-21/
LOCATION:MIT Troy\, 1101 Horizon West Court\, Troy\, OH\, 45373\, United States
CATEGORIES:Aerial
ORGANIZER;CN="George Mackenzie":MAILTO:gmackenzie@mitlift.com
END:VEVENT
BEGIN:VEVENT
DTSTART;TZID=America/Detroit:20210714T083000
DTEND;TZID=America/Detroit:20210714T140000
DTSTAMP:20260420T223624
CREATED:20201113T194433Z
LAST-MODIFIED:20210709T125433Z
UID:10000050-1626251400-1626271200@www.mitlift.com
SUMMARY:Findlay Forklift
DESCRIPTION:
URL:https://www.mitlift.com/event/findlay-forklift-19/
LOCATION:MIT Findlay\, 130 Stanford Pkwy\, Findlay\, OH\, 45840\, United States
CATEGORIES:Forklift
ORGANIZER;CN="George Mackenzie":MAILTO:gmackenzie@mitlift.com
END:VEVENT
END:VCALENDAR