BEGIN:VCALENDAR
VERSION:2.0
PRODID:-//Miami Industrial Trucks - ECPv6.15.20//NONSGML v1.0//EN
CALSCALE:GREGORIAN
METHOD:PUBLISH
X-WR-CALNAME:Miami Industrial Trucks
X-ORIGINAL-URL:https://www.mitlift.com
X-WR-CALDESC:Events for Miami Industrial Trucks
REFRESH-INTERVAL;VALUE=DURATION:PT1H
X-Robots-Tag:noindex
X-PUBLISHED-TTL:PT1H
BEGIN:VTIMEZONE
TZID:America/Detroit
BEGIN:DAYLIGHT
TZOFFSETFROM:-0500
TZOFFSETTO:-0400
TZNAME:EDT
DTSTART:20180311T070000
END:DAYLIGHT
BEGIN:STANDARD
TZOFFSETFROM:-0400
TZOFFSETTO:-0500
TZNAME:EST
DTSTART:20181104T060000
END:STANDARD
BEGIN:DAYLIGHT
TZOFFSETFROM:-0500
TZOFFSETTO:-0400
TZNAME:EDT
DTSTART:20190310T070000
END:DAYLIGHT
BEGIN:STANDARD
TZOFFSETFROM:-0400
TZOFFSETTO:-0500
TZNAME:EST
DTSTART:20191103T060000
END:STANDARD
BEGIN:DAYLIGHT
TZOFFSETFROM:-0500
TZOFFSETTO:-0400
TZNAME:EDT
DTSTART:20200308T070000
END:DAYLIGHT
BEGIN:STANDARD
TZOFFSETFROM:-0400
TZOFFSETTO:-0500
TZNAME:EST
DTSTART:20201101T060000
END:STANDARD
BEGIN:DAYLIGHT
TZOFFSETFROM:-0500
TZOFFSETTO:-0400
TZNAME:EDT
DTSTART:20210314T070000
END:DAYLIGHT
BEGIN:STANDARD
TZOFFSETFROM:-0400
TZOFFSETTO:-0500
TZNAME:EST
DTSTART:20211107T060000
END:STANDARD
END:VTIMEZONE
BEGIN:VEVENT
DTSTART;TZID=America/Detroit:20191119T083000
DTEND;TZID=America/Detroit:20191119T140000
DTSTAMP:20260420T164555
CREATED:20191111T140831Z
LAST-MODIFIED:20191111T190338Z
UID:10000099-1574152200-1574172000@www.mitlift.com
SUMMARY:Toledo Forklift
DESCRIPTION:
URL:https://www.mitlift.com/event/toledo-forklift/
LOCATION:MIT Toledo\, 10406 Geiser Road\, Toledo\, OH\, 43528\, United States
CATEGORIES:Forklift
ORGANIZER;CN="George Mackenzie":MAILTO:gmackenzie@mitlift.com
END:VEVENT
BEGIN:VEVENT
DTSTART;TZID=America/Detroit:20191120T083000
DTEND;TZID=America/Detroit:20191120T140000
DTSTAMP:20260420T164555
CREATED:20191108T124608Z
LAST-MODIFIED:20191111T142731Z
UID:10000097-1574238600-1574258400@www.mitlift.com
SUMMARY:Dayton Forklift
DESCRIPTION:
URL:https://www.mitlift.com/event/dayton-forklift-2/
LOCATION:MIT Dayton\, 2830 E. River Road\, Dayton\, OH\, 45439\, United States
CATEGORIES:Forklift
ORGANIZER;CN="George Mackenzie":MAILTO:gmackenzie@mitlift.com
END:VEVENT
BEGIN:VEVENT
DTSTART;TZID=America/Detroit:20191203T083000
DTEND;TZID=America/Detroit:20191203T140000
DTSTAMP:20260420T164555
CREATED:20191111T142037Z
LAST-MODIFIED:20191111T142822Z
UID:10000055-1575361800-1575381600@www.mitlift.com
SUMMARY:Dayton Forklift
DESCRIPTION:
URL:https://www.mitlift.com/event/dayton-forklift-3/
LOCATION:MIT Dayton\, 2830 E. River Road\, Dayton\, OH\, 45439\, United States
CATEGORIES:Forklift
ORGANIZER;CN="George Mackenzie":MAILTO:gmackenzie@mitlift.com
END:VEVENT
BEGIN:VEVENT
DTSTART;TZID=America/Detroit:20191210T083000
DTEND;TZID=America/Detroit:20191210T140000
DTSTAMP:20260420T164555
CREATED:20191111T143146Z
LAST-MODIFIED:20191111T143335Z
UID:10000087-1575966600-1575986400@www.mitlift.com
SUMMARY:Dayton Forklift
DESCRIPTION:
URL:https://www.mitlift.com/event/dayton-forklift-4/
LOCATION:MIT Dayton\, 2830 E. River Road\, Dayton\, OH\, 45439\, United States
CATEGORIES:Forklift
ORGANIZER;CN="George Mackenzie":MAILTO:gmackenzie@mitlift.com
END:VEVENT
BEGIN:VEVENT
DTSTART;TZID=America/Detroit:20191217T083000
DTEND;TZID=America/Detroit:20191217T140000
DTSTAMP:20260420T164555
CREATED:20191111T143624Z
LAST-MODIFIED:20191111T143624Z
UID:10000091-1576571400-1576591200@www.mitlift.com
SUMMARY:Toledo Forklift
DESCRIPTION:
URL:https://www.mitlift.com/event/toledo-forklift-2/
LOCATION:MIT Toledo\, 10406 Geiser Road\, Toledo\, OH\, 43528\, United States
CATEGORIES:Forklift
ORGANIZER;CN="George Mackenzie":MAILTO:gmackenzie@mitlift.com
END:VEVENT
BEGIN:VEVENT
DTSTART;TZID=America/Detroit:20191220T083000
DTEND;TZID=America/Detroit:20191220T140000
DTSTAMP:20260420T164555
CREATED:20191111T143303Z
LAST-MODIFIED:20191111T143303Z
UID:10000089-1576830600-1576850400@www.mitlift.com
SUMMARY:Dayton Forklift
DESCRIPTION:
URL:https://www.mitlift.com/event/dayton-forklift-5/
LOCATION:MIT Dayton\, 2830 E. River Road\, Dayton\, OH\, 45439\, United States
CATEGORIES:Forklift
ORGANIZER;CN="George Mackenzie":MAILTO:gmackenzie@mitlift.com
END:VEVENT
BEGIN:VEVENT
DTSTART;TZID=America/Detroit:20200107T083000
DTEND;TZID=America/Detroit:20200107T140000
DTSTAMP:20260420T164555
CREATED:20191108T123714Z
LAST-MODIFIED:20191111T143709Z
UID:10000095-1578385800-1578405600@www.mitlift.com
SUMMARY:Dayton Forklift
DESCRIPTION:
URL:https://www.mitlift.com/event/dayton-forklift/
LOCATION:MIT Dayton\, 2830 E. River Road\, Dayton\, OH\, 45439\, United States
CATEGORIES:Forklift
ORGANIZER;CN="George Mackenzie":MAILTO:gmackenzie@mitlift.com
END:VEVENT
BEGIN:VEVENT
DTSTART;TZID=America/Detroit:20200109T083000
DTEND;TZID=America/Detroit:20200109T140000
DTSTAMP:20260420T164555
CREATED:20191111T144138Z
LAST-MODIFIED:20250529T181928Z
UID:10000093-1578558600-1578578400@www.mitlift.com
SUMMARY:Findlay Forklift
DESCRIPTION:
URL:https://www.mitlift.com/event/findlay-forklift-2/
LOCATION:MIT Findlay\, 130 Stanford Pkwy\, Findlay\, OH\, 45840\, United States
CATEGORIES:Forklift
ORGANIZER;CN="George Mackenzie":MAILTO:gmackenzie@mitlift.com
END:VEVENT
BEGIN:VEVENT
DTSTART;TZID=America/Detroit:20200116T083000
DTEND;TZID=America/Detroit:20200116T140000
DTSTAMP:20260420T164555
CREATED:20191111T144255Z
LAST-MODIFIED:20191111T144422Z
UID:10000079-1579163400-1579183200@www.mitlift.com
SUMMARY:Dayton Forklift
DESCRIPTION:
URL:https://www.mitlift.com/event/dayton-forklift-6/
LOCATION:MIT Dayton\, 2830 E. River Road\, Dayton\, OH\, 45439\, United States
CATEGORIES:Forklift
ORGANIZER;CN="George Mackenzie":MAILTO:gmackenzie@mitlift.com
END:VEVENT
BEGIN:VEVENT
DTSTART;TZID=America/Detroit:20200129T083000
DTEND;TZID=America/Detroit:20200129T140000
DTSTAMP:20260420T164555
CREATED:20191111T144826Z
LAST-MODIFIED:20191111T144826Z
UID:10000081-1580286600-1580306400@www.mitlift.com
SUMMARY:Dayton Forklift
DESCRIPTION:
URL:https://www.mitlift.com/event/dayton-forklift-7/
LOCATION:MIT Dayton\, 2830 E. River Road\, Dayton\, OH\, 45439\, United States
CATEGORIES:Forklift
ORGANIZER;CN="George Mackenzie":MAILTO:gmackenzie@mitlift.com
END:VEVENT
BEGIN:VEVENT
DTSTART;TZID=America/Detroit:20200206T083000
DTEND;TZID=America/Detroit:20200206T140000
DTSTAMP:20260420T164555
CREATED:20191111T144952Z
LAST-MODIFIED:20191111T151723Z
UID:10000083-1580977800-1580997600@www.mitlift.com
SUMMARY:Dayton Forklift
DESCRIPTION:
URL:https://www.mitlift.com/event/dyton-forklift/
LOCATION:MIT Dayton\, 2830 E. River Road\, Dayton\, OH\, 45439\, United States
CATEGORIES:Forklift
ORGANIZER;CN="George Mackenzie":MAILTO:gmackenzie@mitlift.com
END:VEVENT
BEGIN:VEVENT
DTSTART;TZID=America/Detroit:20200212T083000
DTEND;TZID=America/Detroit:20200212T140000
DTSTAMP:20260420T164555
CREATED:20191111T145140Z
LAST-MODIFIED:20191111T191101Z
UID:10000054-1581496200-1581516000@www.mitlift.com
SUMMARY:Troy Forklift
DESCRIPTION:
URL:https://www.mitlift.com/event/troy-forklift/
LOCATION:MIT Troy\, 1101 Horizon West Court\, Troy\, OH\, 45373\, United States
CATEGORIES:Forklift
ORGANIZER;CN="George Mackenzie":MAILTO:gmackenzie@mitlift.com
END:VEVENT
BEGIN:VEVENT
DTSTART;TZID=America/Detroit:20200213T083000
DTEND;TZID=America/Detroit:20200213T140000
DTSTAMP:20260420T164555
CREATED:20191111T145354Z
LAST-MODIFIED:20191111T145354Z
UID:10000071-1581582600-1581602400@www.mitlift.com
SUMMARY:Findlay Forklift
DESCRIPTION:
URL:https://www.mitlift.com/event/findlay-forklift-3/
LOCATION:MIT Findlay\, 130 Stanford Pkwy\, Findlay\, OH\, 45840\, United States
CATEGORIES:Forklift
ORGANIZER;CN="George Mackenzie":MAILTO:gmackenzie@mitlift.com
END:VEVENT
BEGIN:VEVENT
DTSTART;TZID=America/Detroit:20200218T083000
DTEND;TZID=America/Detroit:20200218T140000
DTSTAMP:20260420T164555
CREATED:20191111T145536Z
LAST-MODIFIED:20191111T145536Z
UID:10000073-1582014600-1582034400@www.mitlift.com
SUMMARY:Dayton Forklift
DESCRIPTION:
URL:https://www.mitlift.com/event/dayton-forklift-8/
LOCATION:MIT Dayton\, 2830 E. River Road\, Dayton\, OH\, 45439\, United States
CATEGORIES:Forklift
ORGANIZER;CN="George Mackenzie":MAILTO:gmackenzie@mitlift.com
END:VEVENT
BEGIN:VEVENT
DTSTART;TZID=America/Detroit:20200220T083000
DTEND;TZID=America/Detroit:20200220T140000
DTSTAMP:20260420T164555
CREATED:20200213T161139Z
LAST-MODIFIED:20200213T161503Z
UID:10000125-1582187400-1582207200@www.mitlift.com
SUMMARY:Findlay Forklift
DESCRIPTION:
URL:https://www.mitlift.com/event/findlay-forklift/
LOCATION:MIT Findlay\, 130 Stanford Pkwy\, Findlay\, OH\, 45840\, United States
CATEGORIES:Forklift
ORGANIZER;CN="George Mackenzie":MAILTO:gmackenzie@mitlift.com
END:VEVENT
BEGIN:VEVENT
DTSTART;TZID=America/Detroit:20200225T083000
DTEND;TZID=America/Detroit:20200225T140000
DTSTAMP:20260420T164555
CREATED:20191111T150233Z
LAST-MODIFIED:20191111T150233Z
UID:10000075-1582619400-1582639200@www.mitlift.com
SUMMARY:Toledo Forklift
DESCRIPTION:
URL:https://www.mitlift.com/event/toledo-forklift-4/
LOCATION:MIT Toledo\, 10406 Geiser Road\, Toledo\, OH\, 43528\, United States
CATEGORIES:Forklift
ORGANIZER;CN="George Mackenzie":MAILTO:gmackenzie@mitlift.com
END:VEVENT
BEGIN:VEVENT
DTSTART;TZID=America/Detroit:20200227T083000
DTEND;TZID=America/Detroit:20200227T140000
DTSTAMP:20260420T164555
CREATED:20191111T150350Z
LAST-MODIFIED:20191111T150350Z
UID:10000043-1582792200-1582812000@www.mitlift.com
SUMMARY:Dayton Forklift
DESCRIPTION:
URL:https://www.mitlift.com/event/dayton-forklift-9/
LOCATION:MIT Dayton\, 2830 E. River Road\, Dayton\, OH\, 45439\, United States
CATEGORIES:Forklift
ORGANIZER;CN="George Mackenzie":MAILTO:gmackenzie@mitlift.com
END:VEVENT
BEGIN:VEVENT
DTSTART;TZID=America/Detroit:20200310T083000
DTEND;TZID=America/Detroit:20200310T140000
DTSTAMP:20260420T164555
CREATED:20191111T152250Z
LAST-MODIFIED:20200302T181324Z
UID:10000065-1583829000-1583848800@www.mitlift.com
SUMMARY:Dayton Forklift
DESCRIPTION:
URL:https://www.mitlift.com/event/dayton-forklift-10/
LOCATION:MIT Dayton\, 2830 E. River Road\, Dayton\, OH\, 45439\, United States
CATEGORIES:Forklift
ORGANIZER;CN="George Mackenzie":MAILTO:gmackenzie@mitlift.com
END:VEVENT
BEGIN:VEVENT
DTSTART;TZID=America/Detroit:20200318T083000
DTEND;TZID=America/Detroit:20200318T140000
DTSTAMP:20260420T164555
CREATED:20191111T152747Z
LAST-MODIFIED:20200316T115839Z
UID:10000069-1584520200-1584540000@www.mitlift.com
SUMMARY:Troy Forklift
DESCRIPTION:
URL:https://www.mitlift.com/event/troy-forklift-2/
LOCATION:MIT Troy\, 1101 Horizon West Court\, Troy\, OH\, 45373\, United States
CATEGORIES:Forklift
ORGANIZER;CN="George Mackenzie":MAILTO:gmackenzie@mitlift.com
END:VEVENT
BEGIN:VEVENT
DTSTART;TZID=America/Detroit:20200319T083000
DTEND;TZID=America/Detroit:20200319T140000
DTSTAMP:20260420T164555
CREATED:20191111T152624Z
LAST-MODIFIED:20200316T201313Z
UID:10000067-1584606600-1584626400@www.mitlift.com
SUMMARY:Findlay Forklift
DESCRIPTION:
URL:https://www.mitlift.com/event/findlay-forklift-4/
LOCATION:MIT Findlay\, 130 Stanford Pkwy\, Findlay\, OH\, 45840\, United States
CATEGORIES:Forklift
ORGANIZER;CN="George Mackenzie":MAILTO:gmackenzie@mitlift.com
END:VEVENT
BEGIN:VEVENT
DTSTART;TZID=America/Detroit:20200324T083000
DTEND;TZID=America/Detroit:20200324T140000
DTSTAMP:20260420T164555
CREATED:20191111T153104Z
LAST-MODIFIED:20200316T202341Z
UID:10000042-1585038600-1585058400@www.mitlift.com
SUMMARY:Dayton Forklift
DESCRIPTION:
URL:https://www.mitlift.com/event/dayton-forklift-11/
LOCATION:MIT Dayton\, 2830 E. River Road\, Dayton\, OH\, 45439\, United States
CATEGORIES:Forklift
ORGANIZER;CN="George Mackenzie":MAILTO:gmackenzie@mitlift.com
END:VEVENT
BEGIN:VEVENT
DTSTART;TZID=America/Detroit:20200326T083000
DTEND;TZID=America/Detroit:20200326T140000
DTSTAMP:20260420T164555
CREATED:20191111T153235Z
LAST-MODIFIED:20200323T181715Z
UID:10000058-1585211400-1585231200@www.mitlift.com
SUMMARY:Toledo Forklift
DESCRIPTION:
URL:https://www.mitlift.com/event/toledo-forklift-5/
LOCATION:MIT Toledo\, 10406 Geiser Road\, Toledo\, OH\, 43528\, United States
CATEGORIES:Forklift
ORGANIZER;CN="George Mackenzie":MAILTO:gmackenzie@mitlift.com
END:VEVENT
BEGIN:VEVENT
DTSTART;TZID=America/Detroit:20200331T083000
DTEND;TZID=America/Detroit:20200331T140000
DTSTAMP:20260420T164555
CREATED:20191111T153551Z
LAST-MODIFIED:20200317T154925Z
UID:10000059-1585643400-1585663200@www.mitlift.com
SUMMARY:Dayton Forklift
DESCRIPTION:
URL:https://www.mitlift.com/event/dayton-forklift-12/
LOCATION:MIT Dayton\, 2830 E. River Road\, Dayton\, OH\, 45439\, United States
CATEGORIES:Forklift
ORGANIZER;CN="George Mackenzie":MAILTO:gmackenzie@mitlift.com
END:VEVENT
BEGIN:VEVENT
DTSTART;TZID=America/Detroit:20200408T083000
DTEND;TZID=America/Detroit:20200408T140000
DTSTAMP:20260420T164555
CREATED:20191111T153851Z
LAST-MODIFIED:20200330T205209Z
UID:10000060-1586334600-1586354400@www.mitlift.com
SUMMARY:Dayton Forklift
DESCRIPTION:
URL:https://www.mitlift.com/event/dayton-forklift-13/
LOCATION:MIT Dayton\, 2830 E. River Road\, Dayton\, OH\, 45439\, United States
CATEGORIES:Forklift
ORGANIZER;CN="George Mackenzie":MAILTO:gmackenzie@mitlift.com
END:VEVENT
BEGIN:VEVENT
DTSTART;TZID=America/Detroit:20200415T083000
DTEND;TZID=America/Detroit:20200415T140000
DTSTAMP:20260420T164555
CREATED:20191111T154032Z
LAST-MODIFIED:20200413T141433Z
UID:10000061-1586939400-1586959200@www.mitlift.com
SUMMARY:Troy Forklift
DESCRIPTION:
URL:https://www.mitlift.com/event/troy-forklift-3/
LOCATION:MIT Troy\, 1101 Horizon West Court\, Troy\, OH\, 45373\, United States
CATEGORIES:Forklift
ORGANIZER;CN="George Mackenzie":MAILTO:gmackenzie@mitlift.com
END:VEVENT
BEGIN:VEVENT
DTSTART;TZID=America/Detroit:20200416T083000
DTEND;TZID=America/Detroit:20200416T140000
DTSTAMP:20260420T164555
CREATED:20191111T154151Z
LAST-MODIFIED:20200414T122020Z
UID:10000038-1587025800-1587045600@www.mitlift.com
SUMMARY:Findlay Forklift
DESCRIPTION:
URL:https://www.mitlift.com/event/findlay-forklift-5/
LOCATION:MIT Findlay\, 130 Stanford Pkwy\, Findlay\, OH\, 45840\, United States
CATEGORIES:Forklift
ORGANIZER;CN="George Mackenzie":MAILTO:gmackenzie@mitlift.com
END:VEVENT
BEGIN:VEVENT
DTSTART;TZID=America/Detroit:20200421T083000
DTEND;TZID=America/Detroit:20200421T140000
DTSTAMP:20260420T164555
CREATED:20191111T154307Z
LAST-MODIFIED:20200417T122744Z
UID:10000039-1587457800-1587477600@www.mitlift.com
SUMMARY:Dayton Forklift
DESCRIPTION:
URL:https://www.mitlift.com/event/dayton-forklift-14/
LOCATION:MIT Dayton\, 2830 E. River Road\, Dayton\, OH\, 45439\, United States
CATEGORIES:Forklift
ORGANIZER;CN="George Mackenzie":MAILTO:gmackenzie@mitlift.com
END:VEVENT
BEGIN:VEVENT
DTSTART;TZID=America/Detroit:20200423T083000
DTEND;TZID=America/Detroit:20200423T140000
DTSTAMP:20260420T164555
CREATED:20191111T154414Z
LAST-MODIFIED:20200417T141018Z
UID:10000056-1587630600-1587650400@www.mitlift.com
SUMMARY:Toledo Forklift
DESCRIPTION:
URL:https://www.mitlift.com/event/toledo-forklift-6/
LOCATION:MIT Toledo\, 10406 Geiser Road\, Toledo\, OH\, 43528\, United States
CATEGORIES:Forklift
ORGANIZER;CN="George Mackenzie":MAILTO:gmackenzie@mitlift.com
END:VEVENT
BEGIN:VEVENT
DTSTART;TZID=America/Detroit:20200429T083000
DTEND;TZID=America/Detroit:20200429T140000
DTSTAMP:20260420T164555
CREATED:20191111T154539Z
LAST-MODIFIED:20191111T154539Z
UID:10000057-1588149000-1588168800@www.mitlift.com
SUMMARY:Dayton Forklift
DESCRIPTION:
URL:https://www.mitlift.com/event/dayton-forklift-15/
LOCATION:MIT Dayton\, 2830 E. River Road\, Dayton\, OH\, 45439\, United States
CATEGORIES:Forklift
ORGANIZER;CN="George Mackenzie":MAILTO:gmackenzie@mitlift.com
END:VEVENT
BEGIN:VEVENT
DTSTART;TZID=America/Detroit:20200507T083000
DTEND;TZID=America/Detroit:20200507T140000
DTSTAMP:20260420T164555
CREATED:20191111T154700Z
LAST-MODIFIED:20200505T115855Z
UID:10000011-1588840200-1588860000@www.mitlift.com
SUMMARY:Dayton Forklift
DESCRIPTION:
URL:https://www.mitlift.com/event/dayton-forklift-16/
LOCATION:MIT Dayton\, 2830 E. River Road\, Dayton\, OH\, 45439\, United States
CATEGORIES:Forklift
ORGANIZER;CN="George Mackenzie":MAILTO:gmackenzie@mitlift.com
END:VEVENT
END:VCALENDAR