BEGIN:VCALENDAR
VERSION:2.0
PRODID:-//Miami Industrial Trucks - ECPv6.15.20//NONSGML v1.0//EN
CALSCALE:GREGORIAN
METHOD:PUBLISH
X-WR-CALNAME:Miami Industrial Trucks
X-ORIGINAL-URL:https://www.mitlift.com
X-WR-CALDESC:Events for Miami Industrial Trucks
REFRESH-INTERVAL;VALUE=DURATION:PT1H
X-Robots-Tag:noindex
X-PUBLISHED-TTL:PT1H
BEGIN:VTIMEZONE
TZID:America/Detroit
BEGIN:DAYLIGHT
TZOFFSETFROM:-0500
TZOFFSETTO:-0400
TZNAME:EDT
DTSTART:20240310T070000
END:DAYLIGHT
BEGIN:STANDARD
TZOFFSETFROM:-0400
TZOFFSETTO:-0500
TZNAME:EST
DTSTART:20241103T060000
END:STANDARD
BEGIN:DAYLIGHT
TZOFFSETFROM:-0500
TZOFFSETTO:-0400
TZNAME:EDT
DTSTART:20250309T070000
END:DAYLIGHT
BEGIN:STANDARD
TZOFFSETFROM:-0400
TZOFFSETTO:-0500
TZNAME:EST
DTSTART:20251102T060000
END:STANDARD
BEGIN:DAYLIGHT
TZOFFSETFROM:-0500
TZOFFSETTO:-0400
TZNAME:EDT
DTSTART:20260308T070000
END:DAYLIGHT
BEGIN:STANDARD
TZOFFSETFROM:-0400
TZOFFSETTO:-0500
TZNAME:EST
DTSTART:20261101T060000
END:STANDARD
END:VTIMEZONE
BEGIN:VEVENT
DTSTART;TZID=America/Detroit:20250814T123000
DTEND;TZID=America/Detroit:20250814T123000
DTSTAMP:20260421T013212
CREATED:20240729T140956Z
LAST-MODIFIED:20250210T215018Z
UID:10000520-1755174600-1755174600@www.mitlift.com
SUMMARY:Findlay Aerial Training
DESCRIPTION:
URL:https://www.mitlift.com/event/findlay-aerial-training-44/
LOCATION:MIT Findlay\, 130 Stanford Pkwy\, Findlay\, OH\, 45840\, United States
CATEGORIES:Aerial,Aerial Findlay Training
ORGANIZER;CN="George Mackenzie":MAILTO:gmackenzie@mitlift.com
END:VEVENT
BEGIN:VEVENT
DTSTART;TZID=America/Detroit:20250814T080000
DTEND;TZID=America/Detroit:20250814T120000
DTSTAMP:20260421T013212
CREATED:20240726T164754Z
LAST-MODIFIED:20250211T154723Z
UID:10000473-1755158400-1755172800@www.mitlift.com
SUMMARY:Findlay Forklift Training
DESCRIPTION:
URL:https://www.mitlift.com/event/findlay-forklift-training-32/
LOCATION:MIT Findlay\, 130 Stanford Pkwy\, Findlay\, OH\, 45840\, United States
CATEGORIES:Findlay Forklift Training,Forklift
ORGANIZER;CN="George Mackenzie":MAILTO:gmackenzie@mitlift.com
END:VEVENT
BEGIN:VEVENT
DTSTART;TZID=America/Detroit:20250812T123000
DTEND;TZID=America/Detroit:20250812T123000
DTSTAMP:20260421T013212
CREATED:20240729T125425Z
LAST-MODIFIED:20250210T214938Z
UID:10000519-1755001800-1755001800@www.mitlift.com
SUMMARY:Troy Aerial Training
DESCRIPTION:
URL:https://www.mitlift.com/event/troy-aerial-training-33/
LOCATION:MIT Troy\, 1101 Horizon West Court\, Troy\, OH\, 45373\, United States
CATEGORIES:Aerial,Aerial Troy Training
ORGANIZER;CN="George Mackenzie":MAILTO:gmackenzie@mitlift.com
END:VEVENT
BEGIN:VEVENT
DTSTART;TZID=America/Detroit:20250812T080000
DTEND;TZID=America/Detroit:20250812T120000
DTSTAMP:20260421T013212
CREATED:20240726T190052Z
LAST-MODIFIED:20250211T154644Z
UID:10000485-1754985600-1755000000@www.mitlift.com
SUMMARY:Troy Forklift Training
DESCRIPTION:
URL:https://www.mitlift.com/event/troy-forklift-training-41/
LOCATION:MIT Troy\, 1101 Horizon West Court\, Troy\, OH\, 45373\, United States
CATEGORIES:Forklift,Troy Forklift Training
ORGANIZER;CN="George Mackenzie":MAILTO:gmackenzie@mitlift.com
END:VEVENT
BEGIN:VEVENT
DTSTART;TZID=America/Detroit:20250806T083000
DTEND;TZID=America/Detroit:20250806T123000
DTSTAMP:20260421T013212
CREATED:20240726T152629Z
LAST-MODIFIED:20250211T154610Z
UID:10000456-1754469000-1754483400@www.mitlift.com
SUMMARY:Dayton Forklift Training
DESCRIPTION:
URL:https://www.mitlift.com/event/dayton-forklift-training-96/
LOCATION:MIT Dayton\, 2830 E. River Road\, Dayton\, OH\, 45439\, United States
CATEGORIES:Forklift,Forklift Training Dayton
ORGANIZER;CN="George Mackenzie":MAILTO:gmackenzie@mitlift.com
END:VEVENT
BEGIN:VEVENT
DTSTART;TZID=America/Detroit:20250724T083000
DTEND;TZID=America/Detroit:20250724T123000
DTSTAMP:20260421T013212
CREATED:20240726T152459Z
LAST-MODIFIED:20250211T154435Z
UID:10000455-1753345800-1753360200@www.mitlift.com
SUMMARY:Dayton Forklift Training
DESCRIPTION:
URL:https://www.mitlift.com/event/dayton-forklift-training-95/
LOCATION:MIT Dayton\, 2830 E. River Road\, Dayton\, OH\, 45439\, United States
CATEGORIES:Forklift,Forklift Training Dayton
ORGANIZER;CN="George Mackenzie":MAILTO:gmackenzie@mitlift.com
END:VEVENT
BEGIN:VEVENT
DTSTART;TZID=America/Detroit:20250723T123000
DTEND;TZID=America/Detroit:20250723T123000
DTSTAMP:20260421T013212
CREATED:20250211T154341Z
LAST-MODIFIED:20250211T154522Z
UID:10000529-1753273800-1753273800@www.mitlift.com
SUMMARY:Toledo Aerial Training
DESCRIPTION:
URL:https://www.mitlift.com/event/toledo-aerial-training-4/
LOCATION:MIT Toledo\, 10406 Geiser Road\, Toledo\, OH\, 43528\, United States
CATEGORIES:Aerial,Aerial Findlay Training
ORGANIZER;CN="George Mackenzie":MAILTO:gmackenzie@mitlift.com
END:VEVENT
BEGIN:VEVENT
DTSTART;TZID=America/Detroit:20250723T083000
DTEND;TZID=America/Detroit:20250723T123000
DTSTAMP:20260421T013212
CREATED:20240726T200902Z
LAST-MODIFIED:20250211T154136Z
UID:10000495-1753259400-1753273800@www.mitlift.com
SUMMARY:Toledo Forklift Training
DESCRIPTION:
URL:https://www.mitlift.com/event/toledo-forklift-training-30/
LOCATION:MIT Toledo\, 10406 Geiser Road\, Toledo\, OH\, 43528\, United States
CATEGORIES:Forklift,Toledo Forklift Training
ORGANIZER;CN="George Mackenzie":MAILTO:gmackenzie@mitlift.com
END:VEVENT
BEGIN:VEVENT
DTSTART;TZID=America/Detroit:20250717T123000
DTEND;TZID=America/Detroit:20250717T123000
DTSTAMP:20260421T013212
CREATED:20240729T135718Z
LAST-MODIFIED:20250210T215117Z
UID:10000521-1752755400-1752755400@www.mitlift.com
SUMMARY:Findlay Aerial Training
DESCRIPTION:
URL:https://www.mitlift.com/event/findlay-aerial-training-43/
LOCATION:MIT Findlay\, 130 Stanford Pkwy\, Findlay\, OH\, 45840\, United States
CATEGORIES:Aerial,Aerial Findlay Training
ORGANIZER;CN="George Mackenzie":MAILTO:gmackenzie@mitlift.com
END:VEVENT
BEGIN:VEVENT
DTSTART;TZID=America/Detroit:20250717T080000
DTEND;TZID=America/Detroit:20250717T120000
DTSTAMP:20260421T013212
CREATED:20240726T163911Z
LAST-MODIFIED:20250707T175154Z
UID:10000472-1752739200-1752753600@www.mitlift.com
SUMMARY:Findlay Forklift Training
DESCRIPTION:
URL:https://www.mitlift.com/event/findlay-forklift-training-31/
LOCATION:MIT Findlay\, 130 Stanford Pkwy\, Findlay\, OH\, 45840\, United States
CATEGORIES:Findlay Forklift Training,Forklift
ORGANIZER;CN="George Mackenzie":MAILTO:gmackenzie@mitlift.com
END:VEVENT
BEGIN:VEVENT
DTSTART;TZID=America/Detroit:20250715T123000
DTEND;TZID=America/Detroit:20250715T123000
DTSTAMP:20260421T013212
CREATED:20250110T193009Z
LAST-MODIFIED:20250616T143122Z
UID:10000508-1752582600-1752582600@www.mitlift.com
SUMMARY:Troy Aerial Training
DESCRIPTION:
URL:https://www.mitlift.com/event/troy-aerial-training-43/
LOCATION:MIT Troy\, 1101 Horizon West Court\, Troy\, OH\, 45373\, United States
CATEGORIES:Aerial,Aerial Troy Training
ORGANIZER;CN="George Mackenzie":MAILTO:gmackenzie@mitlift.com
END:VEVENT
BEGIN:VEVENT
DTSTART;TZID=America/Detroit:20250715T080000
DTEND;TZID=America/Detroit:20250715T120000
DTSTAMP:20260421T013212
CREATED:20250210T200501Z
LAST-MODIFIED:20250409T172236Z
UID:10000510-1752566400-1752580800@www.mitlift.com
SUMMARY:Troy Forklift Training
DESCRIPTION:
URL:https://www.mitlift.com/event/troy-forklift-training-46/
LOCATION:MIT Troy\, 1101 Horizon West Court\, Troy\, OH\, 45373\, United States
CATEGORIES:Forklift,Troy Forklift Training
ORGANIZER;CN="George Mackenzie":MAILTO:gmackenzie@mitlift.com
END:VEVENT
BEGIN:VEVENT
DTSTART;TZID=America/Detroit:20250709T083000
DTEND;TZID=America/Detroit:20250709T123000
DTSTAMP:20260421T013212
CREATED:20240726T152342Z
LAST-MODIFIED:20250211T154004Z
UID:10000454-1752049800-1752064200@www.mitlift.com
SUMMARY:Dayton Forklift Training
DESCRIPTION:
URL:https://www.mitlift.com/event/dayton-forklift-training-94/
LOCATION:MIT Dayton\, 2830 E. River Road\, Dayton\, OH\, 45439\, United States
CATEGORIES:Forklift,Forklift Training Dayton
ORGANIZER;CN="George Mackenzie":MAILTO:gmackenzie@mitlift.com
END:VEVENT
BEGIN:VEVENT
DTSTART;TZID=America/Detroit:20250626T083000
DTEND;TZID=America/Detroit:20250626T123000
DTSTAMP:20260421T013212
CREATED:20240726T150736Z
LAST-MODIFIED:20250606T142126Z
UID:10000453-1750926600-1750941000@www.mitlift.com
SUMMARY:Dayton Forklift Training
DESCRIPTION:
URL:https://www.mitlift.com/event/dayton-forklift-training-93/
LOCATION:MIT Dayton\, 2830 E. River Road\, Dayton\, OH\, 45439\, United States
CATEGORIES:Forklift,Forklift Training Dayton
ORGANIZER;CN="George Mackenzie":MAILTO:gmackenzie@mitlift.com
END:VEVENT
BEGIN:VEVENT
DTSTART;TZID=America/Detroit:20250625T123000
DTEND;TZID=America/Detroit:20250625T123000
DTSTAMP:20260421T013212
CREATED:20250211T153631Z
LAST-MODIFIED:20250211T153648Z
UID:10000528-1750854600-1750854600@www.mitlift.com
SUMMARY:Toledo Aerial Training
DESCRIPTION:
URL:https://www.mitlift.com/event/toledo-aerial-training-3/
LOCATION:MIT Toledo\, 10406 Geiser Road\, Toledo\, OH\, 43528\, United States
CATEGORIES:Aerial,Aerial Toledo Training
ORGANIZER;CN="George Mackenzie":MAILTO:gmackenzie@mitlift.com
END:VEVENT
BEGIN:VEVENT
DTSTART;TZID=America/Detroit:20250625T083000
DTEND;TZID=America/Detroit:20250625T123000
DTSTAMP:20260421T013212
CREATED:20240726T200728Z
LAST-MODIFIED:20250623T132550Z
UID:10000494-1750840200-1750854600@www.mitlift.com
SUMMARY:Toledo Forklift Training
DESCRIPTION:
URL:https://www.mitlift.com/event/toledo-forklift-training-29/
LOCATION:MIT Toledo\, 10406 Geiser Road\, Toledo\, OH\, 43528\, United States
CATEGORIES:Forklift,Toledo Forklift Training
ORGANIZER;CN="George Mackenzie":MAILTO:gmackenzie@mitlift.com
END:VEVENT
BEGIN:VEVENT
DTSTART;TZID=America/Detroit:20250619T123000
DTEND;TZID=America/Detroit:20250619T123000
DTSTAMP:20260421T013212
CREATED:20240729T135555Z
LAST-MODIFIED:20250210T215219Z
UID:10000522-1750336200-1750336200@www.mitlift.com
SUMMARY:Findlay Aerial Training
DESCRIPTION:
URL:https://www.mitlift.com/event/findlay-aerial-training-42/
LOCATION:MIT Findlay\, 130 Stanford Pkwy\, Findlay\, OH\, 45840\, United States
CATEGORIES:Aerial,Aerial Findlay Training
ORGANIZER;CN="George Mackenzie":MAILTO:gmackenzie@mitlift.com
END:VEVENT
BEGIN:VEVENT
DTSTART;TZID=America/Detroit:20250619T080000
DTEND;TZID=America/Detroit:20250619T120000
DTSTAMP:20260421T013212
CREATED:20240726T161535Z
LAST-MODIFIED:20250211T145319Z
UID:10000471-1750320000-1750334400@www.mitlift.com
SUMMARY:Findlay Forklift Training
DESCRIPTION:
URL:https://www.mitlift.com/event/findlay-forklift-training-30/
LOCATION:MIT Findlay\, 130 Stanford Pkwy\, Findlay\, OH\, 45840\, United States
CATEGORIES:Findlay Forklift Training,Forklift
ORGANIZER;CN="George Mackenzie":MAILTO:gmackenzie@mitlift.com
END:VEVENT
BEGIN:VEVENT
DTSTART;TZID=America/Detroit:20250617T123000
DTEND;TZID=America/Detroit:20250617T123000
DTSTAMP:20260421T013212
CREATED:20250110T192840Z
LAST-MODIFIED:20250516T145321Z
UID:10000507-1750163400-1750163400@www.mitlift.com
SUMMARY:Troy Aerial Training
DESCRIPTION:
URL:https://www.mitlift.com/event/troy-aerial-training-42/
LOCATION:MIT Troy\, 1101 Horizon West Court\, Troy\, OH\, 45373\, United States
CATEGORIES:Aerial,Aerial Troy Training
ORGANIZER;CN="George Mackenzie":MAILTO:gmackenzie@mitlift.com
END:VEVENT
BEGIN:VEVENT
DTSTART;TZID=America/Detroit:20250617T080000
DTEND;TZID=America/Detroit:20250617T120000
DTSTAMP:20260421T013212
CREATED:20240726T185711Z
LAST-MODIFIED:20250211T145204Z
UID:10000483-1750147200-1750161600@www.mitlift.com
SUMMARY:Troy Forklift Training
DESCRIPTION:
URL:https://www.mitlift.com/event/troy-forklift-training-39/
LOCATION:MIT Troy\, 1101 Horizon West Court\, Troy\, OH\, 45373\, United States
CATEGORIES:Forklift,Troy Forklift Training
ORGANIZER;CN="George Mackenzie":MAILTO:gmackenzie@mitlift.com
END:VEVENT
BEGIN:VEVENT
DTSTART;TZID=America/Detroit:20250604T083000
DTEND;TZID=America/Detroit:20250604T123000
DTSTAMP:20260421T013212
CREATED:20240726T144457Z
LAST-MODIFIED:20250211T145134Z
UID:10000450-1749025800-1749040200@www.mitlift.com
SUMMARY:Dayton Forklift Training
DESCRIPTION:
URL:https://www.mitlift.com/event/dayton-forklift-training-90/
LOCATION:MIT Dayton\, 2830 E. River Road\, Dayton\, OH\, 45439\, United States
CATEGORIES:Forklift,Forklift Training Dayton
ORGANIZER;CN="George Mackenzie":MAILTO:gmackenzie@mitlift.com
END:VEVENT
BEGIN:VEVENT
DTSTART;TZID=America/Detroit:20250522T083000
DTEND;TZID=America/Detroit:20250522T123000
DTSTAMP:20260421T013212
CREATED:20240726T150545Z
LAST-MODIFIED:20250506T120739Z
UID:10000452-1747902600-1747917000@www.mitlift.com
SUMMARY:Dayton Forklift Training
DESCRIPTION:
URL:https://www.mitlift.com/event/dayton-forklift-training-92/
LOCATION:MIT Dayton\, 2830 E. River Road\, Dayton\, OH\, 45439\, United States
CATEGORIES:Forklift,Forklift Training Dayton
ORGANIZER;CN="George Mackenzie":MAILTO:gmackenzie@mitlift.com
END:VEVENT
BEGIN:VEVENT
DTSTART;TZID=America/Detroit:20250521T123000
DTEND;TZID=America/Detroit:20250521T123000
DTSTAMP:20260421T013212
CREATED:20250211T144718Z
LAST-MODIFIED:20250211T144843Z
UID:10000527-1747830600-1747830600@www.mitlift.com
SUMMARY:Toledo Aerial Training
DESCRIPTION:
URL:https://www.mitlift.com/event/toledo-aerial-training-2/
LOCATION:MIT Toledo\, 10406 Geiser Road\, Toledo\, OH\, 43528\, United States
CATEGORIES:Aerial,Aerial Toledo Training
ORGANIZER;CN="George Mackenzie":MAILTO:gmackenzie@mitlift.com
END:VEVENT
BEGIN:VEVENT
DTSTART;TZID=America/Detroit:20250521T083000
DTEND;TZID=America/Detroit:20250521T123000
DTSTAMP:20260421T013212
CREATED:20240726T200607Z
LAST-MODIFIED:20250514T175918Z
UID:10000493-1747816200-1747830600@www.mitlift.com
SUMMARY:Toledo Forklift Training
DESCRIPTION:
URL:https://www.mitlift.com/event/toledo-forklift-training-28/
LOCATION:MIT Toledo\, 10406 Geiser Road\, Toledo\, OH\, 43528\, United States
CATEGORIES:Forklift,Toledo Forklift Training
ORGANIZER;CN="George Mackenzie":MAILTO:gmackenzie@mitlift.com
END:VEVENT
BEGIN:VEVENT
DTSTART;TZID=America/Detroit:20250515T123000
DTEND;TZID=America/Detroit:20250515T123000
DTSTAMP:20260421T013212
CREATED:20240729T135428Z
LAST-MODIFIED:20250210T215412Z
UID:10000523-1747312200-1747312200@www.mitlift.com
SUMMARY:Findlay Aerial Training
DESCRIPTION:
URL:https://www.mitlift.com/event/findlay-aerial-training-41/
LOCATION:MIT Findlay\, 130 Stanford Pkwy\, Findlay\, OH\, 45840\, United States
CATEGORIES:Aerial,Aerial Findlay Training
ORGANIZER;CN="George Mackenzie":MAILTO:gmackenzie@mitlift.com
END:VEVENT
BEGIN:VEVENT
DTSTART;TZID=America/Detroit:20250515T080000
DTEND;TZID=America/Detroit:20250515T120000
DTSTAMP:20260421T013212
CREATED:20240726T161353Z
LAST-MODIFIED:20250211T144509Z
UID:10000470-1747296000-1747310400@www.mitlift.com
SUMMARY:Findlay Forklift Training
DESCRIPTION:
URL:https://www.mitlift.com/event/findlay-forklift-training-29/
LOCATION:MIT Findlay\, 130 Stanford Pkwy\, Findlay\, OH\, 45840\, United States
CATEGORIES:Findlay Forklift Training,Forklift
ORGANIZER;CN="George Mackenzie":MAILTO:gmackenzie@mitlift.com
END:VEVENT
BEGIN:VEVENT
DTSTART;TZID=America/Detroit:20250513T123000
DTEND;TZID=America/Detroit:20250513T123000
DTSTAMP:20260421T013212
CREATED:20240729T124744Z
LAST-MODIFIED:20240917T133446Z
UID:10000501-1747139400-1747139400@www.mitlift.com
SUMMARY:Troy Aerial Training
DESCRIPTION:
URL:https://www.mitlift.com/event/troy-aerial-training-30/
LOCATION:MIT Troy\, 1101 Horizon West Court\, Troy\, OH\, 45373\, United States
CATEGORIES:Aerial
ORGANIZER;CN="George Mackenzie":MAILTO:gmackenzie@mitlift.com
END:VEVENT
BEGIN:VEVENT
DTSTART;TZID=America/Detroit:20250513T080000
DTEND;TZID=America/Detroit:20250513T120000
DTSTAMP:20260421T013212
CREATED:20240726T185536Z
LAST-MODIFIED:20250421T134105Z
UID:10000482-1747123200-1747137600@www.mitlift.com
SUMMARY:Troy Forklift Training
DESCRIPTION:
URL:https://www.mitlift.com/event/troy-forklift-training-38/
LOCATION:MIT Troy\, 1101 Horizon West Court\, Troy\, OH\, 45373\, United States
CATEGORIES:Forklift,Troy Forklift Training
END:VEVENT
BEGIN:VEVENT
DTSTART;TZID=America/Detroit:20250507T083000
DTEND;TZID=America/Detroit:20250507T123000
DTSTAMP:20260421T013212
CREATED:20240725T174124Z
LAST-MODIFIED:20250422T142559Z
UID:10000448-1746606600-1746621000@www.mitlift.com
SUMMARY:Dayton Forklift Training
DESCRIPTION:
URL:https://www.mitlift.com/event/dayton-forklift-training-88/
LOCATION:MIT Dayton\, 2830 E. River Road\, Dayton\, OH\, 45439\, United States
CATEGORIES:Forklift,Forklift Training Dayton
END:VEVENT
BEGIN:VEVENT
DTSTART;TZID=America/Detroit:20250424T083000
DTEND;TZID=America/Detroit:20250424T120000
DTSTAMP:20260421T013212
CREATED:20240726T150225Z
LAST-MODIFIED:20250325T132528Z
UID:10000451-1745483400-1745496000@www.mitlift.com
SUMMARY:Dayton Forklift Training
DESCRIPTION:
URL:https://www.mitlift.com/event/dayton-forklift-training-91/
LOCATION:MIT Dayton\, 2830 E. River Road\, Dayton\, OH\, 45439\, United States
CATEGORIES:Forklift,Forklift Training Dayton
ORGANIZER;CN="George Mackenzie":MAILTO:gmackenzie@mitlift.com
END:VEVENT
END:VCALENDAR