BEGIN:VCALENDAR
VERSION:2.0
PRODID:-//Miami Industrial Trucks - ECPv6.15.20//NONSGML v1.0//EN
CALSCALE:GREGORIAN
METHOD:PUBLISH
X-WR-CALNAME:Miami Industrial Trucks
X-ORIGINAL-URL:https://www.mitlift.com
X-WR-CALDESC:Events for Miami Industrial Trucks
REFRESH-INTERVAL;VALUE=DURATION:PT1H
X-Robots-Tag:noindex
X-PUBLISHED-TTL:PT1H
BEGIN:VTIMEZONE
TZID:America/Detroit
BEGIN:DAYLIGHT
TZOFFSETFROM:-0500
TZOFFSETTO:-0400
TZNAME:EDT
DTSTART:20210314T070000
END:DAYLIGHT
BEGIN:STANDARD
TZOFFSETFROM:-0400
TZOFFSETTO:-0500
TZNAME:EST
DTSTART:20211107T060000
END:STANDARD
BEGIN:DAYLIGHT
TZOFFSETFROM:-0500
TZOFFSETTO:-0400
TZNAME:EDT
DTSTART:20220313T070000
END:DAYLIGHT
BEGIN:STANDARD
TZOFFSETFROM:-0400
TZOFFSETTO:-0500
TZNAME:EST
DTSTART:20221106T060000
END:STANDARD
BEGIN:DAYLIGHT
TZOFFSETFROM:-0500
TZOFFSETTO:-0400
TZNAME:EDT
DTSTART:20230312T070000
END:DAYLIGHT
BEGIN:STANDARD
TZOFFSETFROM:-0400
TZOFFSETTO:-0500
TZNAME:EST
DTSTART:20231105T060000
END:STANDARD
BEGIN:DAYLIGHT
TZOFFSETFROM:-0500
TZOFFSETTO:-0400
TZNAME:EDT
DTSTART:20240310T070000
END:DAYLIGHT
BEGIN:STANDARD
TZOFFSETFROM:-0400
TZOFFSETTO:-0500
TZNAME:EST
DTSTART:20241103T060000
END:STANDARD
END:VTIMEZONE
BEGIN:VEVENT
DTSTART;TZID=America/Detroit:20230223T083000
DTEND;TZID=America/Detroit:20230223T083000
DTSTAMP:20260422T181614
CREATED:20221026T161735Z
LAST-MODIFIED:20230209T153401Z
UID:10000158-1677141000-1677141000@www.mitlift.com
SUMMARY:Dayton Forklift Training
DESCRIPTION:
URL:https://www.mitlift.com/event/dayton-forklift-training-38/
LOCATION:MIT Dayton\, 2830 E. River Road\, Dayton\, OH\, 45439\, United States
CATEGORIES:Forklift,Forklift Training Dayton
ORGANIZER;CN="George Mackenzie":MAILTO:gmackenzie@mitlift.com
END:VEVENT
BEGIN:VEVENT
DTSTART;TZID=America/Detroit:20230216T123000
DTEND;TZID=America/Detroit:20230216T123000
DTSTAMP:20260422T181614
CREATED:20221213T171059Z
LAST-MODIFIED:20221213T171241Z
UID:10000207-1676550600-1676550600@www.mitlift.com
SUMMARY:Findlay - Aerial Training
DESCRIPTION:
URL:https://www.mitlift.com/event/findlay-aerial-training-14/
LOCATION:MIT Findlay\, 130 Stanford Pkwy\, Findlay\, OH\, 45840\, United States
CATEGORIES:Aerial
ORGANIZER;CN="George Mackenzie":MAILTO:gmackenzie@mitlift.com
END:VEVENT
BEGIN:VEVENT
DTSTART;TZID=America/Detroit:20230216T080000
DTEND;TZID=America/Detroit:20230216T080000
DTSTAMP:20260422T181614
CREATED:20221103T024247Z
LAST-MODIFIED:20230214T170321Z
UID:10000324-1676534400-1676534400@www.mitlift.com
SUMMARY:Findlay Forklift Training
DESCRIPTION:
URL:https://www.mitlift.com/event/findlay-forklift-training-february-16-2023/
LOCATION:MIT Findlay\, 130 Stanford Pkwy\, Findlay\, OH\, 45840\, United States
CATEGORIES:Findlay Forklift Training,Forklift
ORGANIZER;CN="George Mackenzie":MAILTO:gmackenzie@mitlift.com
END:VEVENT
BEGIN:VEVENT
DTSTART;TZID=America/Detroit:20230214T123000
DTEND;TZID=America/Detroit:20230214T123000
DTSTAMP:20260422T181614
CREATED:20221102T164056Z
LAST-MODIFIED:20230131T134821Z
UID:10000183-1676377800-1676377800@www.mitlift.com
SUMMARY:Troy Aerial Training - February 14\, 2023
DESCRIPTION:
URL:https://www.mitlift.com/event/troy-aerial-training-february-14-2023/
LOCATION:MIT Troy\, 1101 Horizon West Court\, Troy\, OH\, 45373\, United States
CATEGORIES:Aerial
ORGANIZER;CN="George Mackenzie":MAILTO:gmackenzie@mitlift.com
END:VEVENT
BEGIN:VEVENT
DTSTART;TZID=America/Detroit:20230214T080000
DTEND;TZID=America/Detroit:20230214T080000
DTSTAMP:20260422T181614
CREATED:20221104T153241Z
LAST-MODIFIED:20230131T134911Z
UID:10000202-1676361600-1676361600@www.mitlift.com
SUMMARY:Troy Forklift Training
DESCRIPTION:
URL:https://www.mitlift.com/event/troy-forklift-training-21/
LOCATION:MIT Troy\, 1101 Horizon West Court\, Troy\, OH\, 45373\, United States
CATEGORIES:Forklift,Troy Forklift Training
ORGANIZER;CN="George Mackenzie":MAILTO:gmackenzie@mitlift.com
END:VEVENT
BEGIN:VEVENT
DTSTART;TZID=America/Detroit:20230207T083000
DTEND;TZID=America/Detroit:20230207T083000
DTSTAMP:20260422T181614
CREATED:20221026T161413Z
LAST-MODIFIED:20230126T123549Z
UID:10000156-1675758600-1675758600@www.mitlift.com
SUMMARY:Dayton Forklift Training
DESCRIPTION:
URL:https://www.mitlift.com/event/dayton-forklift-training-37/
LOCATION:MIT Dayton\, 2830 E. River Road\, Dayton\, OH\, 45439\, United States
CATEGORIES:Forklift,Forklift Training Dayton
END:VEVENT
BEGIN:VEVENT
DTSTART;TZID=America/Detroit:20230131T080000
DTEND;TZID=America/Detroit:20230131T080000
DTSTAMP:20260422T181614
CREATED:20221103T183113Z
LAST-MODIFIED:20230110T201255Z
UID:10000335-1675152000-1675152000@www.mitlift.com
SUMMARY:Toledo Forklift Training
DESCRIPTION:
URL:https://www.mitlift.com/event/toledo-forklift-training-january-31-2023/
LOCATION:MIT Toledo\, 10406 Geiser Road\, Toledo\, OH\, 43528\, United States
CATEGORIES:Forklift,Toledo Forklift Training
ORGANIZER;CN="George Mackenzie":MAILTO:gmackenzie@mitlift.com
END:VEVENT
BEGIN:VEVENT
DTSTART;TZID=America/Detroit:20230126T083000
DTEND;TZID=America/Detroit:20230126T083000
DTSTAMP:20260422T181614
CREATED:20221026T154643Z
LAST-MODIFIED:20230112T183853Z
UID:10000154-1674721800-1674721800@www.mitlift.com
SUMMARY:Dayton Forklift Training
DESCRIPTION:
URL:https://www.mitlift.com/event/dayton-forklift-training-36/
LOCATION:MIT Dayton\, 2830 E. River Road\, Dayton\, OH\, 45439\, United States
CATEGORIES:Forklift,Forklift Training Dayton
ORGANIZER;CN="George Mackenzie":MAILTO:gmackenzie@mitlift.com
END:VEVENT
BEGIN:VEVENT
DTSTART;TZID=America/Detroit:20230119T123000
DTEND;TZID=America/Detroit:20230119T123000
DTSTAMP:20260422T181614
CREATED:20221213T170429Z
LAST-MODIFIED:20221213T170429Z
UID:10000206-1674131400-1674131400@www.mitlift.com
SUMMARY:Findlay - Aerial Training
DESCRIPTION:
URL:https://www.mitlift.com/event/findlay-aerial-training-13/
LOCATION:MIT Findlay\, 130 Stanford Pkwy\, Findlay\, OH\, 45840\, United States
CATEGORIES:Aerial
ORGANIZER;CN="George Mackenzie":MAILTO:gmackenzie@mitlift.com
END:VEVENT
BEGIN:VEVENT
DTSTART;TZID=America/Detroit:20230119T080000
DTEND;TZID=America/Detroit:20230119T080000
DTSTAMP:20260422T181614
CREATED:20221103T023417Z
LAST-MODIFIED:20230117T135641Z
UID:10000187-1674115200-1674115200@www.mitlift.com
SUMMARY:Findlay Forklift Training
DESCRIPTION:
URL:https://www.mitlift.com/event/findlay-forklift-training-january-19-2023/
LOCATION:MIT Findlay\, 130 Stanford Pkwy\, Findlay\, OH\, 45840\, United States
CATEGORIES:Forklift
ORGANIZER;CN="George Mackenzie":MAILTO:gmackenzie@mitlift.com
END:VEVENT
BEGIN:VEVENT
DTSTART;TZID=America/Detroit:20230117T123000
DTEND;TZID=America/Detroit:20230117T123000
DTSTAMP:20260422T181614
CREATED:20221102T164632Z
LAST-MODIFIED:20230112T184524Z
UID:10000185-1673958600-1673958600@www.mitlift.com
SUMMARY:Troy Aerial Training
DESCRIPTION:
URL:https://www.mitlift.com/event/troy-aerial-training-january-17-2023/
LOCATION:MIT Troy\, 1101 Horizon West Court\, Troy\, OH\, 45373\, United States
CATEGORIES:Aerial
ORGANIZER;CN="George Mackenzie":MAILTO:gmackenzie@mitlift.com
END:VEVENT
BEGIN:VEVENT
DTSTART;TZID=America/Detroit:20230117T080000
DTEND;TZID=America/Detroit:20230117T080000
DTSTAMP:20260422T181614
CREATED:20221104T152500Z
LAST-MODIFIED:20230109T125026Z
UID:10000200-1673942400-1673942400@www.mitlift.com
SUMMARY:Troy Forklift Training
DESCRIPTION:
URL:https://www.mitlift.com/event/troy-forklift-training-20/
LOCATION:MIT Troy\, 1101 Horizon West Court\, Troy\, OH\, 45373\, United States
CATEGORIES:Forklift,Troy Forklift Training
ORGANIZER;CN="George Mackenzie":MAILTO:gmackenzie@mitlift.com
END:VEVENT
BEGIN:VEVENT
DTSTART;TZID=America/Detroit:20230110T083000
DTEND;TZID=America/Detroit:20230110T083000
DTSTAMP:20260422T181614
CREATED:20221026T153034Z
LAST-MODIFIED:20230105T133635Z
UID:10000152-1673339400-1673339400@www.mitlift.com
SUMMARY:Dayton Forklift Training
DESCRIPTION:
URL:https://www.mitlift.com/event/dayton-forklift-training-35/
LOCATION:MIT Dayton\, 2830 E. River Road\, Dayton\, OH\, 45439\, United States
CATEGORIES:Forklift,Forklift Training Dayton
ORGANIZER;CN="George Mackenzie":MAILTO:gmackenzie@mitlift.com
END:VEVENT
BEGIN:VEVENT
DTSTART;TZID=America/Detroit:20221221T083000
DTEND;TZID=America/Detroit:20221221T140000
DTSTAMP:20260422T181614
CREATED:20211129T193016Z
LAST-MODIFIED:20211129T193016Z
UID:10000111-1671611400-1671631200@www.mitlift.com
SUMMARY:Dayton Forklift Training
DESCRIPTION:
URL:https://www.mitlift.com/event/dayton-forklift-training-34/
LOCATION:MIT Dayton\, 2830 E. River Road\, Dayton\, OH\, 45439\, United States
CATEGORIES:Forklift,Forklift Training Dayton
ORGANIZER;CN="George Mackenzie":MAILTO:gmackenzie@mitlift.com
END:VEVENT
BEGIN:VEVENT
DTSTART;TZID=America/Detroit:20221220T083000
DTEND;TZID=America/Detroit:20221220T140000
DTSTAMP:20260422T181614
CREATED:20211129T215820Z
LAST-MODIFIED:20221209T210527Z
UID:10000273-1671525000-1671544800@www.mitlift.com
SUMMARY:Toledo Forklift Training
DESCRIPTION:
URL:https://www.mitlift.com/event/toledo-forklift-training-12/
LOCATION:MIT Toledo\, 10406 Geiser Road\, Toledo\, OH\, 43528\, United States
CATEGORIES:Forklift,Forklift Training Toledo
ORGANIZER;CN="George Mackenzie":MAILTO:gmackenzie@mitlift.com
END:VEVENT
BEGIN:VEVENT
DTSTART;TZID=America/Detroit:20221214T120000
DTEND;TZID=America/Detroit:20221214T120000
DTSTAMP:20260422T181614
CREATED:20211129T200457Z
LAST-MODIFIED:20220302T185132Z
UID:10000261-1671019200-1671019200@www.mitlift.com
SUMMARY:Findlay Forklift Training
DESCRIPTION:
URL:https://www.mitlift.com/event/findlay-forklift-training-12/
LOCATION:MIT Findlay\, 130 Stanford Pkwy\, Findlay\, OH\, 45840\, United States
CATEGORIES:Findlay Forklift Training,Forklift
ORGANIZER;CN="George Mackenzie":MAILTO:gmackenzie@mitlift.com
END:VEVENT
BEGIN:VEVENT
DTSTART;TZID=America/Detroit:20221214T080000
DTEND;TZID=America/Detroit:20221214T080000
DTSTAMP:20260422T181614
CREATED:20211130T143300Z
LAST-MODIFIED:20220302T185054Z
UID:10000150-1671004800-1671004800@www.mitlift.com
SUMMARY:Findlay Aerial Training
DESCRIPTION:
URL:https://www.mitlift.com/event/findlay-aerial-training-12/
LOCATION:MIT Findlay\, 130 Stanford Pkwy\, Findlay\, OH\, 45840\, United States
CATEGORIES:Aerial
ORGANIZER;CN="George Mackenzie":MAILTO:gmackenzie@mitlift.com
END:VEVENT
BEGIN:VEVENT
DTSTART;TZID=America/Detroit:20221213T083000
DTEND;TZID=America/Detroit:20221213T140000
DTSTAMP:20260422T181614
CREATED:20211129T192902Z
LAST-MODIFIED:20221208T145708Z
UID:10000110-1670920200-1670940000@www.mitlift.com
SUMMARY:Dayton Forklift Training
DESCRIPTION:
URL:https://www.mitlift.com/event/dayton-forklift-training-33/
LOCATION:MIT Dayton\, 2830 E. River Road\, Dayton\, OH\, 45439\, United States
CATEGORIES:Forklift,Forklift Training Dayton
ORGANIZER;CN="George Mackenzie":MAILTO:gmackenzie@mitlift.com
END:VEVENT
BEGIN:VEVENT
DTSTART;TZID=America/Detroit:20221207T083000
DTEND;TZID=America/Detroit:20221207T140000
DTSTAMP:20260422T181614
CREATED:20211129T192730Z
LAST-MODIFIED:20211129T192730Z
UID:10000108-1670401800-1670421600@www.mitlift.com
SUMMARY:Dayton Forklift Training
DESCRIPTION:
URL:https://www.mitlift.com/event/dayton-forklift-training-32/
LOCATION:MIT Dayton\, 2830 E. River Road\, Dayton\, OH\, 45439\, United States
CATEGORIES:Forklift,Forklift Training Dayton
ORGANIZER;CN="George Mackenzie":MAILTO:gmackenzie@mitlift.com
END:VEVENT
BEGIN:VEVENT
DTSTART;TZID=America/Detroit:20221206T120000
DTEND;TZID=America/Detroit:20221206T120000
DTSTAMP:20260422T181614
CREATED:20211130T134435Z
LAST-MODIFIED:20221102T133439Z
UID:10000143-1670328000-1670328000@www.mitlift.com
SUMMARY:Troy Forklift Training
DESCRIPTION:
URL:https://www.mitlift.com/event/troy-forklift-training-12/
LOCATION:MIT Troy\, 1101 Horizon West Court\, Troy\, OH\, 45373\, United States
CATEGORIES:Forklift,Troy Forklift Training
ORGANIZER;CN="George Mackenzie":MAILTO:gmackenzie@mitlift.com
END:VEVENT
BEGIN:VEVENT
DTSTART;TZID=America/Detroit:20221206T080000
DTEND;TZID=America/Detroit:20221206T080000
DTSTAMP:20260422T181614
CREATED:20211130T141414Z
LAST-MODIFIED:20220302T184911Z
UID:10000287-1670313600-1670313600@www.mitlift.com
SUMMARY:Troy Aerial Training
DESCRIPTION:
URL:https://www.mitlift.com/event/troy-aerial-training-12/
LOCATION:MIT Troy\, 1101 Horizon West Court\, Troy\, OH\, 45373\, United States
CATEGORIES:Aerial
ORGANIZER;CN="George Mackenzie":MAILTO:gmackenzie@mitlift.com
END:VEVENT
BEGIN:VEVENT
DTSTART;TZID=America/Detroit:20221129T083000
DTEND;TZID=America/Detroit:20221129T140000
DTSTAMP:20260422T181614
CREATED:20211129T192557Z
LAST-MODIFIED:20211129T200609Z
UID:10000256-1669710600-1669730400@www.mitlift.com
SUMMARY:Dayton Forklift Training
DESCRIPTION:
URL:https://www.mitlift.com/event/dayton-forklift-training-31/
LOCATION:MIT Dayton\, 2830 E. River Road\, Dayton\, OH\, 45439\, United States
CATEGORIES:Forklift,Forklift Training Dayton
ORGANIZER;CN="George Mackenzie":MAILTO:gmackenzie@mitlift.com
END:VEVENT
BEGIN:VEVENT
DTSTART;TZID=America/Detroit:20221122T083000
DTEND;TZID=America/Detroit:20221122T140000
DTSTAMP:20260422T181614
CREATED:20211129T215630Z
LAST-MODIFIED:20221115T135135Z
UID:10000272-1669105800-1669125600@www.mitlift.com
SUMMARY:Toledo Forklift Training
DESCRIPTION:
URL:https://www.mitlift.com/event/toledo-forklift-training-11/
LOCATION:MIT Toledo\, 10406 Geiser Road\, Toledo\, OH\, 43528\, United States
CATEGORIES:Forklift,Toledo Forklift Training
ORGANIZER;CN="George Mackenzie":MAILTO:gmackenzie@mitlift.com
END:VEVENT
BEGIN:VEVENT
DTSTART;TZID=America/Detroit:20221115T083000
DTEND;TZID=America/Detroit:20221115T140000
DTSTAMP:20260422T181614
CREATED:20211129T192454Z
LAST-MODIFIED:20211129T192454Z
UID:10000255-1668501000-1668520800@www.mitlift.com
SUMMARY:Dayton Forklift Training
DESCRIPTION:
URL:https://www.mitlift.com/event/dayton-forklift-training-30/
LOCATION:MIT Dayton\, 2830 E. River Road\, Dayton\, OH\, 45439\, United States
CATEGORIES:Forklift,Forklift Training Dayton
ORGANIZER;CN="George Mackenzie":MAILTO:gmackenzie@mitlift.com
END:VEVENT
BEGIN:VEVENT
DTSTART;TZID=America/Detroit:20221110T120000
DTEND;TZID=America/Detroit:20221110T120000
DTSTAMP:20260422T181615
CREATED:20211130T134255Z
LAST-MODIFIED:20220302T184727Z
UID:10000141-1668081600-1668081600@www.mitlift.com
SUMMARY:Troy Forklift Training
DESCRIPTION:
URL:https://www.mitlift.com/event/troy-forklift-training-11/
LOCATION:MIT Troy\, 1101 Horizon West Court\, Troy\, OH\, 45373\, United States
CATEGORIES:Forklift,Troy Forklift Training
ORGANIZER;CN="George Mackenzie":MAILTO:gmackenzie@mitlift.com
END:VEVENT
BEGIN:VEVENT
DTSTART;TZID=America/Detroit:20221110T080000
DTEND;TZID=America/Detroit:20221110T080000
DTSTAMP:20260422T181615
CREATED:20211130T141254Z
LAST-MODIFIED:20220302T184546Z
UID:10000286-1668067200-1668067200@www.mitlift.com
SUMMARY:Troy Aerial Training
DESCRIPTION:
URL:https://www.mitlift.com/event/troy-aerial-training-11/
LOCATION:MIT Troy\, 1101 Horizon West Court\, Troy\, OH\, 45373\, United States
CATEGORIES:Aerial
ORGANIZER;CN="George Mackenzie":MAILTO:gmackenzie@mitlift.com
END:VEVENT
BEGIN:VEVENT
DTSTART;TZID=America/Detroit:20221108T120000
DTEND;TZID=America/Detroit:20221108T120000
DTSTAMP:20260422T181615
CREATED:20211129T200316Z
LAST-MODIFIED:20220302T184412Z
UID:10000260-1667908800-1667908800@www.mitlift.com
SUMMARY:Findlay Forklift Training
DESCRIPTION:
URL:https://www.mitlift.com/event/findlay-forklift-training-11/
LOCATION:MIT Findlay\, 130 Stanford Pkwy\, Findlay\, OH\, 45840\, United States
CATEGORIES:Findlay Forklift Training,Forklift
ORGANIZER;CN="George Mackenzie":MAILTO:gmackenzie@mitlift.com
END:VEVENT
BEGIN:VEVENT
DTSTART;TZID=America/Detroit:20221108T080000
DTEND;TZID=America/Detroit:20221108T080000
DTSTAMP:20260422T181615
CREATED:20211130T143127Z
LAST-MODIFIED:20220302T184319Z
UID:10000148-1667894400-1667894400@www.mitlift.com
SUMMARY:Findlay Aerial Training
DESCRIPTION:
URL:https://www.mitlift.com/event/findlay-aerial-training-11/
LOCATION:MIT Findlay\, 130 Stanford Pkwy\, Findlay\, OH\, 45840\, United States
CATEGORIES:Aerial
ORGANIZER;CN="George Mackenzie":MAILTO:gmackenzie@mitlift.com
END:VEVENT
BEGIN:VEVENT
DTSTART;TZID=America/Detroit:20221102T083000
DTEND;TZID=America/Detroit:20221102T140000
DTSTAMP:20260422T181615
CREATED:20211129T192331Z
LAST-MODIFIED:20221026T153021Z
UID:10000254-1667377800-1667397600@www.mitlift.com
SUMMARY:Dayton Forklift Training
DESCRIPTION:
URL:https://www.mitlift.com/event/dayton-forklift-training-29/
LOCATION:MIT Dayton\, 2830 E. River Road\, Dayton\, OH\, 45439\, United States
CATEGORIES:Forklift,Forklift Training Dayton
ORGANIZER;CN="George Mackenzie":MAILTO:gmackenzie@mitlift.com
END:VEVENT
BEGIN:VEVENT
DTSTART;TZID=America/Detroit:20221026T083000
DTEND;TZID=America/Detroit:20221026T140000
DTSTAMP:20260422T181615
CREATED:20211129T191237Z
LAST-MODIFIED:20211129T191237Z
UID:10000253-1666773000-1666792800@www.mitlift.com
SUMMARY:Dayton Forklift Training
DESCRIPTION:
URL:https://www.mitlift.com/event/dayton-forklift-training-28/
LOCATION:MIT Dayton\, 2830 E. River Road\, Dayton\, OH\, 45439\, United States
CATEGORIES:Forklift,Forklift Training Dayton
ORGANIZER;CN="George Mackenzie":MAILTO:gmackenzie@mitlift.com
END:VEVENT
END:VCALENDAR