BEGIN:VCALENDAR
VERSION:2.0
PRODID:-//Miami Industrial Trucks - ECPv6.15.20//NONSGML v1.0//EN
CALSCALE:GREGORIAN
METHOD:PUBLISH
X-WR-CALNAME:Miami Industrial Trucks
X-ORIGINAL-URL:https://www.mitlift.com
X-WR-CALDESC:Events for Miami Industrial Trucks
REFRESH-INTERVAL;VALUE=DURATION:PT1H
X-Robots-Tag:noindex
X-PUBLISHED-TTL:PT1H
BEGIN:VTIMEZONE
TZID:America/Detroit
BEGIN:DAYLIGHT
TZOFFSETFROM:-0500
TZOFFSETTO:-0400
TZNAME:EDT
DTSTART:20220313T070000
END:DAYLIGHT
BEGIN:STANDARD
TZOFFSETFROM:-0400
TZOFFSETTO:-0500
TZNAME:EST
DTSTART:20221106T060000
END:STANDARD
BEGIN:DAYLIGHT
TZOFFSETFROM:-0500
TZOFFSETTO:-0400
TZNAME:EDT
DTSTART:20230312T070000
END:DAYLIGHT
BEGIN:STANDARD
TZOFFSETFROM:-0400
TZOFFSETTO:-0500
TZNAME:EST
DTSTART:20231105T060000
END:STANDARD
BEGIN:DAYLIGHT
TZOFFSETFROM:-0500
TZOFFSETTO:-0400
TZNAME:EDT
DTSTART:20240310T070000
END:DAYLIGHT
BEGIN:STANDARD
TZOFFSETFROM:-0400
TZOFFSETTO:-0500
TZNAME:EST
DTSTART:20241103T060000
END:STANDARD
END:VTIMEZONE
BEGIN:VEVENT
DTSTART;TZID=America/Detroit:20230921T083000
DTEND;TZID=America/Detroit:20230921T083000
DTSTAMP:20260422T181811
CREATED:20221026T182858Z
LAST-MODIFIED:20230310T182442Z
UID:10000307-1695285000-1695285000@www.mitlift.com
SUMMARY:Dayton Forklift Training
DESCRIPTION:
URL:https://www.mitlift.com/event/dayton-forklift-training-50/
LOCATION:MIT Dayton\, 2830 E. River Road\, Dayton\, OH\, 45439\, United States
CATEGORIES:Forklift,Forklift Training Dayton
ORGANIZER;CN="George Mackenzie":MAILTO:gmackenzie@mitlift.com
END:VEVENT
BEGIN:VEVENT
DTSTART;TZID=America/Detroit:20230914T123000
DTEND;TZID=America/Detroit:20230914T123000
DTSTAMP:20260422T181811
CREATED:20221213T193050Z
LAST-MODIFIED:20230908T155930Z
UID:10000350-1694694600-1694694600@www.mitlift.com
SUMMARY:Findlay - Aerial Training
DESCRIPTION:
URL:https://www.mitlift.com/event/findlay-aerial-training-21/
LOCATION:MIT Findlay\, 130 Stanford Pkwy\, Findlay\, OH\, 45840\, United States
CATEGORIES:Aerial
ORGANIZER;CN="George Mackenzie":MAILTO:gmackenzie@mitlift.com
END:VEVENT
BEGIN:VEVENT
DTSTART;TZID=America/Detroit:20230914T080000
DTEND;TZID=America/Detroit:20230914T080000
DTSTAMP:20260422T181811
CREATED:20221103T031412Z
LAST-MODIFIED:20230908T155538Z
UID:10000331-1694678400-1694678400@www.mitlift.com
SUMMARY:Findlay Forklift Training - September 14\, 2023
DESCRIPTION:
URL:https://www.mitlift.com/event/findlay-forklift-training-september-14-2023/
LOCATION:MIT Findlay\, 130 Stanford Pkwy\, Findlay\, OH\, 45840\, United States
CATEGORIES:Findlay Forklift Training,Forklift
ORGANIZER;CN="George Mackenzie":MAILTO:gmackenzie@mitlift.com
END:VEVENT
BEGIN:VEVENT
DTSTART;TZID=America/Detroit:20230912T123000
DTEND;TZID=America/Detroit:20230912T123000
DTSTAMP:20260422T181811
CREATED:20221102T162953Z
LAST-MODIFIED:20230310T170623Z
UID:10000175-1694521800-1694521800@www.mitlift.com
SUMMARY:Troy Aerial Training -September 12\, 2023
DESCRIPTION:
URL:https://www.mitlift.com/event/troy-aerial-training-september-12-2023/
LOCATION:MIT Troy\, 1101 Horizon West Court\, Troy\, OH\, 45373\, United States
CATEGORIES:Aerial
ORGANIZER;CN="George Mackenzie":MAILTO:gmackenzie@mitlift.com
END:VEVENT
BEGIN:VEVENT
DTSTART;TZID=America/Detroit:20230912T080000
DTEND;TZID=America/Detroit:20230912T080000
DTSTAMP:20260422T181811
CREATED:20221102T160415Z
LAST-MODIFIED:20230809T141535Z
UID:10000318-1694505600-1694505600@www.mitlift.com
SUMMARY:Troy Forklift Training
DESCRIPTION:
URL:https://www.mitlift.com/event/troy-forklift-training-19/
LOCATION:MIT Troy\, 1101 Horizon West Court\, Troy\, OH\, 45373\, United States
CATEGORIES:Forklift,Troy Forklift Training
ORGANIZER;CN="George Mackenzie":MAILTO:gmackenzie@mitlift.com
END:VEVENT
BEGIN:VEVENT
DTSTART;TZID=America/Detroit:20230906T083000
DTEND;TZID=America/Detroit:20230906T083000
DTSTAMP:20260422T181811
CREATED:20221026T182707Z
LAST-MODIFIED:20230828T184937Z
UID:10000306-1693989000-1693989000@www.mitlift.com
SUMMARY:Dayton Forklift Training
DESCRIPTION:
URL:https://www.mitlift.com/event/dayton-forklift-training-49/
LOCATION:MIT Dayton\, 2830 E. River Road\, Dayton\, OH\, 45439\, United States
CATEGORIES:Forklift,Forklift Training Dayton
ORGANIZER;CN="George Mackenzie":MAILTO:gmackenzie@mitlift.com
END:VEVENT
BEGIN:VEVENT
DTSTART;TZID=America/Detroit:20230829T080000
DTEND;TZID=America/Detroit:20230829T080000
DTSTAMP:20260422T181811
CREATED:20221103T190308Z
LAST-MODIFIED:20230822T141014Z
UID:10000342-1693296000-1693296000@www.mitlift.com
SUMMARY:Toledo Forklift Training - August 29\, 2023
DESCRIPTION:
URL:https://www.mitlift.com/event/toledo-forklift-training-august-29-2023/
LOCATION:MIT Toledo\, 10406 Geiser Road\, Toledo\, OH\, 43528\, United States
CATEGORIES:Findlay Forklift Training,Forklift,Forklift Training Toledo,Toledo Forklift Training
ORGANIZER;CN="George Mackenzie":MAILTO:gmackenzie@mitlift.com
END:VEVENT
BEGIN:VEVENT
DTSTART;TZID=America/Detroit:20230824T083000
DTEND;TZID=America/Detroit:20230824T083000
DTSTAMP:20260422T181811
CREATED:20221026T182516Z
LAST-MODIFIED:20230817T185200Z
UID:10000305-1692865800-1692865800@www.mitlift.com
SUMMARY:Dayton Forklift Training
DESCRIPTION:
URL:https://www.mitlift.com/event/dayton-forklift-training-48/
LOCATION:MIT Dayton\, 2830 E. River Road\, Dayton\, OH\, 45439\, United States
CATEGORIES:Forklift,Forklift Training Dayton
ORGANIZER;CN="George Mackenzie":MAILTO:gmackenzie@mitlift.com
END:VEVENT
BEGIN:VEVENT
DTSTART;TZID=America/Detroit:20230817T123000
DTEND;TZID=America/Detroit:20230817T123000
DTSTAMP:20260422T181811
CREATED:20221213T192847Z
LAST-MODIFIED:20230310T165651Z
UID:10000349-1692275400-1692275400@www.mitlift.com
SUMMARY:Findlay - Aerial Training
DESCRIPTION:
URL:https://www.mitlift.com/event/findlay-aerial-training-20/
LOCATION:MIT Findlay\, 130 Stanford Pkwy\, Findlay\, OH\, 45840\, United States
CATEGORIES:Aerial
ORGANIZER;CN="George Mackenzie":MAILTO:gmackenzie@mitlift.com
END:VEVENT
BEGIN:VEVENT
DTSTART;TZID=America/Detroit:20230817T080000
DTEND;TZID=America/Detroit:20230817T080000
DTSTAMP:20260422T181811
CREATED:20221103T030823Z
LAST-MODIFIED:20230310T165448Z
UID:10000330-1692259200-1692259200@www.mitlift.com
SUMMARY:Findlay Forklift Training - August 17\, 2023
DESCRIPTION:
URL:https://www.mitlift.com/event/findlay-forklift-training-august-17-2023/
LOCATION:MIT Findlay\, 130 Stanford Pkwy\, Findlay\, OH\, 45840\, United States
CATEGORIES:Findlay Forklift Training,Forklift
ORGANIZER;CN="George Mackenzie":MAILTO:gmackenzie@mitlift.com
END:VEVENT
BEGIN:VEVENT
DTSTART;TZID=America/Detroit:20230815T123000
DTEND;TZID=America/Detroit:20230815T123000
DTSTAMP:20260422T181811
CREATED:20221102T163123Z
LAST-MODIFIED:20230310T165240Z
UID:10000176-1692102600-1692102600@www.mitlift.com
SUMMARY:Troy Aerial Training -August 15\, 2023
DESCRIPTION:
URL:https://www.mitlift.com/event/troy-aerial-training-august-15-2023/
LOCATION:MIT Troy\, 1101 Horizon West Court\, Troy\, OH\, 45373\, United States
CATEGORIES:Aerial
ORGANIZER;CN="George Mackenzie":MAILTO:gmackenzie@mitlift.com
END:VEVENT
BEGIN:VEVENT
DTSTART;TZID=America/Detroit:20230815T080000
DTEND;TZID=America/Detroit:20230815T080000
DTSTAMP:20260422T181811
CREATED:20221102T160240Z
LAST-MODIFIED:20230809T141239Z
UID:10000317-1692086400-1692086400@www.mitlift.com
SUMMARY:Troy Forklift Training
DESCRIPTION:
URL:https://www.mitlift.com/event/troy-forklift-training-18/
LOCATION:MIT Troy\, 1101 Horizon West Court\, Troy\, OH\, 45373\, United States
CATEGORIES:Forklift,Troy Forklift Training
ORGANIZER;CN="George Mackenzie":MAILTO:gmackenzie@mitlift.com
END:VEVENT
BEGIN:VEVENT
DTSTART;TZID=America/Detroit:20230808T083000
DTEND;TZID=America/Detroit:20230808T083000
DTSTAMP:20260422T181811
CREATED:20221026T182308Z
LAST-MODIFIED:20230720T125041Z
UID:10000304-1691483400-1691483400@www.mitlift.com
SUMMARY:Dayton Forklift Training
DESCRIPTION:
URL:https://www.mitlift.com/event/dayton-forklift-training-47/
LOCATION:MIT Dayton\, 2830 E. River Road\, Dayton\, OH\, 45439\, United States
CATEGORIES:Forklift,Forklift Training Dayton
ORGANIZER;CN="George Mackenzie":MAILTO:gmackenzie@mitlift.com
END:VEVENT
BEGIN:VEVENT
DTSTART;TZID=America/Detroit:20230727T083000
DTEND;TZID=America/Detroit:20230727T083000
DTSTAMP:20260422T181811
CREATED:20221026T182100Z
LAST-MODIFIED:20230718T143155Z
UID:10000303-1690446600-1690446600@www.mitlift.com
SUMMARY:Dayton Forklift Training
DESCRIPTION:
URL:https://www.mitlift.com/event/dayton-forklift-training-46/
LOCATION:MIT Dayton\, 2830 E. River Road\, Dayton\, OH\, 45439\, United States
CATEGORIES:Forklift,Forklift Training Dayton
ORGANIZER;CN="George Mackenzie":MAILTO:gmackenzie@mitlift.com
END:VEVENT
BEGIN:VEVENT
DTSTART;TZID=America/Detroit:20230725T080000
DTEND;TZID=America/Detroit:20230725T080000
DTSTAMP:20260422T181811
CREATED:20221103T190135Z
LAST-MODIFIED:20230524T014319Z
UID:10000341-1690272000-1690272000@www.mitlift.com
SUMMARY:Toledo Forklift Training
DESCRIPTION:
URL:https://www.mitlift.com/event/toledo-forklift-training-july-25-2023/
LOCATION:MIT Toledo\, 10406 Geiser Road\, Toledo\, OH\, 43528\, United States
CATEGORIES:Forklift,Forklift Training Toledo,Toledo Forklift Training
ORGANIZER;CN="George Mackenzie":MAILTO:gmackenzie@mitlift.com
END:VEVENT
BEGIN:VEVENT
DTSTART;TZID=America/Detroit:20230720T123000
DTEND;TZID=America/Detroit:20230720T123000
DTSTAMP:20260422T181811
CREATED:20221213T192514Z
LAST-MODIFIED:20230718T153030Z
UID:10000348-1689856200-1689856200@www.mitlift.com
SUMMARY:Findlay - Aerial Training
DESCRIPTION:
URL:https://www.mitlift.com/event/findlay-aerial-training-19/
LOCATION:MIT Findlay\, 130 Stanford Pkwy\, Findlay\, OH\, 45840\, United States
CATEGORIES:Aerial
ORGANIZER;CN="George Mackenzie":MAILTO:gmackenzie@mitlift.com
END:VEVENT
BEGIN:VEVENT
DTSTART;TZID=America/Detroit:20230720T080000
DTEND;TZID=America/Detroit:20230720T080000
DTSTAMP:20260422T181811
CREATED:20221103T030154Z
LAST-MODIFIED:20230718T152807Z
UID:10000329-1689840000-1689840000@www.mitlift.com
SUMMARY:Findlay Forklift Training
DESCRIPTION:
URL:https://www.mitlift.com/event/findlay-forklift-training-july-20-2023/
LOCATION:MIT Findlay\, 130 Stanford Pkwy\, Findlay\, OH\, 45840\, United States
CATEGORIES:Findlay Forklift Training,Forklift
ORGANIZER;CN="George Mackenzie":MAILTO:gmackenzie@mitlift.com
END:VEVENT
BEGIN:VEVENT
DTSTART;TZID=America/Detroit:20230718T123000
DTEND;TZID=America/Detroit:20230718T123000
DTSTAMP:20260422T181811
CREATED:20221102T163328Z
LAST-MODIFIED:20230707T145646Z
UID:10000177-1689683400-1689683400@www.mitlift.com
SUMMARY:Troy Aerial Training
DESCRIPTION:
URL:https://www.mitlift.com/event/troy-aerial-training-july-18-2023/
LOCATION:MIT Troy\, 1101 Horizon West Court\, Troy\, OH\, 45373\, United States
CATEGORIES:Aerial
ORGANIZER;CN="George Mackenzie":MAILTO:gmackenzie@mitlift.com
END:VEVENT
BEGIN:VEVENT
DTSTART;TZID=America/Detroit:20230718T080000
DTEND;TZID=America/Detroit:20230718T080000
DTSTAMP:20260422T181811
CREATED:20221102T160044Z
LAST-MODIFIED:20230707T145450Z
UID:10000316-1689667200-1689667200@www.mitlift.com
SUMMARY:Troy Forklift Training
DESCRIPTION:
URL:https://www.mitlift.com/event/troy-forklift-training-17/
LOCATION:MIT Troy\, 1101 Horizon West Court\, Troy\, OH\, 45373\, United States
CATEGORIES:Forklift,Troy Forklift Training
ORGANIZER;CN="George Mackenzie":MAILTO:gmackenzie@mitlift.com
END:VEVENT
BEGIN:VEVENT
DTSTART;TZID=America/Detroit:20230711T083000
DTEND;TZID=America/Detroit:20230711T083000
DTSTAMP:20260422T181811
CREATED:20221026T175952Z
LAST-MODIFIED:20230620T135219Z
UID:10000302-1689064200-1689064200@www.mitlift.com
SUMMARY:Dayton Forklift Training
DESCRIPTION:
URL:https://www.mitlift.com/event/dayton-forklift-training-45/
LOCATION:MIT Dayton\, 2830 E. River Road\, Dayton\, OH\, 45439\, United States
CATEGORIES:Forklift,Forklift Training Dayton
ORGANIZER;CN="George Mackenzie":MAILTO:gmackenzie@mitlift.com
END:VEVENT
BEGIN:VEVENT
DTSTART;TZID=America/Detroit:20230627T080000
DTEND;TZID=America/Detroit:20230627T080000
DTSTAMP:20260422T181811
CREATED:20221103T190012Z
LAST-MODIFIED:20230616T190443Z
UID:10000340-1687852800-1687852800@www.mitlift.com
SUMMARY:Toledo Forklift Training
DESCRIPTION:
URL:https://www.mitlift.com/event/toledo-forklift-training-june-27-2023/
LOCATION:MIT Toledo\, 10406 Geiser Road\, Toledo\, OH\, 43528\, United States
CATEGORIES:Forklift,Forklift Training Toledo,Toledo Forklift Training
ORGANIZER;CN="George Mackenzie":MAILTO:gmackenzie@mitlift.com
END:VEVENT
BEGIN:VEVENT
DTSTART;TZID=America/Detroit:20230622T083000
DTEND;TZID=America/Detroit:20230622T083000
DTSTAMP:20260422T181811
CREATED:20221026T175732Z
LAST-MODIFIED:20230608T125359Z
UID:10000301-1687422600-1687422600@www.mitlift.com
SUMMARY:Dayton Forklift Training
DESCRIPTION:
URL:https://www.mitlift.com/event/dayton-forklift-training-june-22-2023/
LOCATION:MIT Dayton\, 2830 E. River Road\, Dayton\, OH\, 45439\, United States
CATEGORIES:Forklift,Forklift Training Dayton
ORGANIZER;CN="George Mackenzie":MAILTO:gmackenzie@mitlift.com
END:VEVENT
BEGIN:VEVENT
DTSTART;TZID=America/Detroit:20230615T123000
DTEND;TZID=America/Detroit:20230615T123000
DTSTAMP:20260422T181811
CREATED:20221213T173632Z
LAST-MODIFIED:20230524T011840Z
UID:10000346-1686832200-1686832200@www.mitlift.com
SUMMARY:Findlay - Aerial Training
DESCRIPTION:
URL:https://www.mitlift.com/event/findlay-aerial-training-18/
LOCATION:MIT Findlay\, 130 Stanford Pkwy\, Findlay\, OH\, 45840\, United States
CATEGORIES:Aerial
ORGANIZER;CN="George Mackenzie":MAILTO:gmackenzie@mitlift.com
END:VEVENT
BEGIN:VEVENT
DTSTART;TZID=America/Detroit:20230615T080000
DTEND;TZID=America/Detroit:20230615T080000
DTSTAMP:20260422T181811
CREATED:20221103T025809Z
LAST-MODIFIED:20230310T154310Z
UID:10000328-1686816000-1686816000@www.mitlift.com
SUMMARY:Findlay Forklift Training
DESCRIPTION:
URL:https://www.mitlift.com/event/findlay-forklift-training-june-15-2023/
LOCATION:MIT Findlay\, 130 Stanford Pkwy\, Findlay\, OH\, 45840\, United States
CATEGORIES:Findlay Forklift Training,Forklift
ORGANIZER;CN="George Mackenzie":MAILTO:gmackenzie@mitlift.com
END:VEVENT
BEGIN:VEVENT
DTSTART;TZID=America/Detroit:20230613T123000
DTEND;TZID=America/Detroit:20230613T123000
DTSTAMP:20260422T181811
CREATED:20221213T173951Z
LAST-MODIFIED:20230524T011313Z
UID:10000347-1686659400-1686659400@www.mitlift.com
SUMMARY:Troy - Aerial Training
DESCRIPTION:
URL:https://www.mitlift.com/event/troy-aerial-training-13/
LOCATION:MIT Troy\, 1101 Horizon West Court\, Troy\, OH\, 45373\, United States
CATEGORIES:Aerial
ORGANIZER;CN="George Mackenzie":MAILTO:gmackenzie@mitlift.com
END:VEVENT
BEGIN:VEVENT
DTSTART;TZID=America/Detroit:20230613T080000
DTEND;TZID=America/Detroit:20230613T080000
DTSTAMP:20260422T181811
CREATED:20221104T162954Z
LAST-MODIFIED:20230602T184439Z
UID:10000204-1686643200-1686643200@www.mitlift.com
SUMMARY:Troy Forklift Training
DESCRIPTION:
URL:https://www.mitlift.com/event/troy-forklift-training-25/
LOCATION:MIT Troy\, 1101 Horizon West Court\, Troy\, OH\, 45373\, United States
CATEGORIES:Forklift,Troy Forklift Training
ORGANIZER;CN="George Mackenzie":MAILTO:gmackenzie@mitlift.com
END:VEVENT
BEGIN:VEVENT
DTSTART;TZID=America/Detroit:20230606T083000
DTEND;TZID=America/Detroit:20230606T083000
DTSTAMP:20260422T181811
CREATED:20221026T175534Z
LAST-MODIFIED:20230524T131508Z
UID:10000300-1686040200-1686040200@www.mitlift.com
SUMMARY:Dayton Forklift Training
DESCRIPTION:
URL:https://www.mitlift.com/event/dayton-forklift-training-june-6-2023/
LOCATION:MIT Dayton\, 2830 E. River Road\, Dayton\, OH\, 45439\, United States
CATEGORIES:Forklift,Forklift Training Dayton
ORGANIZER;CN="George Mackenzie":MAILTO:gmackenzie@mitlift.com
END:VEVENT
BEGIN:VEVENT
DTSTART;TZID=America/Detroit:20230523T080000
DTEND;TZID=America/Detroit:20230523T080000
DTSTAMP:20260422T181811
CREATED:20221103T185753Z
LAST-MODIFIED:20230503T135413Z
UID:10000339-1684828800-1684828800@www.mitlift.com
SUMMARY:Toledo Forklift Training
DESCRIPTION:
URL:https://www.mitlift.com/event/toledo-forklift-training-may-23-2023/
LOCATION:MIT Toledo\, 10406 Geiser Road\, Toledo\, OH\, 43528\, United States
CATEGORIES:Forklift,Forklift Training Toledo,Toledo Forklift Training
ORGANIZER;CN="George Mackenzie":MAILTO:gmackenzie@mitlift.com
END:VEVENT
BEGIN:VEVENT
DTSTART;TZID=America/Detroit:20230518T083000
DTEND;TZID=America/Detroit:20230518T083000
DTSTAMP:20260422T181811
CREATED:20221026T173653Z
LAST-MODIFIED:20230505T123202Z
UID:10000299-1684398600-1684398600@www.mitlift.com
SUMMARY:Dayton Forklift Training
DESCRIPTION:
URL:https://www.mitlift.com/event/dayton-forklift-training-44/
LOCATION:MIT Dayton\, 2830 E. River Road\, Dayton\, OH\, 45439\, United States
CATEGORIES:Forklift,Forklift Training Dayton
ORGANIZER;CN="George Mackenzie":MAILTO:gmackenzie@mitlift.com
END:VEVENT
BEGIN:VEVENT
DTSTART;TZID=America/Detroit:20230511T123000
DTEND;TZID=America/Detroit:20230511T123000
DTSTAMP:20260422T181811
CREATED:20221102T163626Z
LAST-MODIFIED:20230505T122949Z
UID:10000178-1683808200-1683808200@www.mitlift.com
SUMMARY:Findlay Aerial Training
DESCRIPTION:
URL:https://www.mitlift.com/event/troy-aerial-training-may-9-2023/
LOCATION:MIT Findlay\, 130 Stanford Pkwy\, Findlay\, OH\, 45840\, United States
CATEGORIES:Aerial
ORGANIZER;CN="George Mackenzie":MAILTO:gmackenzie@mitlift.com
END:VEVENT
END:VCALENDAR