BEGIN:VCALENDAR
VERSION:2.0
PRODID:-//Miami Industrial Trucks - ECPv6.15.20//NONSGML v1.0//EN
CALSCALE:GREGORIAN
METHOD:PUBLISH
X-WR-CALNAME:Miami Industrial Trucks
X-ORIGINAL-URL:https://www.mitlift.com
X-WR-CALDESC:Events for Miami Industrial Trucks
REFRESH-INTERVAL;VALUE=DURATION:PT1H
X-Robots-Tag:noindex
X-PUBLISHED-TTL:PT1H
BEGIN:VTIMEZONE
TZID:America/Detroit
BEGIN:DAYLIGHT
TZOFFSETFROM:-0500
TZOFFSETTO:-0400
TZNAME:EDT
DTSTART:20250309T070000
END:DAYLIGHT
BEGIN:STANDARD
TZOFFSETFROM:-0400
TZOFFSETTO:-0500
TZNAME:EST
DTSTART:20251102T060000
END:STANDARD
BEGIN:DAYLIGHT
TZOFFSETFROM:-0500
TZOFFSETTO:-0400
TZNAME:EDT
DTSTART:20260308T070000
END:DAYLIGHT
BEGIN:STANDARD
TZOFFSETFROM:-0400
TZOFFSETTO:-0500
TZNAME:EST
DTSTART:20261101T060000
END:STANDARD
BEGIN:DAYLIGHT
TZOFFSETFROM:-0500
TZOFFSETTO:-0400
TZNAME:EDT
DTSTART:20270314T070000
END:DAYLIGHT
BEGIN:STANDARD
TZOFFSETFROM:-0400
TZOFFSETTO:-0500
TZNAME:EST
DTSTART:20271107T060000
END:STANDARD
END:VTIMEZONE
BEGIN:VEVENT
DTSTART;TZID=America/Detroit:20260422T083000
DTEND;TZID=America/Detroit:20260422T083000
DTSTAMP:20260420T220359
CREATED:20250911T134747Z
LAST-MODIFIED:20250911T134802Z
UID:10000575-1776846600-1776846600@www.mitlift.com
SUMMARY:Toledo Forklift Training
DESCRIPTION:
URL:https://www.mitlift.com/event/toledo-forklift-training-40/
LOCATION:MIT Toledo\, 10406 Geiser Road\, Toledo\, OH\, 43528\, United States
CATEGORIES:Forklift,Forklift Training Toledo
END:VEVENT
BEGIN:VEVENT
DTSTART;TZID=America/Detroit:20260416T123000
DTEND;TZID=America/Detroit:20260416T123000
DTSTAMP:20260420T220359
CREATED:20250911T160343Z
LAST-MODIFIED:20250911T160354Z
UID:10000599-1776342600-1776342600@www.mitlift.com
SUMMARY:Findlay Aerial Training
DESCRIPTION:
URL:https://www.mitlift.com/event/findlay-aerial-training-51/
LOCATION:MIT Findlay\, 130 Stanford Pkwy\, Findlay\, OH\, 45840\, United States
CATEGORIES:Aerial,Aerial Findlay Training
ORGANIZER;CN="George Mackenzie":MAILTO:gmackenzie@mitlift.com
END:VEVENT
BEGIN:VEVENT
DTSTART;TZID=America/Detroit:20260416T080000
DTEND;TZID=America/Detroit:20260416T080000
DTSTAMP:20260420T220359
CREATED:20250911T122831Z
LAST-MODIFIED:20250911T122848Z
UID:10000563-1776326400-1776326400@www.mitlift.com
SUMMARY:Findlay Forklift Training
DESCRIPTION:
URL:https://www.mitlift.com/event/findlay-forklift-training-41/
LOCATION:MIT Findlay\, 130 Stanford Pkwy\, Findlay\, OH\, 45840\, United States
CATEGORIES:Findlay Forklift Training,Forklift
ORGANIZER;CN="George Mackenzie":MAILTO:gmackenzie@mitlift.com
END:VEVENT
BEGIN:VEVENT
DTSTART;TZID=America/Detroit:20260414T123000
DTEND;TZID=America/Detroit:20260414T123000
DTSTAMP:20260420T220359
CREATED:20250911T165641Z
LAST-MODIFIED:20250911T165654Z
UID:10000623-1776169800-1776169800@www.mitlift.com
SUMMARY:Troy Aerial Training
DESCRIPTION:
URL:https://www.mitlift.com/event/troy-aerial-training-41/
LOCATION:MIT Troy\, 1101 Horizon West Court\, Troy\, OH\, 45373\, United States
CATEGORIES:Aerial,Aerial Troy Training
ORGANIZER;CN="George Mackenzie":MAILTO:gmackenzie@mitlift.com
END:VEVENT
BEGIN:VEVENT
DTSTART;TZID=America/Detroit:20260414T080000
DTEND;TZID=America/Detroit:20260414T080000
DTSTAMP:20260420T220359
CREATED:20250911T151546Z
LAST-MODIFIED:20250911T151600Z
UID:10000587-1776153600-1776153600@www.mitlift.com
SUMMARY:Troy Forklift Training
DESCRIPTION:
URL:https://www.mitlift.com/event/troy-forklift-training-50/
LOCATION:MIT Troy\, 1101 Horizon West Court\, Troy\, OH\, 45373\, United States
CATEGORIES:Forklift,Troy Forklift Training
ORGANIZER;CN="George Mackenzie":MAILTO:gmackenzie@mitlift.com
END:VEVENT
BEGIN:VEVENT
DTSTART;TZID=America/Detroit:20260401T083000
DTEND;TZID=America/Detroit:20260401T083000
DTSTAMP:20260420T220359
CREATED:20250910T193835Z
LAST-MODIFIED:20260324T135957Z
UID:10000542-1775032200-1775032200@www.mitlift.com
SUMMARY:Dayton Forklift Training
DESCRIPTION:
URL:https://www.mitlift.com/event/dayton-forklift-training-112/
LOCATION:MIT Dayton\, 2830 E. River Road\, Dayton\, OH\, 45439\, United States
CATEGORIES:Forklift,Forklift Training Dayton
ORGANIZER;CN="George Mackenzie":MAILTO:gmackenzie@mitlift.com
END:VEVENT
BEGIN:VEVENT
DTSTART;TZID=America/Detroit:20260325T123000
DTEND;TZID=America/Detroit:20260325T123000
DTSTAMP:20260420T220359
CREATED:20250911T163227Z
LAST-MODIFIED:20260203T154927Z
UID:10000610-1774441800-1774441800@www.mitlift.com
SUMMARY:Toledo Aerial Training
DESCRIPTION:
URL:https://www.mitlift.com/event/toledo-aerial-training-12/
LOCATION:MIT Toledo\, 10406 Geiser Road\, Toledo\, OH\, 43528\, United States
CATEGORIES:Aerial,Aerial Toledo Training
ORGANIZER;CN="George Mackenzie":MAILTO:gmackenzie@mitlift.com
END:VEVENT
BEGIN:VEVENT
DTSTART;TZID=America/Detroit:20260325T083000
DTEND;TZID=America/Detroit:20260325T083000
DTSTAMP:20260420T220359
CREATED:20250911T131258Z
LAST-MODIFIED:20260203T154727Z
UID:10000574-1774427400-1774427400@www.mitlift.com
SUMMARY:Toledo Forklift Training
DESCRIPTION:
URL:https://www.mitlift.com/event/toledo-forklift-training-39/
LOCATION:MIT Toledo\, 10406 Geiser Road\, Toledo\, OH\, 43528\, United States
CATEGORIES:Forklift,Forklift Training Toledo
ORGANIZER;CN="George Mackenzie":MAILTO:gmackenzie@mitlift.com
END:VEVENT
BEGIN:VEVENT
DTSTART;TZID=America/Detroit:20260319T083000
DTEND;TZID=America/Detroit:20260319T083000
DTSTAMP:20260420T220359
CREATED:20250910T193621Z
LAST-MODIFIED:20260304T201646Z
UID:10000541-1773909000-1773909000@www.mitlift.com
SUMMARY:Dayton Forklift Training
DESCRIPTION:
URL:https://www.mitlift.com/event/dayton-forklift-training-111/
LOCATION:MIT Dayton\, 2830 E. River Road\, Dayton\, OH\, 45439\, United States
CATEGORIES:Forklift,Forklift Training Dayton
ORGANIZER;CN="George Mackenzie":MAILTO:gmackenzie@mitlift.com
END:VEVENT
BEGIN:VEVENT
DTSTART;TZID=America/Detroit:20260312T123000
DTEND;TZID=America/Detroit:20260312T123000
DTSTAMP:20260420T220359
CREATED:20250911T160145Z
LAST-MODIFIED:20250911T160158Z
UID:10000598-1773318600-1773318600@www.mitlift.com
SUMMARY:Findlay Aerial Training
DESCRIPTION:
URL:https://www.mitlift.com/event/findlay-aerial-training-50/
LOCATION:MIT Findlay\, 130 Stanford Pkwy\, Findlay\, OH\, 45840\, United States
CATEGORIES:Aerial,Aerial Findlay Training
ORGANIZER;CN="George Mackenzie":MAILTO:gmackenzie@mitlift.com
END:VEVENT
BEGIN:VEVENT
DTSTART;TZID=America/Detroit:20260312T080000
DTEND;TZID=America/Detroit:20260312T080000
DTSTAMP:20260420T220359
CREATED:20250911T122604Z
LAST-MODIFIED:20250911T122625Z
UID:10000562-1773302400-1773302400@www.mitlift.com
SUMMARY:Findlay Forklift Training
DESCRIPTION:
URL:https://www.mitlift.com/event/findlay-forklift-training-40/
LOCATION:MIT Findlay\, 130 Stanford Pkwy\, Findlay\, OH\, 45840\, United States
CATEGORIES:Findlay Forklift Training,Forklift
ORGANIZER;CN="George Mackenzie":MAILTO:gmackenzie@mitlift.com
END:VEVENT
BEGIN:VEVENT
DTSTART;TZID=America/Detroit:20260310T123000
DTEND;TZID=America/Detroit:20260310T123000
DTSTAMP:20260420T220359
CREATED:20260226T190653Z
LAST-MODIFIED:20260226T190653Z
UID:10000637-1773145800-1773145800@www.mitlift.com
SUMMARY:Troy Aerial Training March 10
DESCRIPTION:
URL:https://www.mitlift.com/event/troy-aerial-training-march-10/
LOCATION:MIT Troy\, 1101 Horizon West Court\, Troy\, OH\, 45373\, United States
CATEGORIES:Aerial,Aerial Troy Training
ORGANIZER;CN="George Mackenzie":MAILTO:gmackenzie@mitlift.com
END:VEVENT
BEGIN:VEVENT
DTSTART;TZID=America/Detroit:20260310T080000
DTEND;TZID=America/Detroit:20260310T080000
DTSTAMP:20260420T220359
CREATED:20250911T151306Z
LAST-MODIFIED:20260305T153540Z
UID:10000586-1773129600-1773129600@www.mitlift.com
SUMMARY:Troy Forklift Training
DESCRIPTION:
URL:https://www.mitlift.com/event/troy-forklift-training-49/
LOCATION:MIT Troy\, 1101 Horizon West Court\, Troy\, OH\, 45373\, United States
CATEGORIES:Forklift,Troy Forklift Training
ORGANIZER;CN="George Mackenzie":MAILTO:gmackenzie@mitlift.com
END:VEVENT
BEGIN:VEVENT
DTSTART;TZID=America/Detroit:20260304T083000
DTEND;TZID=America/Detroit:20260304T083000
DTSTAMP:20260420T220359
CREATED:20250910T193331Z
LAST-MODIFIED:20260218T151440Z
UID:10000540-1772613000-1772613000@www.mitlift.com
SUMMARY:Dayton Forklift Training
DESCRIPTION:
URL:https://www.mitlift.com/event/dayton-forklift-training-110/
LOCATION:MIT Dayton\, 2830 E. River Road\, Dayton\, OH\, 45439\, United States
CATEGORIES:Forklift,Forklift Training Dayton
ORGANIZER;CN="George Mackenzie":MAILTO:gmackenzie@mitlift.com
END:VEVENT
BEGIN:VEVENT
DTSTART;TZID=America/Detroit:20260225T123000
DTEND;TZID=America/Detroit:20260225T123000
DTSTAMP:20260420T220359
CREATED:20250911T163034Z
LAST-MODIFIED:20260202T162642Z
UID:10000609-1772022600-1772022600@www.mitlift.com
SUMMARY:Toledo Aerial Training
DESCRIPTION:
URL:https://www.mitlift.com/event/toledo-aerial-training-11/
LOCATION:MIT Toledo\, 10406 Geiser Road\, Toledo\, OH\, 43528\, United States
CATEGORIES:Aerial,Aerial Toledo Training
ORGANIZER;CN="George Mackenzie":MAILTO:gmackenzie@mitlift.com
END:VEVENT
BEGIN:VEVENT
DTSTART;TZID=America/Detroit:20260225T083000
DTEND;TZID=America/Detroit:20260225T083000
DTSTAMP:20260420T220359
CREATED:20250911T131016Z
LAST-MODIFIED:20250911T131030Z
UID:10000573-1772008200-1772008200@www.mitlift.com
SUMMARY:Toledo Forklift Training
DESCRIPTION:
URL:https://www.mitlift.com/event/toledo-forklift-training-38/
LOCATION:MIT Toledo\, 10406 Geiser Road\, Toledo\, OH\, 43528\, United States
CATEGORIES:Forklift,Forklift Training Toledo
ORGANIZER;CN="George Mackenzie":MAILTO:gmackenzie@mitlift.com
END:VEVENT
BEGIN:VEVENT
DTSTART;TZID=America/Detroit:20260219T083000
DTEND;TZID=America/Detroit:20260219T083000
DTSTAMP:20260420T220359
CREATED:20250910T192959Z
LAST-MODIFIED:20250910T193119Z
UID:10000539-1771489800-1771489800@www.mitlift.com
SUMMARY:Dayton Forklift Training
DESCRIPTION:
URL:https://www.mitlift.com/event/dayton-forklift-training-109/
LOCATION:MIT Dayton\, 2830 E. River Road\, Dayton\, OH\, 45439\, United States
CATEGORIES:Forklift,Forklift Training Dayton
ORGANIZER;CN="George Mackenzie":MAILTO:gmackenzie@mitlift.com
END:VEVENT
BEGIN:VEVENT
DTSTART;TZID=America/Detroit:20260212T123000
DTEND;TZID=America/Detroit:20260212T123000
DTSTAMP:20260420T220359
CREATED:20250911T155853Z
LAST-MODIFIED:20250911T155916Z
UID:10000597-1770899400-1770899400@www.mitlift.com
SUMMARY:Findlay Aerial Training
DESCRIPTION:
URL:https://www.mitlift.com/event/findlay-aerial-training-49/
LOCATION:MIT Findlay\, 130 Stanford Pkwy\, Findlay\, OH\, 45840\, United States
CATEGORIES:Aerial,Aerial Findlay Training
ORGANIZER;CN="George Mackenzie":MAILTO:gmackenzie@mitlift.com
END:VEVENT
BEGIN:VEVENT
DTSTART;TZID=America/Detroit:20260212T080000
DTEND;TZID=America/Detroit:20260212T080000
DTSTAMP:20260420T220359
CREATED:20250911T122336Z
LAST-MODIFIED:20260206T140709Z
UID:10000561-1770883200-1770883200@www.mitlift.com
SUMMARY:Findlay Forklift Training
DESCRIPTION:
URL:https://www.mitlift.com/event/findlay-forklift-training-39/
LOCATION:MIT Findlay\, 130 Stanford Pkwy\, Findlay\, OH\, 45840\, United States
CATEGORIES:Findlay Forklift Training,Forklift
ORGANIZER;CN="George Mackenzie":MAILTO:gmackenzie@mitlift.com
END:VEVENT
BEGIN:VEVENT
DTSTART;TZID=America/Detroit:20260210T123000
DTEND;TZID=America/Detroit:20260210T123000
DTSTAMP:20260420T220359
CREATED:20260120T132859Z
LAST-MODIFIED:20260120T142308Z
UID:10000633-1770726600-1770726600@www.mitlift.com
SUMMARY:Troy Aerial Training
DESCRIPTION:
URL:https://www.mitlift.com/event/troy-aerial-training-52/
LOCATION:MIT Troy\, 1101 Horizon West Court\, Troy\, OH\, 45373\, United States
CATEGORIES:Aerial,Aerial Troy Training
ORGANIZER;CN="George Mackenzie":MAILTO:gmackenzie@mitlift.com
END:VEVENT
BEGIN:VEVENT
DTSTART;TZID=America/Detroit:20260210T080000
DTEND;TZID=America/Detroit:20260210T080000
DTSTAMP:20260420T220359
CREATED:20250911T151112Z
LAST-MODIFIED:20250911T151124Z
UID:10000585-1770710400-1770710400@www.mitlift.com
SUMMARY:Troy Forklift Training
DESCRIPTION:
URL:https://www.mitlift.com/event/troy-forklift-training-48/
LOCATION:MIT Troy\, 1101 Horizon West Court\, Troy\, OH\, 45373\, United States
CATEGORIES:Forklift,Troy Forklift Training
ORGANIZER;CN="George Mackenzie":MAILTO:gmackenzie@mitlift.com
END:VEVENT
BEGIN:VEVENT
DTSTART;TZID=America/Detroit:20260204T083000
DTEND;TZID=America/Detroit:20260204T083000
DTSTAMP:20260420T220359
CREATED:20250910T192628Z
LAST-MODIFIED:20260127T191833Z
UID:10000538-1770193800-1770193800@www.mitlift.com
SUMMARY:Dayton Forklift Training
DESCRIPTION:
URL:https://www.mitlift.com/event/dayton-forklift-training-108/
LOCATION:MIT Dayton\, 2830 E. River Road\, Dayton\, OH\, 45439\, United States
CATEGORIES:Forklift,Forklift Training Dayton
ORGANIZER;CN="George Mackenzie":MAILTO:gmackenzie@mitlift.com
END:VEVENT
BEGIN:VEVENT
DTSTART;TZID=America/Detroit:20260122T083000
DTEND;TZID=America/Detroit:20260122T083000
DTSTAMP:20260420T220359
CREATED:20250910T191924Z
LAST-MODIFIED:20260119T182324Z
UID:10000537-1769070600-1769070600@www.mitlift.com
SUMMARY:Dayton Forklift Training
DESCRIPTION:
URL:https://www.mitlift.com/event/dayton-forklift-training-107/
LOCATION:MIT Dayton\, 2830 E. River Road\, Dayton\, OH\, 45439\, United States
CATEGORIES:Forklift,Forklift Training Dayton
ORGANIZER;CN="George Mackenzie":MAILTO:gmackenzie@mitlift.com
END:VEVENT
BEGIN:VEVENT
DTSTART;TZID=America/Detroit:20260121T123000
DTEND;TZID=America/Detroit:20260121T123000
DTSTAMP:20260420T220359
CREATED:20250911T162522Z
LAST-MODIFIED:20250911T162541Z
UID:10000608-1768998600-1768998600@www.mitlift.com
SUMMARY:Toledo Aerial Training
DESCRIPTION:
URL:https://www.mitlift.com/event/toledo-aerial-training-10/
LOCATION:MIT Toledo\, 10406 Geiser Road\, Toledo\, OH\, 43528\, United States
CATEGORIES:Aerial,Aerial Toledo Training
ORGANIZER;CN="George Mackenzie":MAILTO:gmackenzie@mitlift.com
END:VEVENT
BEGIN:VEVENT
DTSTART;TZID=America/Detroit:20260121T083000
DTEND;TZID=America/Detroit:20260121T083000
DTSTAMP:20260420T220359
CREATED:20250911T130721Z
LAST-MODIFIED:20250911T130735Z
UID:10000572-1768984200-1768984200@www.mitlift.com
SUMMARY:Toledo Forklift Training
DESCRIPTION:
URL:https://www.mitlift.com/event/toledo-forklift-training-37/
LOCATION:MIT Toledo\, 10406 Geiser Road\, Toledo\, OH\, 43528\, United States
CATEGORIES:Forklift,Forklift Training Toledo
ORGANIZER;CN="George Mackenzie":MAILTO:gmackenzie@mitlift.com
END:VEVENT
BEGIN:VEVENT
DTSTART;TZID=America/Detroit:20260115T123000
DTEND;TZID=America/Detroit:20260115T123000
DTSTAMP:20260420T220359
CREATED:20250911T155652Z
LAST-MODIFIED:20250911T155706Z
UID:10000596-1768480200-1768480200@www.mitlift.com
SUMMARY:Findlay Aerial Training
DESCRIPTION:
URL:https://www.mitlift.com/event/findlay-aerial-training-39/
LOCATION:MIT Findlay\, 130 Stanford Pkwy\, Findlay\, OH\, 45840\, United States
CATEGORIES:Aerial,Aerial Findlay Training
ORGANIZER;CN="George Mackenzie":MAILTO:gmackenzie@mitlift.com
END:VEVENT
BEGIN:VEVENT
DTSTART;TZID=America/Detroit:20260115T080000
DTEND;TZID=America/Detroit:20260115T080000
DTSTAMP:20260420T220359
CREATED:20250911T121906Z
LAST-MODIFIED:20250911T121940Z
UID:10000560-1768464000-1768464000@www.mitlift.com
SUMMARY:Findlay Forklift Training
DESCRIPTION:
URL:https://www.mitlift.com/event/findlay-forklift-training-38/
LOCATION:MIT Findlay\, 130 Stanford Pkwy\, Findlay\, OH\, 45840\, United States
CATEGORIES:Findlay Forklift Training,Forklift
ORGANIZER;CN="George Mackenzie":MAILTO:gmackenzie@mitlift.com
END:VEVENT
BEGIN:VEVENT
DTSTART;TZID=America/Detroit:20260113T123000
DTEND;TZID=America/Detroit:20260113T123000
DTSTAMP:20260420T220359
CREATED:20250911T165130Z
LAST-MODIFIED:20250911T165144Z
UID:10000620-1768307400-1768307400@www.mitlift.com
SUMMARY:Troy Aerial Training
DESCRIPTION:
URL:https://www.mitlift.com/event/troy-aerial-training-28/
LOCATION:MIT Troy\, 1101 Horizon West Court\, Troy\, OH\, 45373\, United States
CATEGORIES:Aerial,Aerial Troy Training
ORGANIZER;CN="George Mackenzie":MAILTO:gmackenzie@mitlift.com
END:VEVENT
BEGIN:VEVENT
DTSTART;TZID=America/Detroit:20260113T080000
DTEND;TZID=America/Detroit:20260113T080000
DTSTAMP:20260420T220359
CREATED:20250911T150831Z
LAST-MODIFIED:20250911T150849Z
UID:10000584-1768291200-1768291200@www.mitlift.com
SUMMARY:Troy Forklift Training
DESCRIPTION:
URL:https://www.mitlift.com/event/troy-forklift-training-47/
LOCATION:MIT Troy\, 1101 Horizon West Court\, Troy\, OH\, 45373\, United States
CATEGORIES:Forklift,Troy Forklift Training
ORGANIZER;CN="George Mackenzie":MAILTO:gmackenzie@mitlift.com
END:VEVENT
BEGIN:VEVENT
DTSTART;TZID=America/Detroit:20260107T083000
DTEND;TZID=America/Detroit:20260107T083000
DTSTAMP:20260420T220359
CREATED:20250910T191349Z
LAST-MODIFIED:20250910T192259Z
UID:10000536-1767774600-1767774600@www.mitlift.com
SUMMARY:Dayton Forklift Training
DESCRIPTION:
URL:https://www.mitlift.com/event/dayton-forklift-training-106/
LOCATION:MIT Dayton\, 2830 E. River Road\, Dayton\, OH\, 45439\, United States
CATEGORIES:Forklift,Forklift Training Dayton
ORGANIZER;CN="George Mackenzie":MAILTO:gmackenzie@mitlift.com
END:VEVENT
END:VCALENDAR