BEGIN:VCALENDAR
VERSION:2.0
PRODID:-//Miami Industrial Trucks - ECPv6.15.20//NONSGML v1.0//EN
CALSCALE:GREGORIAN
METHOD:PUBLISH
X-WR-CALNAME:Miami Industrial Trucks
X-ORIGINAL-URL:https://www.mitlift.com
X-WR-CALDESC:Events for Miami Industrial Trucks
REFRESH-INTERVAL;VALUE=DURATION:PT1H
X-Robots-Tag:noindex
X-PUBLISHED-TTL:PT1H
BEGIN:VTIMEZONE
TZID:America/Detroit
BEGIN:DAYLIGHT
TZOFFSETFROM:-0500
TZOFFSETTO:-0400
TZNAME:EDT
DTSTART:20220313T070000
END:DAYLIGHT
BEGIN:STANDARD
TZOFFSETFROM:-0400
TZOFFSETTO:-0500
TZNAME:EST
DTSTART:20221106T060000
END:STANDARD
BEGIN:DAYLIGHT
TZOFFSETFROM:-0500
TZOFFSETTO:-0400
TZNAME:EDT
DTSTART:20230312T070000
END:DAYLIGHT
BEGIN:STANDARD
TZOFFSETFROM:-0400
TZOFFSETTO:-0500
TZNAME:EST
DTSTART:20231105T060000
END:STANDARD
BEGIN:DAYLIGHT
TZOFFSETFROM:-0500
TZOFFSETTO:-0400
TZNAME:EDT
DTSTART:20240310T070000
END:DAYLIGHT
BEGIN:STANDARD
TZOFFSETFROM:-0400
TZOFFSETTO:-0500
TZNAME:EST
DTSTART:20241103T060000
END:STANDARD
BEGIN:DAYLIGHT
TZOFFSETFROM:-0500
TZOFFSETTO:-0400
TZNAME:EDT
DTSTART:20250309T070000
END:DAYLIGHT
BEGIN:STANDARD
TZOFFSETFROM:-0400
TZOFFSETTO:-0500
TZNAME:EST
DTSTART:20251102T060000
END:STANDARD
END:VTIMEZONE
BEGIN:VEVENT
DTSTART;TZID=America/Detroit:20240320T080000
DTEND;TZID=America/Detroit:20240320T080000
DTSTAMP:20260421T205107
CREATED:20231101T195417Z
LAST-MODIFIED:20231101T195417Z
UID:10000397-1710921600-1710921600@www.mitlift.com
SUMMARY:Toledo Forklift Training
DESCRIPTION:
URL:https://www.mitlift.com/event/toledo-forklift-training-15/
LOCATION:MIT Toledo\, 10406 Geiser Road\, Toledo\, OH\, 43528\, United States
CATEGORIES:Forklift,Forklift Training Toledo,Toledo Forklift Training
ORGANIZER;CN="George Mackenzie":MAILTO:gmackenzie@mitlift.com
END:VEVENT
BEGIN:VEVENT
DTSTART;TZID=America/Detroit:20240314T123000
DTEND;TZID=America/Detroit:20240314T123000
DTSTAMP:20260421T205107
CREATED:20231102T134351Z
LAST-MODIFIED:20240311T161110Z
UID:10000430-1710419400-1710419400@www.mitlift.com
SUMMARY:Findlay Aerial Training
DESCRIPTION:
URL:https://www.mitlift.com/event/findlay-aerial-training-27/
LOCATION:MIT Findlay\, 130 Stanford Pkwy\, Findlay\, OH\, 45840\, United States
CATEGORIES:Aerial
ORGANIZER;CN="George Mackenzie":MAILTO:gmackenzie@mitlift.com
END:VEVENT
BEGIN:VEVENT
DTSTART;TZID=America/Detroit:20240314T080000
DTEND;TZID=America/Detroit:20240314T080000
DTSTAMP:20260421T205107
CREATED:20231101T193943Z
LAST-MODIFIED:20231101T193943Z
UID:10000386-1710403200-1710403200@www.mitlift.com
SUMMARY:Findlay Forklift Training
DESCRIPTION:
URL:https://www.mitlift.com/event/findlay-forklift-training-15/
LOCATION:MIT Findlay\, 130 Stanford Pkwy\, Findlay\, OH\, 45840\, United States
CATEGORIES:Findlay Forklift Training,Forklift
ORGANIZER;CN="George Mackenzie":MAILTO:gmackenzie@mitlift.com
END:VEVENT
BEGIN:VEVENT
DTSTART;TZID=America/Detroit:20240312T123000
DTEND;TZID=America/Detroit:20240312T123000
DTSTAMP:20260421T205107
CREATED:20231102T132016Z
LAST-MODIFIED:20231102T132016Z
UID:10000419-1710246600-1710246600@www.mitlift.com
SUMMARY:Troy Aerial Training
DESCRIPTION:
URL:https://www.mitlift.com/event/troy-aerial-training-16/
LOCATION:MIT Troy\, 1101 Horizon West Court\, Troy\, OH\, 45373\, United States
CATEGORIES:Aerial
ORGANIZER;CN="George Mackenzie":MAILTO:gmackenzie@mitlift.com
END:VEVENT
BEGIN:VEVENT
DTSTART;TZID=America/Detroit:20240312T080000
DTEND;TZID=America/Detroit:20240312T080000
DTSTAMP:20260421T205107
CREATED:20231102T124027Z
LAST-MODIFIED:20231102T124027Z
UID:10000408-1710230400-1710230400@www.mitlift.com
SUMMARY:Troy Forklift Training
DESCRIPTION:
URL:https://www.mitlift.com/event/troy-forklift-training-23/
LOCATION:MIT Troy\, 1101 Horizon West Court\, Troy\, OH\, 45373\, United States
CATEGORIES:Forklift,Troy Forklift Training
ORGANIZER;CN="George Mackenzie":MAILTO:gmackenzie@mitlift.com
END:VEVENT
BEGIN:VEVENT
DTSTART;TZID=America/Detroit:20240306T083000
DTEND;TZID=America/Detroit:20240306T083000
DTSTAMP:20260421T205107
CREATED:20231101T155848Z
LAST-MODIFIED:20231101T155858Z
UID:10000363-1709713800-1709713800@www.mitlift.com
SUMMARY:Dayton Forklift Training
DESCRIPTION:
URL:https://www.mitlift.com/event/dayton-forklift-training-60/
LOCATION:MIT Dayton\, 2830 E. River Road\, Dayton\, OH\, 45439\, United States
CATEGORIES:Forklift,Forklift Training Dayton
ORGANIZER;CN="George Mackenzie":MAILTO:gmackenzie@mitlift.com
END:VEVENT
BEGIN:VEVENT
DTSTART;TZID=America/Detroit:20240222T083000
DTEND;TZID=America/Detroit:20240222T083000
DTSTAMP:20260421T205107
CREATED:20231101T155615Z
LAST-MODIFIED:20240208T155608Z
UID:10000362-1708590600-1708590600@www.mitlift.com
SUMMARY:Dayton Forklift Training
DESCRIPTION:
URL:https://www.mitlift.com/event/dayton-forklift-training-59/
LOCATION:MIT Dayton\, 2830 E. River Road\, Dayton\, OH\, 45439\, United States
CATEGORIES:Forklift,Forklift Training Dayton
ORGANIZER;CN="George Mackenzie":MAILTO:gmackenzie@mitlift.com
END:VEVENT
BEGIN:VEVENT
DTSTART;TZID=America/Detroit:20240221T080000
DTEND;TZID=America/Detroit:20240221T080000
DTSTAMP:20260421T205107
CREATED:20231101T195308Z
LAST-MODIFIED:20240201T201409Z
UID:10000396-1708502400-1708502400@www.mitlift.com
SUMMARY:Toledo Forklift Training
DESCRIPTION:
URL:https://www.mitlift.com/event/toledo-forklift-training-14/
LOCATION:MIT Toledo\, 10406 Geiser Road\, Toledo\, OH\, 43528\, United States
CATEGORIES:Forklift,Forklift Training Toledo,Toledo Forklift Training
ORGANIZER;CN="George Mackenzie":MAILTO:gmackenzie@mitlift.com
END:VEVENT
BEGIN:VEVENT
DTSTART;TZID=America/Detroit:20240215T123000
DTEND;TZID=America/Detroit:20240215T123000
DTSTAMP:20260421T205107
CREATED:20231102T134215Z
LAST-MODIFIED:20231102T134215Z
UID:10000429-1708000200-1708000200@www.mitlift.com
SUMMARY:Findlay Aerial Training
DESCRIPTION:
URL:https://www.mitlift.com/event/findlay-aerial-training-26/
LOCATION:MIT Findlay\, 130 Stanford Pkwy\, Findlay\, OH\, 45840\, United States
CATEGORIES:Aerial
ORGANIZER;CN="George Mackenzie":MAILTO:gmackenzie@mitlift.com
END:VEVENT
BEGIN:VEVENT
DTSTART;TZID=America/Detroit:20240215T080000
DTEND;TZID=America/Detroit:20240215T080000
DTSTAMP:20260421T205107
CREATED:20231101T193824Z
LAST-MODIFIED:20231101T193824Z
UID:10000385-1707984000-1707984000@www.mitlift.com
SUMMARY:Findlay Forklift Training
DESCRIPTION:
URL:https://www.mitlift.com/event/findlay-forklift-training-14/
LOCATION:MIT Findlay\, 130 Stanford Pkwy\, Findlay\, OH\, 45840\, United States
CATEGORIES:Findlay Forklift Training,Forklift
ORGANIZER;CN="George Mackenzie":MAILTO:gmackenzie@mitlift.com
END:VEVENT
BEGIN:VEVENT
DTSTART;TZID=America/Detroit:20240213T123000
DTEND;TZID=America/Detroit:20240213T123000
DTSTAMP:20260421T205107
CREATED:20231102T131826Z
LAST-MODIFIED:20240116T162551Z
UID:10000418-1707827400-1707827400@www.mitlift.com
SUMMARY:Troy Aerial Training
DESCRIPTION:
URL:https://www.mitlift.com/event/troy-aerial-training-15/
LOCATION:MIT Troy\, 1101 Horizon West Court\, Troy\, OH\, 45373\, United States
CATEGORIES:Aerial
ORGANIZER;CN="George Mackenzie":MAILTO:gmackenzie@mitlift.com
END:VEVENT
BEGIN:VEVENT
DTSTART;TZID=America/Detroit:20240213T080000
DTEND;TZID=America/Detroit:20240213T080000
DTSTAMP:20260421T205107
CREATED:20231102T123714Z
LAST-MODIFIED:20240131T152941Z
UID:10000407-1707811200-1707811200@www.mitlift.com
SUMMARY:Troy Forklift Training
DESCRIPTION:
URL:https://www.mitlift.com/event/troy-forklift-training-22/
LOCATION:MIT Troy\, 1101 Horizon West Court\, Troy\, OH\, 45373\, United States
CATEGORIES:Forklift,Troy Forklift Training
ORGANIZER;CN="George Mackenzie":MAILTO:gmackenzie@mitlift.com
END:VEVENT
BEGIN:VEVENT
DTSTART;TZID=America/Detroit:20240207T083000
DTEND;TZID=America/Detroit:20240207T083000
DTSTAMP:20260421T205107
CREATED:20231101T155355Z
LAST-MODIFIED:20240103T192355Z
UID:10000361-1707294600-1707294600@www.mitlift.com
SUMMARY:Dayton Forklift Training
DESCRIPTION:
URL:https://www.mitlift.com/event/dayton-forklift-training-58/
LOCATION:MIT Dayton\, 2830 E. River Road\, Dayton\, OH\, 45439\, United States
CATEGORIES:Forklift,Forklift Training Dayton
ORGANIZER;CN="George Mackenzie":MAILTO:gmackenzie@mitlift.com
END:VEVENT
BEGIN:VEVENT
DTSTART;TZID=America/Detroit:20240125T083000
DTEND;TZID=America/Detroit:20240125T083000
DTSTAMP:20260421T205107
CREATED:20231031T192418Z
LAST-MODIFIED:20240117T154815Z
UID:10000355-1706171400-1706171400@www.mitlift.com
SUMMARY:Dayton Forklift Training
DESCRIPTION:
URL:https://www.mitlift.com/event/dayton-forklift-training-57/
LOCATION:MIT Dayton\, 2830 E. River Road\, Dayton\, OH\, 45439\, United States
CATEGORIES:Forklift,Forklift Training Dayton
ORGANIZER;CN="George Mackenzie":MAILTO:gmackenzie@mitlift.com
END:VEVENT
BEGIN:VEVENT
DTSTART;TZID=America/Detroit:20240124T083000
DTEND;TZID=America/Detroit:20240124T083000
DTSTAMP:20260421T205107
CREATED:20231101T153716Z
LAST-MODIFIED:20240112T142804Z
UID:10000357-1706085000-1706085000@www.mitlift.com
SUMMARY:Toledo Forklift Training
DESCRIPTION:
URL:https://www.mitlift.com/event/toledo-forklift-training-13/
LOCATION:MIT Toledo\, 10406 Geiser Road\, Toledo\, OH\, 43528\, United States
CATEGORIES:Forklift,Toledo Forklift Training
ORGANIZER;CN="George Mackenzie":MAILTO:gmackenzie@mitlift.com
END:VEVENT
BEGIN:VEVENT
DTSTART;TZID=America/Detroit:20240118T123000
DTEND;TZID=America/Detroit:20240118T123000
DTSTAMP:20260421T205107
CREATED:20231101T154601Z
LAST-MODIFIED:20231101T154722Z
UID:10000359-1705581000-1705581000@www.mitlift.com
SUMMARY:Findlay Aerial Training
DESCRIPTION:
URL:https://www.mitlift.com/event/findlay-aerial-training-25/
LOCATION:MIT Findlay\, 130 Stanford Pkwy\, Findlay\, OH\, 45840\, United States
CATEGORIES:Aerial
ORGANIZER;CN="George Mackenzie":MAILTO:gmackenzie@mitlift.com
END:VEVENT
BEGIN:VEVENT
DTSTART;TZID=America/Detroit:20240118T080000
DTEND;TZID=America/Detroit:20240118T080000
DTSTAMP:20260421T205107
CREATED:20231101T135226Z
LAST-MODIFIED:20240111T163113Z
UID:10000356-1705564800-1705564800@www.mitlift.com
SUMMARY:Findlay Forklift Training
DESCRIPTION:
URL:https://www.mitlift.com/event/findlay-forklift-training-13/
LOCATION:MIT Findlay\, 130 Stanford Pkwy\, Findlay\, OH\, 45840\, United States
CATEGORIES:Findlay Forklift Training,Forklift
ORGANIZER;CN="George Mackenzie":MAILTO:gmackenzie@mitlift.com
END:VEVENT
BEGIN:VEVENT
DTSTART;TZID=America/Detroit:20240116T123000
DTEND;TZID=America/Detroit:20240116T123000
DTSTAMP:20260421T205107
CREATED:20231101T155005Z
LAST-MODIFIED:20231101T155043Z
UID:10000360-1705408200-1705408200@www.mitlift.com
SUMMARY:Troy Aerial Training
DESCRIPTION:
URL:https://www.mitlift.com/event/troy-aerial-training-14/
LOCATION:MIT Troy\, 1101 Horizon West Court\, Troy\, OH\, 45373\, United States
CATEGORIES:Aerial
ORGANIZER;CN="George Mackenzie":MAILTO:gmackenzie@mitlift.com
END:VEVENT
BEGIN:VEVENT
DTSTART;TZID=America/Detroit:20240116T080000
DTEND;TZID=America/Detroit:20240116T080000
DTSTAMP:20260421T205107
CREATED:20231101T154118Z
LAST-MODIFIED:20231101T154158Z
UID:10000358-1705392000-1705392000@www.mitlift.com
SUMMARY:Troy Forklift Training
DESCRIPTION:
URL:https://www.mitlift.com/event/troy-forklift-training-13/
LOCATION:MIT Troy\, 1101 Horizon West Court\, Troy\, OH\, 45373\, United States
CATEGORIES:Forklift,Troy Forklift Training
ORGANIZER;CN="George Mackenzie":MAILTO:gmackenzie@mitlift.com
END:VEVENT
BEGIN:VEVENT
DTSTART;TZID=America/Detroit:20240110T083000
DTEND;TZID=America/Detroit:20240110T083000
DTSTAMP:20260421T205107
CREATED:20231031T191714Z
LAST-MODIFIED:20231101T134450Z
UID:10000354-1704875400-1704875400@www.mitlift.com
SUMMARY:Dayton Forklift Training
DESCRIPTION:
URL:https://www.mitlift.com/event/dayton-forklift-training-56/
LOCATION:MIT Dayton\, 2830 E. River Road\, Dayton\, OH\, 45439\, United States
CATEGORIES:Forklift,Forklift Training Dayton
ORGANIZER;CN="George Mackenzie":MAILTO:gmackenzie@mitlift.com
END:VEVENT
BEGIN:VEVENT
DTSTART;TZID=America/Detroit:20231227T080000
DTEND;TZID=America/Detroit:20231227T080000
DTSTAMP:20260421T205107
CREATED:20221103T190835Z
LAST-MODIFIED:20230310T195340Z
UID:10000198-1703664000-1703664000@www.mitlift.com
SUMMARY:Toledo Forklift Training - December 27\, 2023
DESCRIPTION:
URL:https://www.mitlift.com/event/toledo-forklift-training-december-27-2023/
LOCATION:MIT Toledo\, 10406 Geiser Road\, Toledo\, OH\, 43528\, United States
CATEGORIES:Forklift,Forklift Training Toledo,Toledo Forklift Training
ORGANIZER;CN="George Mackenzie":MAILTO:gmackenzie@mitlift.com
END:VEVENT
BEGIN:VEVENT
DTSTART;TZID=America/Detroit:20231221T083000
DTEND;TZID=America/Detroit:20231221T083000
DTSTAMP:20260421T205107
CREATED:20221026T183832Z
LAST-MODIFIED:20230310T194549Z
UID:10000312-1703147400-1703147400@www.mitlift.com
SUMMARY:Dayton Forklift Training
DESCRIPTION:
URL:https://www.mitlift.com/event/dayton-forklift-training-55/
LOCATION:MIT Dayton\, 2830 E. River Road\, Dayton\, OH\, 45439\, United States
CATEGORIES:Forklift,Forklift Training Dayton
ORGANIZER;CN="George Mackenzie":MAILTO:gmackenzie@mitlift.com
END:VEVENT
BEGIN:VEVENT
DTSTART;TZID=America/Detroit:20231214T123000
DTEND;TZID=America/Detroit:20231214T123000
DTSTAMP:20260421T205107
CREATED:20221213T194221Z
LAST-MODIFIED:20230310T194353Z
UID:10000353-1702557000-1702557000@www.mitlift.com
SUMMARY:Findlay - Aerial Training
DESCRIPTION:
URL:https://www.mitlift.com/event/findlay-aerial-training-24/
LOCATION:MIT Findlay\, 130 Stanford Pkwy\, Findlay\, OH\, 45840\, United States
CATEGORIES:Aerial
END:VEVENT
BEGIN:VEVENT
DTSTART;TZID=America/Detroit:20231214T080000
DTEND;TZID=America/Detroit:20231214T080000
DTSTAMP:20260421T205107
CREATED:20221103T032916Z
LAST-MODIFIED:20230310T194204Z
UID:10000334-1702540800-1702540800@www.mitlift.com
SUMMARY:Findlay Forklift Training - December 14\, 2023
DESCRIPTION:
URL:https://www.mitlift.com/event/findlay-forklift-training-december-14-2023/
LOCATION:MIT Findlay\, 130 Stanford Pkwy\, Findlay\, OH\, 45840\, United States
CATEGORIES:Findlay Forklift Training,Forklift
ORGANIZER;CN="George Mackenzie":MAILTO:gmackenzie@mitlift.com
END:VEVENT
BEGIN:VEVENT
DTSTART;TZID=America/Detroit:20231212T123000
DTEND;TZID=America/Detroit:20231212T123000
DTSTAMP:20260421T205107
CREATED:20221102T162259Z
LAST-MODIFIED:20231130T201931Z
UID:10000322-1702384200-1702384200@www.mitlift.com
SUMMARY:Troy Aerial Training - December 12\, 2023
DESCRIPTION:
URL:https://www.mitlift.com/event/troy-aerial-training-december-12-2023/
LOCATION:MIT Troy\, 1101 Horizon West Court\, Troy\, OH\, 45373\, United States
CATEGORIES:Aerial
ORGANIZER;CN="George Mackenzie":MAILTO:gmackenzie@mitlift.com
END:VEVENT
BEGIN:VEVENT
DTSTART;TZID=America/Detroit:20231212T080000
DTEND;TZID=America/Detroit:20231212T080000
DTSTAMP:20260421T205107
CREATED:20221102T161521Z
LAST-MODIFIED:20231130T201525Z
UID:10000321-1702368000-1702368000@www.mitlift.com
SUMMARY:Troy Forklift Training - December 12\, 2023
DESCRIPTION:
URL:https://www.mitlift.com/event/troy-forklift-training-december-12-2023/
LOCATION:MIT Troy\, 1101 Horizon West Court\, Troy\, OH\, 45373\, United States
CATEGORIES:Forklift,Troy Forklift Training
ORGANIZER;CN="George Mackenzie":MAILTO:gmackenzie@mitlift.com
END:VEVENT
BEGIN:VEVENT
DTSTART;TZID=America/Detroit:20231207T083000
DTEND;TZID=America/Detroit:20231207T083000
DTSTAMP:20260421T205107
CREATED:20221026T183706Z
LAST-MODIFIED:20231130T195610Z
UID:10000311-1701937800-1701937800@www.mitlift.com
SUMMARY:Dayton Forklift Training - Dec 7\, 2023
DESCRIPTION:
URL:https://www.mitlift.com/event/dayton-forklift-training-dec-7-2023/
LOCATION:MIT Dayton\, 2830 E. River Road\, Dayton\, OH\, 45439\, United States
CATEGORIES:Forklift,Forklift Training Dayton
ORGANIZER;CN="George Mackenzie":MAILTO:gmackenzie@mitlift.com
END:VEVENT
BEGIN:VEVENT
DTSTART;TZID=America/Detroit:20231130T080000
DTEND;TZID=America/Detroit:20231130T140000
DTSTAMP:20260421T205107
CREATED:20221103T190718Z
LAST-MODIFIED:20231127T130640Z
UID:10000197-1701331200-1701352800@www.mitlift.com
SUMMARY:Toledo Forklift Training - November 30\, 2023
DESCRIPTION:
URL:https://www.mitlift.com/event/toledo-forklift-training-november-30-2023/
LOCATION:MIT Toledo\, 10406 Geiser Road\, Toledo\, OH\, 43528\, United States
CATEGORIES:Forklift,Forklift Training Toledo,Toledo Forklift Training
ORGANIZER;CN="George Mackenzie":MAILTO:gmackenzie@mitlift.com
END:VEVENT
BEGIN:VEVENT
DTSTART;TZID=America/Detroit:20231128T083000
DTEND;TZID=America/Detroit:20231128T140000
DTSTAMP:20260421T205107
CREATED:20221213T145904Z
LAST-MODIFIED:20231108T144857Z
UID:10000205-1701160200-1701180000@www.mitlift.com
SUMMARY:Dayton Forklift Training
DESCRIPTION:
URL:https://www.mitlift.com/event/dayton-forklift-training-54/
LOCATION:MIT Dayton\, 2830 E. River Road\, Dayton\, OH\, 45439\, United States
CATEGORIES:Forklift,Forklift Training Dayton
ORGANIZER;CN="George Mackenzie":MAILTO:gmackenzie@mitlift.com
END:VEVENT
BEGIN:VEVENT
DTSTART;TZID=America/Detroit:20231116T123000
DTEND;TZID=America/Detroit:20231116T123000
DTSTAMP:20260421T205107
CREATED:20221213T193932Z
LAST-MODIFIED:20231103T143703Z
UID:10000352-1700137800-1700137800@www.mitlift.com
SUMMARY:Findlay - Aerial Training
DESCRIPTION:
URL:https://www.mitlift.com/event/findlay-aerial-training-23/
LOCATION:MIT Findlay\, 130 Stanford Pkwy\, Findlay\, OH\, 45840\, United States
CATEGORIES:Aerial
END:VEVENT
END:VCALENDAR