BEGIN:VCALENDAR
VERSION:2.0
PRODID:-//Miami Industrial Trucks - ECPv6.15.20//NONSGML v1.0//EN
CALSCALE:GREGORIAN
METHOD:PUBLISH
X-WR-CALNAME:Miami Industrial Trucks
X-ORIGINAL-URL:https://www.mitlift.com
X-WR-CALDESC:Events for Miami Industrial Trucks
REFRESH-INTERVAL;VALUE=DURATION:PT1H
X-Robots-Tag:noindex
X-PUBLISHED-TTL:PT1H
BEGIN:VTIMEZONE
TZID:America/Detroit
BEGIN:DAYLIGHT
TZOFFSETFROM:-0500
TZOFFSETTO:-0400
TZNAME:EDT
DTSTART:20230312T070000
END:DAYLIGHT
BEGIN:STANDARD
TZOFFSETFROM:-0400
TZOFFSETTO:-0500
TZNAME:EST
DTSTART:20231105T060000
END:STANDARD
BEGIN:DAYLIGHT
TZOFFSETFROM:-0500
TZOFFSETTO:-0400
TZNAME:EDT
DTSTART:20240310T070000
END:DAYLIGHT
BEGIN:STANDARD
TZOFFSETFROM:-0400
TZOFFSETTO:-0500
TZNAME:EST
DTSTART:20241103T060000
END:STANDARD
BEGIN:DAYLIGHT
TZOFFSETFROM:-0500
TZOFFSETTO:-0400
TZNAME:EDT
DTSTART:20250309T070000
END:DAYLIGHT
BEGIN:STANDARD
TZOFFSETFROM:-0400
TZOFFSETTO:-0500
TZNAME:EST
DTSTART:20251102T060000
END:STANDARD
BEGIN:DAYLIGHT
TZOFFSETFROM:-0500
TZOFFSETTO:-0400
TZNAME:EDT
DTSTART:20260308T070000
END:DAYLIGHT
BEGIN:STANDARD
TZOFFSETFROM:-0400
TZOFFSETTO:-0500
TZNAME:EST
DTSTART:20261101T060000
END:STANDARD
END:VTIMEZONE
BEGIN:VEVENT
DTSTART;TZID=America/Detroit:20250213T080000
DTEND;TZID=America/Detroit:20250213T140000
DTSTAMP:20260421T140709
CREATED:20240726T160838Z
LAST-MODIFIED:20250210T194239Z
UID:10000467-1739433600-1739455200@www.mitlift.com
SUMMARY:Findlay Forklift Training
DESCRIPTION:
URL:https://www.mitlift.com/event/findlay-forklift-training-26/
LOCATION:MIT Findlay\, 130 Stanford Pkwy\, Findlay\, OH\, 45840\, United States
CATEGORIES:Findlay Forklift Training,Forklift
ORGANIZER;CN="George Mackenzie":MAILTO:gmackenzie@mitlift.com
END:VEVENT
BEGIN:VEVENT
DTSTART;TZID=America/Detroit:20250211T123000
DTEND;TZID=America/Detroit:20250211T123000
DTSTAMP:20260421T140709
CREATED:20250110T150937Z
LAST-MODIFIED:20250110T151359Z
UID:10000503-1739277000-1739277000@www.mitlift.com
SUMMARY:Troy Aerial Training
DESCRIPTION:
URL:https://www.mitlift.com/event/troy-aerial-training-38/
LOCATION:MIT Troy\, 1101 Horizon West Court\, Troy\, OH\, 45373\, United States
CATEGORIES:Aerial,Aerial Troy Training
ORGANIZER;CN="George Mackenzie":MAILTO:gmackenzie@mitlift.com
END:VEVENT
BEGIN:VEVENT
DTSTART;TZID=America/Detroit:20250211T080000
DTEND;TZID=America/Detroit:20250211T140000
DTSTAMP:20260421T140709
CREATED:20240726T185054Z
LAST-MODIFIED:20240726T185054Z
UID:10000479-1739260800-1739282400@www.mitlift.com
SUMMARY:Troy Forklift Training
DESCRIPTION:
URL:https://www.mitlift.com/event/troy-forklift-training-35/
LOCATION:MIT Troy\, 1101 Horizon West Court\, Troy\, OH\, 45373\, United States
CATEGORIES:Forklift,Troy Forklift Training
ORGANIZER;CN="George Mackenzie":MAILTO:gmackenzie@mitlift.com
END:VEVENT
BEGIN:VEVENT
DTSTART;TZID=America/Detroit:20250205T083000
DTEND;TZID=America/Detroit:20250205T140000
DTSTAMP:20260421T140709
CREATED:20240725T172852Z
LAST-MODIFIED:20250117T150422Z
UID:10000442-1738744200-1738764000@www.mitlift.com
SUMMARY:Dayton Forklift Training
DESCRIPTION:
URL:https://www.mitlift.com/event/dayton-forklift-training-82/
LOCATION:MIT Dayton\, 2830 E. River Road\, Dayton\, OH\, 45439\, United States
CATEGORIES:Forklift,Forklift Training Dayton
ORGANIZER;CN="George Mackenzie":MAILTO:gmackenzie@mitlift.com
END:VEVENT
BEGIN:VEVENT
DTSTART;TZID=America/Detroit:20250123T083000
DTEND;TZID=America/Detroit:20250123T140000
DTSTAMP:20260421T140709
CREATED:20240725T172609Z
LAST-MODIFIED:20250115T185652Z
UID:10000441-1737621000-1737640800@www.mitlift.com
SUMMARY:Dayton Forklift Training
DESCRIPTION:
URL:https://www.mitlift.com/event/dayton-forklift-training-81/
LOCATION:MIT Dayton\, 2830 E. River Road\, Dayton\, OH\, 45439\, United States
CATEGORIES:Forklift,Forklift Training Dayton
END:VEVENT
BEGIN:VEVENT
DTSTART;TZID=America/Detroit:20250122T083000
DTEND;TZID=America/Detroit:20250122T140000
DTSTAMP:20260421T140709
CREATED:20240726T191541Z
LAST-MODIFIED:20241219T154643Z
UID:10000490-1737534600-1737554400@www.mitlift.com
SUMMARY:Toledo Forklift Training
DESCRIPTION:
URL:https://www.mitlift.com/event/toledo-forklift-training-25/
LOCATION:MIT Toledo\, 10406 Geiser Road\, Toledo\, OH\, 43528\, United States
CATEGORIES:Forklift,Toledo Forklift Training
ORGANIZER;CN="George Mackenzie":MAILTO:gmackenzie@mitlift.com
END:VEVENT
BEGIN:VEVENT
DTSTART;TZID=America/Detroit:20250116T080000
DTEND;TZID=America/Detroit:20250116T140000
DTSTAMP:20260421T140709
CREATED:20240726T154424Z
LAST-MODIFIED:20240726T154424Z
UID:10000466-1737014400-1737036000@www.mitlift.com
SUMMARY:Findlay Forklift Training
DESCRIPTION:
URL:https://www.mitlift.com/event/findlay-forklift-training-25/
LOCATION:MIT Findlay\, 130 Stanford Pkwy\, Findlay\, OH\, 45840\, United States
CATEGORIES:Findlay Forklift Training,Forklift
ORGANIZER;CN="George Mackenzie":MAILTO:gmackenzie@mitlift.com
END:VEVENT
BEGIN:VEVENT
DTSTART;TZID=America/Detroit:20250114T123000
DTEND;TZID=America/Detroit:20250114T123000
DTSTAMP:20260421T140709
CREATED:20240729T122748Z
LAST-MODIFIED:20250110T144855Z
UID:10000502-1736857800-1736857800@www.mitlift.com
SUMMARY:Troy Aerial Training
DESCRIPTION:
URL:https://www.mitlift.com/event/troy-aerial-training-26/
LOCATION:MIT Troy\, 1101 Horizon West Court\, Troy\, OH\, 45373\, United States
CATEGORIES:Aerial
ORGANIZER;CN="George Mackenzie":MAILTO:gmackenzie@mitlift.com
END:VEVENT
BEGIN:VEVENT
DTSTART;TZID=America/Detroit:20250114T080000
DTEND;TZID=America/Detroit:20250114T140000
DTSTAMP:20260421T140709
CREATED:20240726T173201Z
LAST-MODIFIED:20240726T173225Z
UID:10000478-1736841600-1736863200@www.mitlift.com
SUMMARY:Troy Forklift Training
DESCRIPTION:
URL:https://www.mitlift.com/event/troy-forklift-training-34/
LOCATION:MIT Troy\, 1101 Horizon West Court\, Troy\, OH\, 45373\, United States
CATEGORIES:Forklift,Troy Forklift Training
ORGANIZER;CN="George Mackenzie":MAILTO:gmackenzie@mitlift.com
END:VEVENT
BEGIN:VEVENT
DTSTART;TZID=America/Detroit:20250108T083000
DTEND;TZID=America/Detroit:20250108T140000
DTSTAMP:20260421T140709
CREATED:20240725T171805Z
LAST-MODIFIED:20241220T141124Z
UID:10000440-1736325000-1736344800@www.mitlift.com
SUMMARY:Dayton Forklift Training
DESCRIPTION:
URL:https://www.mitlift.com/event/dayton-forklift-training-66/
LOCATION:MIT Dayton\, 2830 E. River Road\, Dayton\, OH\, 45439\, United States
CATEGORIES:Forklift,Forklift Training Dayton
ORGANIZER;CN="George Mackenzie":MAILTO:gmackenzie@mitlift.com
END:VEVENT
BEGIN:VEVENT
DTSTART;TZID=America/Detroit:20241219T123000
DTEND;TZID=America/Detroit:20241219T123000
DTSTAMP:20260421T140709
CREATED:20231102T140055Z
LAST-MODIFIED:20240814T171655Z
UID:10000439-1734611400-1734611400@www.mitlift.com
SUMMARY:Findlay Aerial Training
DESCRIPTION:
URL:https://www.mitlift.com/event/findlay-aerial-training-36/
LOCATION:MIT Findlay\, 130 Stanford Pkwy\, Findlay\, OH\, 45840\, United States
CATEGORIES:Aerial
ORGANIZER;CN="George Mackenzie":MAILTO:gmackenzie@mitlift.com
END:VEVENT
BEGIN:VEVENT
DTSTART;TZID=America/Detroit:20241219T080000
DTEND;TZID=America/Detroit:20241219T080000
DTSTAMP:20260421T140709
CREATED:20231101T195030Z
LAST-MODIFIED:20240402T134533Z
UID:10000395-1734595200-1734595200@www.mitlift.com
SUMMARY:Findlay Forklift Training
DESCRIPTION:
URL:https://www.mitlift.com/event/findlay-forklift-training-24/
LOCATION:MIT Findlay\, 130 Stanford Pkwy\, Findlay\, OH\, 45840\, United States
CATEGORIES:Findlay Forklift Training,Forklift
ORGANIZER;CN="George Mackenzie":MAILTO:gmackenzie@mitlift.com
END:VEVENT
BEGIN:VEVENT
DTSTART;TZID=America/Detroit:20241218T083000
DTEND;TZID=America/Detroit:20241218T083000
DTSTAMP:20260421T140709
CREATED:20231101T200354Z
LAST-MODIFIED:20240402T134310Z
UID:10000406-1734510600-1734510600@www.mitlift.com
SUMMARY:Toledo Forklift Training
DESCRIPTION:
URL:https://www.mitlift.com/event/toledo-forklift-training-24/
LOCATION:MIT Toledo\, 10406 Geiser Road\, Toledo\, OH\, 43528\, United States
CATEGORIES:Forklift,Forklift Training Toledo,Toledo Forklift Training
ORGANIZER;CN="George Mackenzie":MAILTO:gmackenzie@mitlift.com
END:VEVENT
BEGIN:VEVENT
DTSTART;TZID=America/Detroit:20241218T083000
DTEND;TZID=America/Detroit:20241218T083000
DTSTAMP:20260421T140709
CREATED:20231101T193328Z
LAST-MODIFIED:20231101T193328Z
UID:10000384-1734510600-1734510600@www.mitlift.com
SUMMARY:Dayton Forklift Training
DESCRIPTION:
URL:https://www.mitlift.com/event/dayton-forklift-training-80/
LOCATION:MIT Dayton\, 2830 E. River Road\, Dayton\, OH\, 45439\, United States
CATEGORIES:Forklift,Forklift Training Dayton
ORGANIZER;CN="George Mackenzie":MAILTO:gmackenzie@mitlift.com
END:VEVENT
BEGIN:VEVENT
DTSTART;TZID=America/Detroit:20241217T123000
DTEND;TZID=America/Detroit:20241217T123000
DTSTAMP:20260421T140709
CREATED:20231102T133903Z
LAST-MODIFIED:20240314T032000Z
UID:10000428-1734438600-1734438600@www.mitlift.com
SUMMARY:Troy Aerial Training
DESCRIPTION:
URL:https://www.mitlift.com/event/troy-aerial-training-25/
LOCATION:MIT Troy\, 1101 Horizon West Court\, Troy\, OH\, 45373\, United States
CATEGORIES:Aerial
ORGANIZER;CN="George Mackenzie":MAILTO:gmackenzie@mitlift.com
END:VEVENT
BEGIN:VEVENT
DTSTART;TZID=America/Detroit:20241217T080000
DTEND;TZID=America/Detroit:20241217T080000
DTSTAMP:20260421T140709
CREATED:20231102T131450Z
LAST-MODIFIED:20240314T031427Z
UID:10000417-1734422400-1734422400@www.mitlift.com
SUMMARY:Troy Forklift Training
DESCRIPTION:
URL:https://www.mitlift.com/event/troy-forklift-training-33/
LOCATION:MIT Troy\, 1101 Horizon West Court\, Troy\, OH\, 45373\, United States
CATEGORIES:Forklift,Troy Forklift Training
ORGANIZER;CN="George Mackenzie":MAILTO:gmackenzie@mitlift.com
END:VEVENT
BEGIN:VEVENT
DTSTART;TZID=America/Detroit:20241204T083000
DTEND;TZID=America/Detroit:20241204T083000
DTSTAMP:20260421T140709
CREATED:20231101T193123Z
LAST-MODIFIED:20231101T193123Z
UID:10000383-1733301000-1733301000@www.mitlift.com
SUMMARY:Dayton Forklift Training
DESCRIPTION:
URL:https://www.mitlift.com/event/dayton-forklift-training-79/
LOCATION:MIT Dayton\, 2830 E. River Road\, Dayton\, OH\, 45439\, United States
CATEGORIES:Forklift,Forklift Training Dayton
ORGANIZER;CN="George Mackenzie":MAILTO:gmackenzie@mitlift.com
END:VEVENT
BEGIN:VEVENT
DTSTART;TZID=America/Detroit:20241121T123000
DTEND;TZID=America/Detroit:20241121T123000
DTSTAMP:20260421T140709
CREATED:20231102T135917Z
LAST-MODIFIED:20240314T031227Z
UID:10000438-1732192200-1732192200@www.mitlift.com
SUMMARY:Findlay Aerial Training
DESCRIPTION:
URL:https://www.mitlift.com/event/findlay-aerial-training-35/
LOCATION:MIT Findlay\, 130 Stanford Pkwy\, Findlay\, OH\, 45840\, United States
CATEGORIES:Aerial
ORGANIZER;CN="George Mackenzie":MAILTO:gmackenzie@mitlift.com
END:VEVENT
BEGIN:VEVENT
DTSTART;TZID=America/Detroit:20241121T080000
DTEND;TZID=America/Detroit:20241121T080000
DTSTAMP:20260421T140709
CREATED:20231101T194912Z
LAST-MODIFIED:20240402T134219Z
UID:10000394-1732176000-1732176000@www.mitlift.com
SUMMARY:Findlay Forklift Training
DESCRIPTION:
URL:https://www.mitlift.com/event/findlay-forklift-training-23/
LOCATION:MIT Findlay\, 130 Stanford Pkwy\, Findlay\, OH\, 45840\, United States
CATEGORIES:Findlay Forklift Training,Forklift
ORGANIZER;CN="George Mackenzie":MAILTO:gmackenzie@mitlift.com
END:VEVENT
BEGIN:VEVENT
DTSTART;TZID=America/Detroit:20241120T083000
DTEND;TZID=America/Detroit:20241120T083000
DTSTAMP:20260421T140709
CREATED:20231101T200247Z
LAST-MODIFIED:20241024T173859Z
UID:10000405-1732091400-1732091400@www.mitlift.com
SUMMARY:Toledo Forklift Training
DESCRIPTION:
URL:https://www.mitlift.com/event/toledo-forklift-training-23/
LOCATION:MIT Toledo\, 10406 Geiser Road\, Toledo\, OH\, 43528\, United States
CATEGORIES:Forklift,Forklift Training Toledo,Toledo Forklift Training
ORGANIZER;CN="George Mackenzie":MAILTO:gmackenzie@mitlift.com
END:VEVENT
BEGIN:VEVENT
DTSTART;TZID=America/Detroit:20241120T083000
DTEND;TZID=America/Detroit:20241120T083000
DTSTAMP:20260421T140709
CREATED:20231101T192735Z
LAST-MODIFIED:20231101T192808Z
UID:10000382-1732091400-1732091400@www.mitlift.com
SUMMARY:Dayton Forklift Training
DESCRIPTION:
URL:https://www.mitlift.com/event/dayton-forklift-training-78/
LOCATION:MIT Dayton\, 2830 E. River Road\, Dayton\, OH\, 45439\, United States
CATEGORIES:Forklift,Forklift Training Dayton
ORGANIZER;CN="George Mackenzie":MAILTO:gmackenzie@mitlift.com
END:VEVENT
BEGIN:VEVENT
DTSTART;TZID=America/Detroit:20241119T123000
DTEND;TZID=America/Detroit:20241119T123000
DTSTAMP:20260421T140709
CREATED:20231102T133705Z
LAST-MODIFIED:20240314T030623Z
UID:10000427-1732019400-1732019400@www.mitlift.com
SUMMARY:Troy Aerial Training
DESCRIPTION:
URL:https://www.mitlift.com/event/troy-aerial-training-24/
LOCATION:MIT Troy\, 1101 Horizon West Court\, Troy\, OH\, 45373\, United States
CATEGORIES:Aerial
ORGANIZER;CN="George Mackenzie":MAILTO:gmackenzie@mitlift.com
END:VEVENT
BEGIN:VEVENT
DTSTART;TZID=America/Detroit:20241119T080000
DTEND;TZID=America/Detroit:20241119T080000
DTSTAMP:20260421T140709
CREATED:20231102T131229Z
LAST-MODIFIED:20240314T030424Z
UID:10000416-1732003200-1732003200@www.mitlift.com
SUMMARY:Troy Forklift Training
DESCRIPTION:
URL:https://www.mitlift.com/event/troy-forklift-training-32/
LOCATION:MIT Troy\, 1101 Horizon West Court\, Troy\, OH\, 45373\, United States
CATEGORIES:Forklift,Troy Forklift Training
ORGANIZER;CN="George Mackenzie":MAILTO:gmackenzie@mitlift.com
END:VEVENT
BEGIN:VEVENT
DTSTART;TZID=America/Detroit:20241106T083000
DTEND;TZID=America/Detroit:20241106T083000
DTSTAMP:20260421T140709
CREATED:20231101T191756Z
LAST-MODIFIED:20241030T143956Z
UID:10000381-1730881800-1730881800@www.mitlift.com
SUMMARY:Dayton Forklift Training
DESCRIPTION:
URL:https://www.mitlift.com/event/dayton-forklift-training-77/
LOCATION:MIT Dayton\, 2830 E. River Road\, Dayton\, OH\, 45439\, United States
CATEGORIES:Forklift,Forklift Training Dayton
ORGANIZER;CN="George Mackenzie":MAILTO:gmackenzie@mitlift.com
END:VEVENT
BEGIN:VEVENT
DTSTART;TZID=America/Detroit:20241024T083000
DTEND;TZID=America/Detroit:20241024T083000
DTSTAMP:20260421T140709
CREATED:20231101T190449Z
LAST-MODIFIED:20231101T190449Z
UID:10000380-1729758600-1729758600@www.mitlift.com
SUMMARY:Dayton Forklift Training
DESCRIPTION:
URL:https://www.mitlift.com/event/dayton-forklift-training-76/
LOCATION:MIT Dayton\, 2830 E. River Road\, Dayton\, OH\, 45439\, United States
CATEGORIES:Forklift,Forklift Training Dayton
ORGANIZER;CN="George Mackenzie":MAILTO:gmackenzie@mitlift.com
END:VEVENT
BEGIN:VEVENT
DTSTART;TZID=America/Detroit:20241023T083000
DTEND;TZID=America/Detroit:20241023T083000
DTSTAMP:20260421T140709
CREATED:20231101T200147Z
LAST-MODIFIED:20240402T134008Z
UID:10000404-1729672200-1729672200@www.mitlift.com
SUMMARY:Toledo Forklift Training
DESCRIPTION:
URL:https://www.mitlift.com/event/toledo-forklift-training-22/
LOCATION:MIT Toledo\, 10406 Geiser Road\, Toledo\, OH\, 43528\, United States
CATEGORIES:Forklift,Forklift Training Toledo,Toledo Forklift Training
ORGANIZER;CN="George Mackenzie":MAILTO:gmackenzie@mitlift.com
END:VEVENT
BEGIN:VEVENT
DTSTART;TZID=America/Detroit:20241017T123000
DTEND;TZID=America/Detroit:20241017T123000
DTSTAMP:20260421T140709
CREATED:20231102T135731Z
LAST-MODIFIED:20240314T025935Z
UID:10000437-1729168200-1729168200@www.mitlift.com
SUMMARY:Findlay Aerial Training
DESCRIPTION:
URL:https://www.mitlift.com/event/findlay-aerial-training-34/
LOCATION:MIT Findlay\, 130 Stanford Pkwy\, Findlay\, OH\, 45840\, United States
CATEGORIES:Aerial
ORGANIZER;CN="George Mackenzie":MAILTO:gmackenzie@mitlift.com
END:VEVENT
BEGIN:VEVENT
DTSTART;TZID=America/Detroit:20241017T080000
DTEND;TZID=America/Detroit:20241017T080000
DTSTAMP:20260421T140709
CREATED:20231101T194745Z
LAST-MODIFIED:20240402T133918Z
UID:10000393-1729152000-1729152000@www.mitlift.com
SUMMARY:Findlay Forklift Training
DESCRIPTION:
URL:https://www.mitlift.com/event/findlay-forklift-training-22/
LOCATION:MIT Findlay\, 130 Stanford Pkwy\, Findlay\, OH\, 45840\, United States
CATEGORIES:Findlay Forklift Training,Forklift
ORGANIZER;CN="George Mackenzie":MAILTO:gmackenzie@mitlift.com
END:VEVENT
BEGIN:VEVENT
DTSTART;TZID=America/Detroit:20241015T123000
DTEND;TZID=America/Detroit:20241015T123000
DTSTAMP:20260421T140709
CREATED:20231102T133501Z
LAST-MODIFIED:20240314T025753Z
UID:10000426-1728995400-1728995400@www.mitlift.com
SUMMARY:Troy Aerial Training
DESCRIPTION:
URL:https://www.mitlift.com/event/troy-aerial-training-23/
LOCATION:MIT Troy\, 1101 Horizon West Court\, Troy\, OH\, 45373\, United States
CATEGORIES:Aerial
ORGANIZER;CN="George Mackenzie":MAILTO:gmackenzie@mitlift.com
END:VEVENT
BEGIN:VEVENT
DTSTART;TZID=America/Detroit:20241015T080000
DTEND;TZID=America/Detroit:20241015T080000
DTSTAMP:20260421T140709
CREATED:20231102T130807Z
LAST-MODIFIED:20240314T025532Z
UID:10000415-1728979200-1728979200@www.mitlift.com
SUMMARY:Troy Forklift Training
DESCRIPTION:
URL:https://www.mitlift.com/event/troy-forklift-training-31/
LOCATION:MIT Troy\, 1101 Horizon West Court\, Troy\, OH\, 45373\, United States
CATEGORIES:Forklift,Troy Forklift Training
ORGANIZER;CN="George Mackenzie":MAILTO:gmackenzie@mitlift.com
END:VEVENT
END:VCALENDAR