BEGIN:VCALENDAR
VERSION:2.0
PRODID:-//Miami Industrial Trucks - ECPv6.15.20//NONSGML v1.0//EN
CALSCALE:GREGORIAN
METHOD:PUBLISH
X-WR-CALNAME:Miami Industrial Trucks
X-ORIGINAL-URL:https://www.mitlift.com
X-WR-CALDESC:Events for Miami Industrial Trucks
REFRESH-INTERVAL;VALUE=DURATION:PT1H
X-Robots-Tag:noindex
X-PUBLISHED-TTL:PT1H
BEGIN:VTIMEZONE
TZID:America/Detroit
BEGIN:DAYLIGHT
TZOFFSETFROM:-0500
TZOFFSETTO:-0400
TZNAME:EDT
DTSTART:20250309T070000
END:DAYLIGHT
BEGIN:STANDARD
TZOFFSETFROM:-0400
TZOFFSETTO:-0500
TZNAME:EST
DTSTART:20251102T060000
END:STANDARD
BEGIN:DAYLIGHT
TZOFFSETFROM:-0500
TZOFFSETTO:-0400
TZNAME:EDT
DTSTART:20260308T070000
END:DAYLIGHT
BEGIN:STANDARD
TZOFFSETFROM:-0400
TZOFFSETTO:-0500
TZNAME:EST
DTSTART:20261101T060000
END:STANDARD
BEGIN:DAYLIGHT
TZOFFSETFROM:-0500
TZOFFSETTO:-0400
TZNAME:EDT
DTSTART:20270314T070000
END:DAYLIGHT
BEGIN:STANDARD
TZOFFSETFROM:-0400
TZOFFSETTO:-0500
TZNAME:EST
DTSTART:20271107T060000
END:STANDARD
END:VTIMEZONE
BEGIN:VEVENT
DTSTART;TZID=America/Detroit:20260624T083000
DTEND;TZID=America/Detroit:20260624T083000
DTSTAMP:20260424T114550
CREATED:20250911T135156Z
LAST-MODIFIED:20250911T135211Z
UID:10000577-1782289800-1782289800@www.mitlift.com
SUMMARY:Toledo Forklift Training
DESCRIPTION:
URL:https://www.mitlift.com/event/toledo-forklift-training-42/
LOCATION:MIT Toledo\, 10406 Geiser Road\, Toledo\, OH\, 43528\, United States
CATEGORIES:Forklift,Forklift Training Toledo
ORGANIZER;CN="George Mackenzie":MAILTO:gmackenzie@mitlift.com
END:VEVENT
BEGIN:VEVENT
DTSTART;TZID=America/Detroit:20260722T083000
DTEND;TZID=America/Detroit:20260722T083000
DTSTAMP:20260424T114550
CREATED:20250911T135341Z
LAST-MODIFIED:20250911T135508Z
UID:10000578-1784709000-1784709000@www.mitlift.com
SUMMARY:Toledo Forklift Training
DESCRIPTION:
URL:https://www.mitlift.com/event/toledo-forklift-training-43/
LOCATION:MIT Toledo\, 10406 Geiser Road\, Toledo\, OH\, 43528\, United States
CATEGORIES:Forklift,Forklift Training Toledo
ORGANIZER;CN="George Mackenzie":MAILTO:gmackenzie@mitlift.com
END:VEVENT
BEGIN:VEVENT
DTSTART;TZID=America/Detroit:20260826T083000
DTEND;TZID=America/Detroit:20260826T083000
DTSTAMP:20260424T114550
CREATED:20250911T135651Z
LAST-MODIFIED:20250911T135707Z
UID:10000579-1787733000-1787733000@www.mitlift.com
SUMMARY:Toledo Forklift Training
DESCRIPTION:
URL:https://www.mitlift.com/event/toledo-forklift-training-44/
LOCATION:MIT Toledo\, 10406 Geiser Road\, Toledo\, OH\, 43528\, United States
CATEGORIES:Forklift,Forklift Training Toledo
ORGANIZER;CN="George Mackenzie":MAILTO:gmackenzie@mitlift.com
END:VEVENT
BEGIN:VEVENT
DTSTART;TZID=America/Detroit:20260923T083000
DTEND;TZID=America/Detroit:20260923T083000
DTSTAMP:20260424T114550
CREATED:20250911T135848Z
LAST-MODIFIED:20250911T135902Z
UID:10000580-1790152200-1790152200@www.mitlift.com
SUMMARY:Toledo Forklift Training
DESCRIPTION:
URL:https://www.mitlift.com/event/toledo-forklift-training-45/
LOCATION:MIT Toledo\, 10406 Geiser Road\, Toledo\, OH\, 43528\, United States
CATEGORIES:Forklift,Forklift Training Toledo
ORGANIZER;CN="George Mackenzie":MAILTO:gmackenzie@mitlift.com
END:VEVENT
BEGIN:VEVENT
DTSTART;TZID=America/Detroit:20261021T083000
DTEND;TZID=America/Detroit:20261021T083000
DTSTAMP:20260424T114550
CREATED:20250911T140044Z
LAST-MODIFIED:20250911T140056Z
UID:10000581-1792571400-1792571400@www.mitlift.com
SUMMARY:Toledo Forklift Training
DESCRIPTION:
URL:https://www.mitlift.com/event/toledo-forklift-training-46/
LOCATION:MIT Toledo\, 10406 Geiser Road\, Toledo\, OH\, 43528\, United States
CATEGORIES:Forklift,Forklift Training Toledo
ORGANIZER;CN="George Mackenzie":MAILTO:gmackenzie@mitlift.com
END:VEVENT
BEGIN:VEVENT
DTSTART;TZID=America/Detroit:20261118T083000
DTEND;TZID=America/Detroit:20261118T083000
DTSTAMP:20260424T114550
CREATED:20250911T140233Z
LAST-MODIFIED:20250911T140247Z
UID:10000582-1794990600-1794990600@www.mitlift.com
SUMMARY:Toledo Forklift Training
DESCRIPTION:
URL:https://www.mitlift.com/event/toledo-forklift-training-47/
LOCATION:MIT Toledo\, 10406 Geiser Road\, Toledo\, OH\, 43528\, United States
CATEGORIES:Forklift,Forklift Training Toledo
ORGANIZER;CN="George Mackenzie":MAILTO:gmackenzie@mitlift.com
END:VEVENT
BEGIN:VEVENT
DTSTART;TZID=America/Detroit:20261222T083000
DTEND;TZID=America/Detroit:20261222T083000
DTSTAMP:20260424T114550
CREATED:20250911T140427Z
LAST-MODIFIED:20250911T140440Z
UID:10000583-1797928200-1797928200@www.mitlift.com
SUMMARY:Toledo Forklift Training
DESCRIPTION:
URL:https://www.mitlift.com/event/toledo-forklift-training-48/
LOCATION:MIT Toledo\, 10406 Geiser Road\, Toledo\, OH\, 43528\, United States
CATEGORIES:Forklift,Forklift Training Toledo
ORGANIZER;CN="George Mackenzie":MAILTO:gmackenzie@mitlift.com
END:VEVENT
END:VCALENDAR