BEGIN:VCALENDAR
VERSION:2.0
PRODID:-//Miami Industrial Trucks - ECPv6.15.20//NONSGML v1.0//EN
CALSCALE:GREGORIAN
METHOD:PUBLISH
X-WR-CALNAME:Miami Industrial Trucks
X-ORIGINAL-URL:https://www.mitlift.com
X-WR-CALDESC:Events for Miami Industrial Trucks
REFRESH-INTERVAL;VALUE=DURATION:PT1H
X-Robots-Tag:noindex
X-PUBLISHED-TTL:PT1H
BEGIN:VTIMEZONE
TZID:America/Detroit
BEGIN:DAYLIGHT
TZOFFSETFROM:-0500
TZOFFSETTO:-0400
TZNAME:EDT
DTSTART:20210314T070000
END:DAYLIGHT
BEGIN:STANDARD
TZOFFSETFROM:-0400
TZOFFSETTO:-0500
TZNAME:EST
DTSTART:20211107T060000
END:STANDARD
BEGIN:DAYLIGHT
TZOFFSETFROM:-0500
TZOFFSETTO:-0400
TZNAME:EDT
DTSTART:20220313T070000
END:DAYLIGHT
BEGIN:STANDARD
TZOFFSETFROM:-0400
TZOFFSETTO:-0500
TZNAME:EST
DTSTART:20221106T060000
END:STANDARD
BEGIN:DAYLIGHT
TZOFFSETFROM:-0500
TZOFFSETTO:-0400
TZNAME:EDT
DTSTART:20230312T070000
END:DAYLIGHT
BEGIN:STANDARD
TZOFFSETFROM:-0400
TZOFFSETTO:-0500
TZNAME:EST
DTSTART:20231105T060000
END:STANDARD
BEGIN:DAYLIGHT
TZOFFSETFROM:-0500
TZOFFSETTO:-0400
TZNAME:EDT
DTSTART:20240310T070000
END:DAYLIGHT
BEGIN:STANDARD
TZOFFSETFROM:-0400
TZOFFSETTO:-0500
TZNAME:EST
DTSTART:20241103T060000
END:STANDARD
END:VTIMEZONE
BEGIN:VEVENT
DTSTART;TZID=America/Detroit:20220901T080000
DTEND;TZID=America/Detroit:20220901T080000
DTSTAMP:20260422T183704
CREATED:20211130T140951Z
LAST-MODIFIED:20220816T190531Z
UID:10000284-1662019200-1662019200@www.mitlift.com
SUMMARY:Troy Aerial Training
DESCRIPTION:
URL:https://www.mitlift.com/event/troy-aerial-training-9/
LOCATION:MIT Troy\, 1101 Horizon West Court\, Troy\, OH\, 45373\, United States
CATEGORIES:Aerial
ORGANIZER;CN="George Mackenzie":MAILTO:gmackenzie@mitlift.com
END:VEVENT
BEGIN:VEVENT
DTSTART;TZID=America/Detroit:20220913T080000
DTEND;TZID=America/Detroit:20220913T080000
DTSTAMP:20260422T183704
CREATED:20211130T142825Z
LAST-MODIFIED:20220302T183617Z
UID:10000296-1663056000-1663056000@www.mitlift.com
SUMMARY:Findlay Aerial Training
DESCRIPTION:
URL:https://www.mitlift.com/event/findlay-aerial-training-9/
LOCATION:MIT Findlay\, 130 Stanford Pkwy\, Findlay\, OH\, 45840\, United States
CATEGORIES:Aerial
ORGANIZER;CN="George Mackenzie":MAILTO:gmackenzie@mitlift.com
END:VEVENT
BEGIN:VEVENT
DTSTART;TZID=America/Detroit:20221011T080000
DTEND;TZID=America/Detroit:20221011T080000
DTSTAMP:20260422T183704
CREATED:20211130T141104Z
LAST-MODIFIED:20220926T180044Z
UID:10000285-1665475200-1665475200@www.mitlift.com
SUMMARY:Troy Aerial Training
DESCRIPTION:
URL:https://www.mitlift.com/event/troy-aerial-training-10/
LOCATION:MIT Troy\, 1101 Horizon West Court\, Troy\, OH\, 45373\, United States
CATEGORIES:Aerial
ORGANIZER;CN="George Mackenzie":MAILTO:gmackenzie@mitlift.com
END:VEVENT
BEGIN:VEVENT
DTSTART;TZID=America/Detroit:20221013T080000
DTEND;TZID=America/Detroit:20221013T080000
DTSTAMP:20260422T183704
CREATED:20211130T143001Z
LAST-MODIFIED:20220302T184023Z
UID:10000297-1665648000-1665648000@www.mitlift.com
SUMMARY:Findlay Aerial Training
DESCRIPTION:
URL:https://www.mitlift.com/event/findlay-aerial-training-10/
LOCATION:MIT Findlay\, 130 Stanford Pkwy\, Findlay\, OH\, 45840\, United States
CATEGORIES:Aerial
ORGANIZER;CN="George Mackenzie":MAILTO:gmackenzie@mitlift.com
END:VEVENT
BEGIN:VEVENT
DTSTART;TZID=America/Detroit:20221108T080000
DTEND;TZID=America/Detroit:20221108T080000
DTSTAMP:20260422T183704
CREATED:20211130T143127Z
LAST-MODIFIED:20220302T184319Z
UID:10000148-1667894400-1667894400@www.mitlift.com
SUMMARY:Findlay Aerial Training
DESCRIPTION:
URL:https://www.mitlift.com/event/findlay-aerial-training-11/
LOCATION:MIT Findlay\, 130 Stanford Pkwy\, Findlay\, OH\, 45840\, United States
CATEGORIES:Aerial
ORGANIZER;CN="George Mackenzie":MAILTO:gmackenzie@mitlift.com
END:VEVENT
BEGIN:VEVENT
DTSTART;TZID=America/Detroit:20221110T080000
DTEND;TZID=America/Detroit:20221110T080000
DTSTAMP:20260422T183704
CREATED:20211130T141254Z
LAST-MODIFIED:20220302T184546Z
UID:10000286-1668067200-1668067200@www.mitlift.com
SUMMARY:Troy Aerial Training
DESCRIPTION:
URL:https://www.mitlift.com/event/troy-aerial-training-11/
LOCATION:MIT Troy\, 1101 Horizon West Court\, Troy\, OH\, 45373\, United States
CATEGORIES:Aerial
ORGANIZER;CN="George Mackenzie":MAILTO:gmackenzie@mitlift.com
END:VEVENT
BEGIN:VEVENT
DTSTART;TZID=America/Detroit:20221206T080000
DTEND;TZID=America/Detroit:20221206T080000
DTSTAMP:20260422T183704
CREATED:20211130T141414Z
LAST-MODIFIED:20220302T184911Z
UID:10000287-1670313600-1670313600@www.mitlift.com
SUMMARY:Troy Aerial Training
DESCRIPTION:
URL:https://www.mitlift.com/event/troy-aerial-training-12/
LOCATION:MIT Troy\, 1101 Horizon West Court\, Troy\, OH\, 45373\, United States
CATEGORIES:Aerial
ORGANIZER;CN="George Mackenzie":MAILTO:gmackenzie@mitlift.com
END:VEVENT
BEGIN:VEVENT
DTSTART;TZID=America/Detroit:20221214T080000
DTEND;TZID=America/Detroit:20221214T080000
DTSTAMP:20260422T183704
CREATED:20211130T143300Z
LAST-MODIFIED:20220302T185054Z
UID:10000150-1671004800-1671004800@www.mitlift.com
SUMMARY:Findlay Aerial Training
DESCRIPTION:
URL:https://www.mitlift.com/event/findlay-aerial-training-12/
LOCATION:MIT Findlay\, 130 Stanford Pkwy\, Findlay\, OH\, 45840\, United States
CATEGORIES:Aerial
ORGANIZER;CN="George Mackenzie":MAILTO:gmackenzie@mitlift.com
END:VEVENT
BEGIN:VEVENT
DTSTART;TZID=America/Detroit:20230117T123000
DTEND;TZID=America/Detroit:20230117T123000
DTSTAMP:20260422T183704
CREATED:20221102T164632Z
LAST-MODIFIED:20230112T184524Z
UID:10000185-1673958600-1673958600@www.mitlift.com
SUMMARY:Troy Aerial Training
DESCRIPTION:
URL:https://www.mitlift.com/event/troy-aerial-training-january-17-2023/
LOCATION:MIT Troy\, 1101 Horizon West Court\, Troy\, OH\, 45373\, United States
CATEGORIES:Aerial
ORGANIZER;CN="George Mackenzie":MAILTO:gmackenzie@mitlift.com
END:VEVENT
BEGIN:VEVENT
DTSTART;TZID=America/Detroit:20230119T123000
DTEND;TZID=America/Detroit:20230119T123000
DTSTAMP:20260422T183704
CREATED:20221213T170429Z
LAST-MODIFIED:20221213T170429Z
UID:10000206-1674131400-1674131400@www.mitlift.com
SUMMARY:Findlay - Aerial Training
DESCRIPTION:
URL:https://www.mitlift.com/event/findlay-aerial-training-13/
LOCATION:MIT Findlay\, 130 Stanford Pkwy\, Findlay\, OH\, 45840\, United States
CATEGORIES:Aerial
ORGANIZER;CN="George Mackenzie":MAILTO:gmackenzie@mitlift.com
END:VEVENT
BEGIN:VEVENT
DTSTART;TZID=America/Detroit:20230214T123000
DTEND;TZID=America/Detroit:20230214T123000
DTSTAMP:20260422T183704
CREATED:20221102T164056Z
LAST-MODIFIED:20230131T134821Z
UID:10000183-1676377800-1676377800@www.mitlift.com
SUMMARY:Troy Aerial Training - February 14\, 2023
DESCRIPTION:
URL:https://www.mitlift.com/event/troy-aerial-training-february-14-2023/
LOCATION:MIT Troy\, 1101 Horizon West Court\, Troy\, OH\, 45373\, United States
CATEGORIES:Aerial
ORGANIZER;CN="George Mackenzie":MAILTO:gmackenzie@mitlift.com
END:VEVENT
BEGIN:VEVENT
DTSTART;TZID=America/Detroit:20230216T123000
DTEND;TZID=America/Detroit:20230216T123000
DTSTAMP:20260422T183704
CREATED:20221213T171059Z
LAST-MODIFIED:20221213T171241Z
UID:10000207-1676550600-1676550600@www.mitlift.com
SUMMARY:Findlay - Aerial Training
DESCRIPTION:
URL:https://www.mitlift.com/event/findlay-aerial-training-14/
LOCATION:MIT Findlay\, 130 Stanford Pkwy\, Findlay\, OH\, 45840\, United States
CATEGORIES:Aerial
ORGANIZER;CN="George Mackenzie":MAILTO:gmackenzie@mitlift.com
END:VEVENT
BEGIN:VEVENT
DTSTART;TZID=America/Detroit:20230314T123000
DTEND;TZID=America/Detroit:20230314T123000
DTSTAMP:20260422T183704
CREATED:20221102T163940Z
LAST-MODIFIED:20230224T154931Z
UID:10000181-1678797000-1678797000@www.mitlift.com
SUMMARY:Troy Aerial Training - March 14\, 2023
DESCRIPTION:
URL:https://www.mitlift.com/event/troy-aerial-training-march-14-2023/
LOCATION:MIT Troy\, 1101 Horizon West Court\, Troy\, OH\, 45373\, United States
CATEGORIES:Aerial
ORGANIZER;CN="George Mackenzie":MAILTO:gmackenzie@mitlift.com
END:VEVENT
BEGIN:VEVENT
DTSTART;TZID=America/Detroit:20230316T123000
DTEND;TZID=America/Detroit:20230316T123000
DTSTAMP:20260422T183704
CREATED:20221213T172041Z
LAST-MODIFIED:20230306T163807Z
UID:10000208-1678969800-1678969800@www.mitlift.com
SUMMARY:Findlay -Aerial Training
DESCRIPTION:
URL:https://www.mitlift.com/event/findlay-aerial-training-15/
LOCATION:MIT Findlay\, 130 Stanford Pkwy\, Findlay\, OH\, 45840\, United States
CATEGORIES:Aerial
ORGANIZER;CN="George Mackenzie":MAILTO:gmackenzie@mitlift.com
END:VEVENT
BEGIN:VEVENT
DTSTART;TZID=America/Detroit:20230411T123000
DTEND;TZID=America/Detroit:20230411T123000
DTSTAMP:20260422T183704
CREATED:20221102T163753Z
LAST-MODIFIED:20230407T143502Z
UID:10000179-1681216200-1681216200@www.mitlift.com
SUMMARY:Troy Aerial Training - April 11\, 2023
DESCRIPTION:
URL:https://www.mitlift.com/event/troy-aerial-training-april-11-2023/
LOCATION:MIT Troy\, 1101 Horizon West Court\, Troy\, OH\, 45373\, United States
CATEGORIES:Aerial
ORGANIZER;CN="George Mackenzie":MAILTO:gmackenzie@mitlift.com
END:VEVENT
BEGIN:VEVENT
DTSTART;TZID=America/Detroit:20230413T123000
DTEND;TZID=America/Detroit:20230413T123000
DTSTAMP:20260422T183704
CREATED:20221213T172756Z
LAST-MODIFIED:20230410T134719Z
UID:10000344-1681389000-1681389000@www.mitlift.com
SUMMARY:Findlay - Aerial Training
DESCRIPTION:
URL:https://www.mitlift.com/event/findlay-aerial-training-16/
LOCATION:MIT Findlay\, 130 Stanford Pkwy\, Findlay\, OH\, 45840\, United States
CATEGORIES:Aerial
ORGANIZER;CN="George Mackenzie":MAILTO:gmackenzie@mitlift.com
END:VEVENT
BEGIN:VEVENT
DTSTART;TZID=America/Detroit:20230509T123000
DTEND;TZID=America/Detroit:20230509T123000
DTSTAMP:20260422T183704
CREATED:20221213T173304Z
LAST-MODIFIED:20230501T183210Z
UID:10000345-1683635400-1683635400@www.mitlift.com
SUMMARY:Troy- Aerial Training
DESCRIPTION:
URL:https://www.mitlift.com/event/findlay-aerial-training-17/
LOCATION:MIT Troy\, 1101 Horizon West Court\, Troy\, OH\, 45373\, United States
CATEGORIES:Aerial
ORGANIZER;CN="George Mackenzie":MAILTO:gmackenzie@mitlift.com
END:VEVENT
BEGIN:VEVENT
DTSTART;TZID=America/Detroit:20230511T123000
DTEND;TZID=America/Detroit:20230511T123000
DTSTAMP:20260422T183704
CREATED:20221102T163626Z
LAST-MODIFIED:20230505T122949Z
UID:10000178-1683808200-1683808200@www.mitlift.com
SUMMARY:Findlay Aerial Training
DESCRIPTION:
URL:https://www.mitlift.com/event/troy-aerial-training-may-9-2023/
LOCATION:MIT Findlay\, 130 Stanford Pkwy\, Findlay\, OH\, 45840\, United States
CATEGORIES:Aerial
ORGANIZER;CN="George Mackenzie":MAILTO:gmackenzie@mitlift.com
END:VEVENT
BEGIN:VEVENT
DTSTART;TZID=America/Detroit:20230613T123000
DTEND;TZID=America/Detroit:20230613T123000
DTSTAMP:20260422T183704
CREATED:20221213T173951Z
LAST-MODIFIED:20230524T011313Z
UID:10000347-1686659400-1686659400@www.mitlift.com
SUMMARY:Troy - Aerial Training
DESCRIPTION:
URL:https://www.mitlift.com/event/troy-aerial-training-13/
LOCATION:MIT Troy\, 1101 Horizon West Court\, Troy\, OH\, 45373\, United States
CATEGORIES:Aerial
ORGANIZER;CN="George Mackenzie":MAILTO:gmackenzie@mitlift.com
END:VEVENT
BEGIN:VEVENT
DTSTART;TZID=America/Detroit:20230615T123000
DTEND;TZID=America/Detroit:20230615T123000
DTSTAMP:20260422T183704
CREATED:20221213T173632Z
LAST-MODIFIED:20230524T011840Z
UID:10000346-1686832200-1686832200@www.mitlift.com
SUMMARY:Findlay - Aerial Training
DESCRIPTION:
URL:https://www.mitlift.com/event/findlay-aerial-training-18/
LOCATION:MIT Findlay\, 130 Stanford Pkwy\, Findlay\, OH\, 45840\, United States
CATEGORIES:Aerial
ORGANIZER;CN="George Mackenzie":MAILTO:gmackenzie@mitlift.com
END:VEVENT
BEGIN:VEVENT
DTSTART;TZID=America/Detroit:20230718T123000
DTEND;TZID=America/Detroit:20230718T123000
DTSTAMP:20260422T183704
CREATED:20221102T163328Z
LAST-MODIFIED:20230707T145646Z
UID:10000177-1689683400-1689683400@www.mitlift.com
SUMMARY:Troy Aerial Training
DESCRIPTION:
URL:https://www.mitlift.com/event/troy-aerial-training-july-18-2023/
LOCATION:MIT Troy\, 1101 Horizon West Court\, Troy\, OH\, 45373\, United States
CATEGORIES:Aerial
ORGANIZER;CN="George Mackenzie":MAILTO:gmackenzie@mitlift.com
END:VEVENT
BEGIN:VEVENT
DTSTART;TZID=America/Detroit:20230720T123000
DTEND;TZID=America/Detroit:20230720T123000
DTSTAMP:20260422T183704
CREATED:20221213T192514Z
LAST-MODIFIED:20230718T153030Z
UID:10000348-1689856200-1689856200@www.mitlift.com
SUMMARY:Findlay - Aerial Training
DESCRIPTION:
URL:https://www.mitlift.com/event/findlay-aerial-training-19/
LOCATION:MIT Findlay\, 130 Stanford Pkwy\, Findlay\, OH\, 45840\, United States
CATEGORIES:Aerial
ORGANIZER;CN="George Mackenzie":MAILTO:gmackenzie@mitlift.com
END:VEVENT
BEGIN:VEVENT
DTSTART;TZID=America/Detroit:20230815T123000
DTEND;TZID=America/Detroit:20230815T123000
DTSTAMP:20260422T183704
CREATED:20221102T163123Z
LAST-MODIFIED:20230310T165240Z
UID:10000176-1692102600-1692102600@www.mitlift.com
SUMMARY:Troy Aerial Training -August 15\, 2023
DESCRIPTION:
URL:https://www.mitlift.com/event/troy-aerial-training-august-15-2023/
LOCATION:MIT Troy\, 1101 Horizon West Court\, Troy\, OH\, 45373\, United States
CATEGORIES:Aerial
ORGANIZER;CN="George Mackenzie":MAILTO:gmackenzie@mitlift.com
END:VEVENT
BEGIN:VEVENT
DTSTART;TZID=America/Detroit:20230817T123000
DTEND;TZID=America/Detroit:20230817T123000
DTSTAMP:20260422T183704
CREATED:20221213T192847Z
LAST-MODIFIED:20230310T165651Z
UID:10000349-1692275400-1692275400@www.mitlift.com
SUMMARY:Findlay - Aerial Training
DESCRIPTION:
URL:https://www.mitlift.com/event/findlay-aerial-training-20/
LOCATION:MIT Findlay\, 130 Stanford Pkwy\, Findlay\, OH\, 45840\, United States
CATEGORIES:Aerial
ORGANIZER;CN="George Mackenzie":MAILTO:gmackenzie@mitlift.com
END:VEVENT
BEGIN:VEVENT
DTSTART;TZID=America/Detroit:20230912T123000
DTEND;TZID=America/Detroit:20230912T123000
DTSTAMP:20260422T183704
CREATED:20221102T162953Z
LAST-MODIFIED:20230310T170623Z
UID:10000175-1694521800-1694521800@www.mitlift.com
SUMMARY:Troy Aerial Training -September 12\, 2023
DESCRIPTION:
URL:https://www.mitlift.com/event/troy-aerial-training-september-12-2023/
LOCATION:MIT Troy\, 1101 Horizon West Court\, Troy\, OH\, 45373\, United States
CATEGORIES:Aerial
ORGANIZER;CN="George Mackenzie":MAILTO:gmackenzie@mitlift.com
END:VEVENT
BEGIN:VEVENT
DTSTART;TZID=America/Detroit:20230914T123000
DTEND;TZID=America/Detroit:20230914T123000
DTSTAMP:20260422T183704
CREATED:20221213T193050Z
LAST-MODIFIED:20230908T155930Z
UID:10000350-1694694600-1694694600@www.mitlift.com
SUMMARY:Findlay - Aerial Training
DESCRIPTION:
URL:https://www.mitlift.com/event/findlay-aerial-training-21/
LOCATION:MIT Findlay\, 130 Stanford Pkwy\, Findlay\, OH\, 45840\, United States
CATEGORIES:Aerial
ORGANIZER;CN="George Mackenzie":MAILTO:gmackenzie@mitlift.com
END:VEVENT
BEGIN:VEVENT
DTSTART;TZID=America/Detroit:20231017T123000
DTEND;TZID=America/Detroit:20231017T123000
DTSTAMP:20260422T183704
CREATED:20221102T162813Z
LAST-MODIFIED:20230814T173641Z
UID:10000174-1697545800-1697545800@www.mitlift.com
SUMMARY:Troy Aerial Training - October 17\, 2023
DESCRIPTION:
URL:https://www.mitlift.com/event/troy-aerial-training-october-17-2023/
LOCATION:MIT Troy\, 1101 Horizon West Court\, Troy\, OH\, 45373\, United States
CATEGORIES:Aerial
ORGANIZER;CN="George Mackenzie":MAILTO:gmackenzie@mitlift.com
END:VEVENT
BEGIN:VEVENT
DTSTART;TZID=America/Detroit:20231019T123000
DTEND;TZID=America/Detroit:20231019T123000
DTSTAMP:20260422T183704
CREATED:20221213T193359Z
LAST-MODIFIED:20230310T191630Z
UID:10000351-1697718600-1697718600@www.mitlift.com
SUMMARY:Findlay - Aerial Training
DESCRIPTION:
URL:https://www.mitlift.com/event/findlay-aerial-training-22/
LOCATION:MIT Findlay\, 130 Stanford Pkwy\, Findlay\, OH\, 45840\, United States
CATEGORIES:Aerial
ORGANIZER;CN="George Mackenzie":MAILTO:gmackenzie@mitlift.com
END:VEVENT
BEGIN:VEVENT
DTSTART;TZID=America/Detroit:20231114T123000
DTEND;TZID=America/Detroit:20231114T123000
DTSTAMP:20260422T183704
CREATED:20221102T162559Z
LAST-MODIFIED:20231102T184024Z
UID:10000323-1699965000-1699965000@www.mitlift.com
SUMMARY:Troy Aerial Training - November 14\, 2023
DESCRIPTION:
URL:https://www.mitlift.com/event/troy-aerial-training-november-14-2023/
LOCATION:MIT Troy\, 1101 Horizon West Court\, Troy\, OH\, 45373\, United States
CATEGORIES:Aerial
ORGANIZER;CN="George Mackenzie":MAILTO:gmackenzie@mitlift.com
END:VEVENT
BEGIN:VEVENT
DTSTART;TZID=America/Detroit:20231116T123000
DTEND;TZID=America/Detroit:20231116T123000
DTSTAMP:20260422T183704
CREATED:20221213T193932Z
LAST-MODIFIED:20231103T143703Z
UID:10000352-1700137800-1700137800@www.mitlift.com
SUMMARY:Findlay - Aerial Training
DESCRIPTION:
URL:https://www.mitlift.com/event/findlay-aerial-training-23/
LOCATION:MIT Findlay\, 130 Stanford Pkwy\, Findlay\, OH\, 45840\, United States
CATEGORIES:Aerial
END:VEVENT
END:VCALENDAR