BEGIN:VCALENDAR
VERSION:2.0
PRODID:-//Miami Industrial Trucks - ECPv6.15.20//NONSGML v1.0//EN
CALSCALE:GREGORIAN
METHOD:PUBLISH
X-WR-CALNAME:Miami Industrial Trucks
X-ORIGINAL-URL:https://www.mitlift.com
X-WR-CALDESC:Events for Miami Industrial Trucks
REFRESH-INTERVAL;VALUE=DURATION:PT1H
X-Robots-Tag:noindex
X-PUBLISHED-TTL:PT1H
BEGIN:VTIMEZONE
TZID:America/Detroit
BEGIN:DAYLIGHT
TZOFFSETFROM:-0500
TZOFFSETTO:-0400
TZNAME:EDT
DTSTART:20200308T070000
END:DAYLIGHT
BEGIN:STANDARD
TZOFFSETFROM:-0400
TZOFFSETTO:-0500
TZNAME:EST
DTSTART:20201101T060000
END:STANDARD
BEGIN:DAYLIGHT
TZOFFSETFROM:-0500
TZOFFSETTO:-0400
TZNAME:EDT
DTSTART:20210314T070000
END:DAYLIGHT
BEGIN:STANDARD
TZOFFSETFROM:-0400
TZOFFSETTO:-0500
TZNAME:EST
DTSTART:20211107T060000
END:STANDARD
BEGIN:DAYLIGHT
TZOFFSETFROM:-0500
TZOFFSETTO:-0400
TZNAME:EDT
DTSTART:20220313T070000
END:DAYLIGHT
BEGIN:STANDARD
TZOFFSETFROM:-0400
TZOFFSETTO:-0500
TZNAME:EST
DTSTART:20221106T060000
END:STANDARD
BEGIN:DAYLIGHT
TZOFFSETFROM:-0500
TZOFFSETTO:-0400
TZNAME:EDT
DTSTART:20230312T070000
END:DAYLIGHT
BEGIN:STANDARD
TZOFFSETFROM:-0400
TZOFFSETTO:-0500
TZNAME:EST
DTSTART:20231105T060000
END:STANDARD
END:VTIMEZONE
BEGIN:VEVENT
DTSTART;TZID=America/Detroit:20210608T083000
DTEND;TZID=America/Detroit:20210608T140000
DTSTAMP:20260423T051511
CREATED:20201202T172426Z
LAST-MODIFIED:20210318T174715Z
UID:10000218-1623141000-1623160800@www.mitlift.com
SUMMARY:Troy Aerial
DESCRIPTION:
URL:https://www.mitlift.com/event/troy-aerial-20/
LOCATION:MIT Troy\, 1101 Horizon West Court\, Troy\, OH\, 45373\, United States
CATEGORIES:Aerial
ORGANIZER;CN="George Mackenzie":MAILTO:gmackenzie@mitlift.com
END:VEVENT
BEGIN:VEVENT
DTSTART;TZID=America/Detroit:20210608T083000
DTEND;TZID=America/Detroit:20210608T140000
DTSTAMP:20260423T051511
CREATED:20201202T172558Z
LAST-MODIFIED:20210602T120455Z
UID:10000219-1623141000-1623160800@www.mitlift.com
SUMMARY:Findlay Aerial
DESCRIPTION:
URL:https://www.mitlift.com/event/findlay-forklift-25/
LOCATION:MIT Findlay\, 130 Stanford Pkwy\, Findlay\, OH\, 45840\, United States
CATEGORIES:Aerial
ORGANIZER;CN="George Mackenzie":MAILTO:gmackenzie@mitlift.com
END:VEVENT
BEGIN:VEVENT
DTSTART;TZID=America/Detroit:20210713T083000
DTEND;TZID=America/Detroit:20210713T140000
DTSTAMP:20260423T051511
CREATED:20201202T172747Z
LAST-MODIFIED:20210318T174626Z
UID:10000220-1626165000-1626184800@www.mitlift.com
SUMMARY:Troy Aerial
DESCRIPTION:
URL:https://www.mitlift.com/event/troy-aerial-21/
LOCATION:MIT Troy\, 1101 Horizon West Court\, Troy\, OH\, 45373\, United States
CATEGORIES:Aerial
ORGANIZER;CN="George Mackenzie":MAILTO:gmackenzie@mitlift.com
END:VEVENT
BEGIN:VEVENT
DTSTART;TZID=America/Detroit:20210713T083000
DTEND;TZID=America/Detroit:20210713T140000
DTSTAMP:20260423T051511
CREATED:20201202T172909Z
LAST-MODIFIED:20210318T174551Z
UID:10000221-1626165000-1626184800@www.mitlift.com
SUMMARY:Findlay Aerial
DESCRIPTION:
URL:https://www.mitlift.com/event/findlay-aerial-17/
LOCATION:MIT Findlay\, 130 Stanford Pkwy\, Findlay\, OH\, 45840\, United States
CATEGORIES:Aerial
ORGANIZER;CN="George Mackenzie":MAILTO:gmackenzie@mitlift.com
END:VEVENT
BEGIN:VEVENT
DTSTART;TZID=America/Detroit:20210810T083000
DTEND;TZID=America/Detroit:20210810T140000
DTSTAMP:20260423T051511
CREATED:20201202T173229Z
LAST-MODIFIED:20210318T174520Z
UID:10000223-1628584200-1628604000@www.mitlift.com
SUMMARY:Findlay Aerial
DESCRIPTION:
URL:https://www.mitlift.com/event/findlay-aerial-18/
LOCATION:MIT Findlay\, 130 Stanford Pkwy\, Findlay\, OH\, 45840\, United States
CATEGORIES:Aerial
ORGANIZER;CN="George Mackenzie":MAILTO:gmackenzie@mitlift.com
END:VEVENT
BEGIN:VEVENT
DTSTART;TZID=America/Detroit:20210810T083000
DTEND;TZID=America/Detroit:20210810T143000
DTSTAMP:20260423T051511
CREATED:20201202T173058Z
LAST-MODIFIED:20210318T174502Z
UID:10000222-1628584200-1628605800@www.mitlift.com
SUMMARY:Troy Aerial
DESCRIPTION:
URL:https://www.mitlift.com/event/troy-aerial-22/
LOCATION:MIT Troy\, 1101 Horizon West Court\, Troy\, OH\, 45373\, United States
CATEGORIES:Aerial
ORGANIZER;CN="George Mackenzie":MAILTO:gmackenzie@mitlift.com
END:VEVENT
BEGIN:VEVENT
DTSTART;TZID=America/Detroit:20210914T083000
DTEND;TZID=America/Detroit:20210914T140000
DTSTAMP:20260423T051511
CREATED:20201202T173402Z
LAST-MODIFIED:20210318T174430Z
UID:10000224-1631608200-1631628000@www.mitlift.com
SUMMARY:Troy Aerial
DESCRIPTION:
URL:https://www.mitlift.com/event/troy-aerial-23/
LOCATION:MIT Findlay\, 130 Stanford Pkwy\, Findlay\, OH\, 45840\, United States
CATEGORIES:Aerial
ORGANIZER;CN="George Mackenzie":MAILTO:gmackenzie@mitlift.com
END:VEVENT
BEGIN:VEVENT
DTSTART;TZID=America/Detroit:20210914T083000
DTEND;TZID=America/Detroit:20210914T140000
DTSTAMP:20260423T051511
CREATED:20201202T173529Z
LAST-MODIFIED:20210318T174409Z
UID:10000225-1631608200-1631628000@www.mitlift.com
SUMMARY:Findlay Aerial
DESCRIPTION:
URL:https://www.mitlift.com/event/findlay-aerial-19/
LOCATION:MIT Findlay\, 130 Stanford Pkwy\, Findlay\, OH\, 45840\, United States
CATEGORIES:Aerial
ORGANIZER;CN="George Mackenzie":MAILTO:gmackenzie@mitlift.com
END:VEVENT
BEGIN:VEVENT
DTSTART;TZID=America/Detroit:20211012T083000
DTEND;TZID=America/Detroit:20211012T140000
DTSTAMP:20260423T051511
CREATED:20201202T173641Z
LAST-MODIFIED:20210318T174344Z
UID:10000226-1634027400-1634047200@www.mitlift.com
SUMMARY:Troy Aerial
DESCRIPTION:
URL:https://www.mitlift.com/event/troy-aerial-24/
LOCATION:MIT Troy\, 1101 Horizon West Court\, Troy\, OH\, 45373\, United States
CATEGORIES:Aerial
ORGANIZER;CN="George Mackenzie":MAILTO:gmackenzie@mitlift.com
END:VEVENT
BEGIN:VEVENT
DTSTART;TZID=America/Detroit:20211012T083000
DTEND;TZID=America/Detroit:20211012T143000
DTSTAMP:20260423T051511
CREATED:20210318T180902Z
LAST-MODIFIED:20210318T180902Z
UID:10000084-1634027400-1634049000@www.mitlift.com
SUMMARY:Findlay Aerial
DESCRIPTION:
URL:https://www.mitlift.com/event/findlay-aerial/
LOCATION:MIT Findlay\, 130 Stanford Pkwy\, Findlay\, OH\, 45840\, United States
CATEGORIES:Aerial
ORGANIZER;CN="George Mackenzie":MAILTO:gmackenzie@mitlift.com
END:VEVENT
BEGIN:VEVENT
DTSTART;TZID=America/Detroit:20211109T083000
DTEND;TZID=America/Detroit:20211109T140000
DTSTAMP:20260423T051511
CREATED:20201202T173846Z
LAST-MODIFIED:20210318T174318Z
UID:10000228-1636446600-1636466400@www.mitlift.com
SUMMARY:Troy Aerial
DESCRIPTION:
URL:https://www.mitlift.com/event/troy-aerial-25/
LOCATION:MIT Troy\, 1101 Horizon West Court\, Troy\, OH\, 45373\, United States
CATEGORIES:Aerial
ORGANIZER;CN="George Mackenzie":MAILTO:gmackenzie@mitlift.com
END:VEVENT
BEGIN:VEVENT
DTSTART;TZID=America/Detroit:20211109T083000
DTEND;TZID=America/Detroit:20211109T140000
DTSTAMP:20260423T051511
CREATED:20201202T173952Z
LAST-MODIFIED:20210318T174258Z
UID:10000229-1636446600-1636466400@www.mitlift.com
SUMMARY:Findlay Aerial
DESCRIPTION:
URL:https://www.mitlift.com/event/findlay-aerial-21/
LOCATION:MIT Findlay\, 130 Stanford Pkwy\, Findlay\, OH\, 45840\, United States
CATEGORIES:Aerial
ORGANIZER;CN="George Mackenzie":MAILTO:gmackenzie@mitlift.com
END:VEVENT
BEGIN:VEVENT
DTSTART;TZID=America/Detroit:20211207T083000
DTEND;TZID=America/Detroit:20211207T140000
DTSTAMP:20260423T051511
CREATED:20201202T174233Z
LAST-MODIFIED:20210318T174008Z
UID:10000231-1638865800-1638885600@www.mitlift.com
SUMMARY:Troy Aerial
DESCRIPTION:
URL:https://www.mitlift.com/event/troy-aerial-26/
LOCATION:MIT Dayton\, 2830 E. River Road\, Dayton\, OH\, 45439\, United States
CATEGORIES:Aerial
ORGANIZER;CN="George Mackenzie":MAILTO:gmackenzie@mitlift.com
END:VEVENT
BEGIN:VEVENT
DTSTART;TZID=America/Detroit:20211207T110000
DTEND;TZID=America/Detroit:20211207T110000
DTSTAMP:20260423T051511
CREATED:20201202T174140Z
LAST-MODIFIED:20211129T132227Z
UID:10000230-1638874800-1638874800@www.mitlift.com
SUMMARY:Findlay Aerial
DESCRIPTION:
URL:https://www.mitlift.com/event/forklift-aerial/
LOCATION:MIT Findlay\, 130 Stanford Pkwy\, Findlay\, OH\, 45840\, United States
CATEGORIES:Aerial
ORGANIZER;CN="George Mackenzie":MAILTO:gmackenzie@mitlift.com
END:VEVENT
BEGIN:VEVENT
DTSTART;TZID=America/Detroit:20220111T080000
DTEND;TZID=America/Detroit:20220111T080000
DTSTAMP:20260423T051511
CREATED:20211130T134850Z
LAST-MODIFIED:20211130T134932Z
UID:10000146-1641888000-1641888000@www.mitlift.com
SUMMARY:Troy Aerial Training
DESCRIPTION:
URL:https://www.mitlift.com/event/troy-aerial-training/
LOCATION:MIT Troy\, 1101 Horizon West Court\, Troy\, OH\, 45373\, United States
CATEGORIES:Aerial
ORGANIZER;CN="George Mackenzie":MAILTO:gmackenzie@mitlift.com
END:VEVENT
BEGIN:VEVENT
DTSTART;TZID=America/Detroit:20220112T080000
DTEND;TZID=America/Detroit:20220112T080000
DTSTAMP:20260423T051511
CREATED:20211130T141555Z
LAST-MODIFIED:20211130T141555Z
UID:10000288-1641974400-1641974400@www.mitlift.com
SUMMARY:Findlay Aerial Training
DESCRIPTION:
URL:https://www.mitlift.com/event/findlay-aerial-training/
LOCATION:MIT Findlay\, 130 Stanford Pkwy\, Findlay\, OH\, 45840\, United States
CATEGORIES:Aerial
ORGANIZER;CN="George Mackenzie":MAILTO:gmackenzie@mitlift.com
END:VEVENT
BEGIN:VEVENT
DTSTART;TZID=America/Detroit:20220208T080000
DTEND;TZID=America/Detroit:20220208T080000
DTSTAMP:20260423T051511
CREATED:20211130T135230Z
LAST-MODIFIED:20220126T133730Z
UID:10000277-1644307200-1644307200@www.mitlift.com
SUMMARY:Troy Aerial Training
DESCRIPTION:
URL:https://www.mitlift.com/event/troy-aerial-training-2/
LOCATION:MIT Troy\, 1101 Horizon West Court\, Troy\, OH\, 45373\, United States
CATEGORIES:Aerial
ORGANIZER;CN="George Mackenzie":MAILTO:gmackenzie@mitlift.com
END:VEVENT
BEGIN:VEVENT
DTSTART;TZID=America/Detroit:20220209T080000
DTEND;TZID=America/Detroit:20220209T080000
DTSTAMP:20260423T051511
CREATED:20211130T141714Z
LAST-MODIFIED:20211130T141714Z
UID:10000289-1644393600-1644393600@www.mitlift.com
SUMMARY:Findlay Aerial Training
DESCRIPTION:
URL:https://www.mitlift.com/event/findlay-aerial-training-2/
LOCATION:MIT Findlay\, 130 Stanford Pkwy\, Findlay\, OH\, 45840\, United States
CATEGORIES:Aerial
ORGANIZER;CN="George Mackenzie":MAILTO:gmackenzie@mitlift.com
END:VEVENT
BEGIN:VEVENT
DTSTART;TZID=America/Detroit:20220308T080000
DTEND;TZID=America/Detroit:20220308T080000
DTSTAMP:20260423T051511
CREATED:20211130T141853Z
LAST-MODIFIED:20220302T164132Z
UID:10000290-1646726400-1646726400@www.mitlift.com
SUMMARY:Findlay Aerial Training
DESCRIPTION:
URL:https://www.mitlift.com/event/findlay-aerial-training-3/
LOCATION:MIT Findlay\, 130 Stanford Pkwy\, Findlay\, OH\, 45840\, United States
CATEGORIES:Aerial
ORGANIZER;CN="George Mackenzie":MAILTO:gmackenzie@mitlift.com
END:VEVENT
BEGIN:VEVENT
DTSTART;TZID=America/Detroit:20220310T080000
DTEND;TZID=America/Detroit:20220310T080000
DTSTAMP:20260423T051511
CREATED:20211130T135416Z
LAST-MODIFIED:20220225T165404Z
UID:10000278-1646899200-1646899200@www.mitlift.com
SUMMARY:Troy Aerial Training
DESCRIPTION:
URL:https://www.mitlift.com/event/troy-aerial-training-3/
LOCATION:MIT Troy\, 1101 Horizon West Court\, Troy\, OH\, 45373\, United States
CATEGORIES:Aerial
ORGANIZER;CN="George Mackenzie":MAILTO:gmackenzie@mitlift.com
END:VEVENT
BEGIN:VEVENT
DTSTART;TZID=America/Detroit:20220413T080000
DTEND;TZID=America/Detroit:20220413T080000
DTSTAMP:20260423T051511
CREATED:20211130T135614Z
LAST-MODIFIED:20220302T164646Z
UID:10000279-1649836800-1649836800@www.mitlift.com
SUMMARY:Troy Aerial Training
DESCRIPTION:
URL:https://www.mitlift.com/event/troy-aerial-training-4/
LOCATION:MIT Troy\, 1101 Horizon West Court\, Troy\, OH\, 45373\, United States
CATEGORIES:Aerial
ORGANIZER;CN="George Mackenzie":MAILTO:gmackenzie@mitlift.com
END:VEVENT
BEGIN:VEVENT
DTSTART;TZID=America/Detroit:20220419T080000
DTEND;TZID=America/Detroit:20220419T080000
DTSTAMP:20260423T051511
CREATED:20211130T142029Z
LAST-MODIFIED:20220302T164829Z
UID:10000291-1650355200-1650355200@www.mitlift.com
SUMMARY:Findlay Aerial Training
DESCRIPTION:
URL:https://www.mitlift.com/event/findlay-aerial-training-4/
LOCATION:MIT Findlay\, 130 Stanford Pkwy\, Findlay\, OH\, 45840\, United States
CATEGORIES:Aerial
ORGANIZER;CN="George Mackenzie":MAILTO:gmackenzie@mitlift.com
END:VEVENT
BEGIN:VEVENT
DTSTART;TZID=America/Detroit:20220505T080000
DTEND;TZID=America/Detroit:20220505T080000
DTSTAMP:20260423T051511
CREATED:20211130T135749Z
LAST-MODIFIED:20220428T122159Z
UID:10000280-1651737600-1651737600@www.mitlift.com
SUMMARY:Troy Aerial Training
DESCRIPTION:
URL:https://www.mitlift.com/event/troy-aerial-training-5/
LOCATION:MIT Troy\, 1101 Horizon West Court\, Troy\, OH\, 45373\, United States
CATEGORIES:Aerial
ORGANIZER;CN="George Mackenzie":MAILTO:gmackenzie@mitlift.com
END:VEVENT
BEGIN:VEVENT
DTSTART;TZID=America/Detroit:20220511T080000
DTEND;TZID=America/Detroit:20220511T080000
DTSTAMP:20260423T051511
CREATED:20211130T142243Z
LAST-MODIFIED:20220509T154305Z
UID:10000292-1652256000-1652256000@www.mitlift.com
SUMMARY:Findlay Aerial Training
DESCRIPTION:Classes will be conducted in English.\nThe attendee will need to provide a harness. \n 
URL:https://www.mitlift.com/event/findlay-aerial-training-5/
LOCATION:MIT Findlay\, 130 Stanford Pkwy\, Findlay\, OH\, 45840\, United States
CATEGORIES:Aerial
ORGANIZER;CN="George Mackenzie":MAILTO:gmackenzie@mitlift.com
END:VEVENT
BEGIN:VEVENT
DTSTART;TZID=America/Detroit:20220602T080000
DTEND;TZID=America/Detroit:20220602T080000
DTSTAMP:20260423T051511
CREATED:20211130T135910Z
LAST-MODIFIED:20220302T165753Z
UID:10000281-1654156800-1654156800@www.mitlift.com
SUMMARY:Troy Aerial Training
DESCRIPTION:
URL:https://www.mitlift.com/event/troy-aerial-training-6/
LOCATION:MIT Troy\, 1101 Horizon West Court\, Troy\, OH\, 45373\, United States
CATEGORIES:Aerial
ORGANIZER;CN="George Mackenzie":MAILTO:gmackenzie@mitlift.com
END:VEVENT
BEGIN:VEVENT
DTSTART;TZID=America/Detroit:20220614T080000
DTEND;TZID=America/Detroit:20220614T080000
DTSTAMP:20260423T051511
CREATED:20211130T142410Z
LAST-MODIFIED:20220302T182109Z
UID:10000293-1655193600-1655193600@www.mitlift.com
SUMMARY:Findlay Aerial Training
DESCRIPTION:
URL:https://www.mitlift.com/event/findlay-aerial-training-6/
LOCATION:MIT Findlay\, 130 Stanford Pkwy\, Findlay\, OH\, 45840\, United States
CATEGORIES:Aerial
ORGANIZER;CN="George Mackenzie":MAILTO:gmackenzie@mitlift.com
END:VEVENT
BEGIN:VEVENT
DTSTART;TZID=America/Detroit:20220712T080000
DTEND;TZID=America/Detroit:20220712T080000
DTSTAMP:20260423T051511
CREATED:20211130T140028Z
LAST-MODIFIED:20220628T155356Z
UID:10000282-1657612800-1657612800@www.mitlift.com
SUMMARY:Troy Aerial Training
DESCRIPTION:
URL:https://www.mitlift.com/event/troy-aerial-training-7/
LOCATION:MIT Troy\, 1101 Horizon West Court\, Troy\, OH\, 45373\, United States
CATEGORIES:Aerial
ORGANIZER;CN="George Mackenzie":MAILTO:gmackenzie@mitlift.com
END:VEVENT
BEGIN:VEVENT
DTSTART;TZID=America/Detroit:20220714T080000
DTEND;TZID=America/Detroit:20220714T080000
DTSTAMP:20260423T051511
CREATED:20211130T142529Z
LAST-MODIFIED:20220628T155159Z
UID:10000294-1657785600-1657785600@www.mitlift.com
SUMMARY:Findlay Aerial Training
DESCRIPTION:
URL:https://www.mitlift.com/event/findlay-aerial-training-7/
LOCATION:MIT Findlay\, 130 Stanford Pkwy\, Findlay\, OH\, 45840\, United States
CATEGORIES:Aerial
ORGANIZER;CN="George Mackenzie":MAILTO:gmackenzie@mitlift.com
END:VEVENT
BEGIN:VEVENT
DTSTART;TZID=America/Detroit:20220809T080000
DTEND;TZID=America/Detroit:20220809T080000
DTSTAMP:20260423T051511
CREATED:20211130T140731Z
LAST-MODIFIED:20220804T121902Z
UID:10000283-1660032000-1660032000@www.mitlift.com
SUMMARY:Troy Aerial Training
DESCRIPTION:
URL:https://www.mitlift.com/event/troy-aerial-training-8/
LOCATION:MIT Troy\, 1101 Horizon West Court\, Troy\, OH\, 45373\, United States
CATEGORIES:Aerial
ORGANIZER;CN="George Mackenzie":MAILTO:gmackenzie@mitlift.com
END:VEVENT
BEGIN:VEVENT
DTSTART;TZID=America/Detroit:20220811T080000
DTEND;TZID=America/Detroit:20220811T080000
DTSTAMP:20260423T051511
CREATED:20211130T142657Z
LAST-MODIFIED:20220302T164008Z
UID:10000295-1660204800-1660204800@www.mitlift.com
SUMMARY:Findlay Aerial Training
DESCRIPTION:
URL:https://www.mitlift.com/event/findlay-aerial-training-8/
LOCATION:MIT Findlay\, 130 Stanford Pkwy\, Findlay\, OH\, 45840\, United States
CATEGORIES:Aerial
ORGANIZER;CN="George Mackenzie":MAILTO:gmackenzie@mitlift.com
END:VEVENT
END:VCALENDAR