BEGIN:VCALENDAR
VERSION:2.0
PRODID:-//Miami Industrial Trucks - ECPv6.15.20//NONSGML v1.0//EN
CALSCALE:GREGORIAN
METHOD:PUBLISH
X-WR-CALNAME:Miami Industrial Trucks
X-ORIGINAL-URL:https://www.mitlift.com
X-WR-CALDESC:Events for Miami Industrial Trucks
REFRESH-INTERVAL;VALUE=DURATION:PT1H
X-Robots-Tag:noindex
X-PUBLISHED-TTL:PT1H
BEGIN:VTIMEZONE
TZID:America/Detroit
BEGIN:DAYLIGHT
TZOFFSETFROM:-0500
TZOFFSETTO:-0400
TZNAME:EDT
DTSTART:20240310T070000
END:DAYLIGHT
BEGIN:STANDARD
TZOFFSETFROM:-0400
TZOFFSETTO:-0500
TZNAME:EST
DTSTART:20241103T060000
END:STANDARD
BEGIN:DAYLIGHT
TZOFFSETFROM:-0500
TZOFFSETTO:-0400
TZNAME:EDT
DTSTART:20250309T070000
END:DAYLIGHT
BEGIN:STANDARD
TZOFFSETFROM:-0400
TZOFFSETTO:-0500
TZNAME:EST
DTSTART:20251102T060000
END:STANDARD
BEGIN:DAYLIGHT
TZOFFSETFROM:-0500
TZOFFSETTO:-0400
TZNAME:EDT
DTSTART:20260308T070000
END:DAYLIGHT
BEGIN:STANDARD
TZOFFSETFROM:-0400
TZOFFSETTO:-0500
TZNAME:EST
DTSTART:20261101T060000
END:STANDARD
BEGIN:DAYLIGHT
TZOFFSETFROM:-0500
TZOFFSETTO:-0400
TZNAME:EDT
DTSTART:20270314T070000
END:DAYLIGHT
BEGIN:STANDARD
TZOFFSETFROM:-0400
TZOFFSETTO:-0500
TZNAME:EST
DTSTART:20271107T060000
END:STANDARD
END:VTIMEZONE
BEGIN:VEVENT
DTSTART;TZID=America/Detroit:20251022T123000
DTEND;TZID=America/Detroit:20251022T123000
DTSTAMP:20260420T024733
CREATED:20250211T162841Z
LAST-MODIFIED:20250211T163059Z
UID:10000533-1761136200-1761136200@www.mitlift.com
SUMMARY:Toledo Aerial Training
DESCRIPTION:
URL:https://www.mitlift.com/event/toledo-aerial-training-7/
LOCATION:MIT Toledo\, 10406 Geiser Road\, Toledo\, OH\, 43528\, United States
CATEGORIES:Aerial,Aerial Toledo Training
ORGANIZER;CN="George Mackenzie":MAILTO:gmackenzie@mitlift.com
END:VEVENT
BEGIN:VEVENT
DTSTART;TZID=America/Detroit:20251119T123000
DTEND;TZID=America/Detroit:20251119T123000
DTSTAMP:20260420T024733
CREATED:20250211T163421Z
LAST-MODIFIED:20250211T163556Z
UID:10000534-1763555400-1763555400@www.mitlift.com
SUMMARY:Toledo Aerial Training
DESCRIPTION:
URL:https://www.mitlift.com/event/toledo-aerial-training-8/
LOCATION:MIT Toledo\, 10406 Geiser Road\, Toledo\, OH\, 43528\, United States
CATEGORIES:Aerial,Aerial Toledo Training
ORGANIZER;CN="George Mackenzie":MAILTO:gmackenzie@mitlift.com
END:VEVENT
BEGIN:VEVENT
DTSTART;TZID=America/Detroit:20251217T123000
DTEND;TZID=America/Detroit:20251217T123000
DTSTAMP:20260420T024733
CREATED:20250211T164442Z
LAST-MODIFIED:20250211T164537Z
UID:10000535-1765974600-1765974600@www.mitlift.com
SUMMARY:Toledo Aerial Training
DESCRIPTION:
URL:https://www.mitlift.com/event/toledo-aerial-training-9/
LOCATION:MIT Toledo\, 10406 Geiser Road\, Toledo\, OH\, 43528\, United States
CATEGORIES:Aerial,Aerial Toledo Training
ORGANIZER;CN="George Mackenzie":MAILTO:gmackenzie@mitlift.com
END:VEVENT
BEGIN:VEVENT
DTSTART;TZID=America/Detroit:20260121T123000
DTEND;TZID=America/Detroit:20260121T123000
DTSTAMP:20260420T024733
CREATED:20250911T162522Z
LAST-MODIFIED:20250911T162541Z
UID:10000608-1768998600-1768998600@www.mitlift.com
SUMMARY:Toledo Aerial Training
DESCRIPTION:
URL:https://www.mitlift.com/event/toledo-aerial-training-10/
LOCATION:MIT Toledo\, 10406 Geiser Road\, Toledo\, OH\, 43528\, United States
CATEGORIES:Aerial,Aerial Toledo Training
ORGANIZER;CN="George Mackenzie":MAILTO:gmackenzie@mitlift.com
END:VEVENT
BEGIN:VEVENT
DTSTART;TZID=America/Detroit:20260225T123000
DTEND;TZID=America/Detroit:20260225T123000
DTSTAMP:20260420T024733
CREATED:20250911T163034Z
LAST-MODIFIED:20260202T162642Z
UID:10000609-1772022600-1772022600@www.mitlift.com
SUMMARY:Toledo Aerial Training
DESCRIPTION:
URL:https://www.mitlift.com/event/toledo-aerial-training-11/
LOCATION:MIT Toledo\, 10406 Geiser Road\, Toledo\, OH\, 43528\, United States
CATEGORIES:Aerial,Aerial Toledo Training
ORGANIZER;CN="George Mackenzie":MAILTO:gmackenzie@mitlift.com
END:VEVENT
BEGIN:VEVENT
DTSTART;TZID=America/Detroit:20260325T123000
DTEND;TZID=America/Detroit:20260325T123000
DTSTAMP:20260420T024733
CREATED:20250911T163227Z
LAST-MODIFIED:20260203T154927Z
UID:10000610-1774441800-1774441800@www.mitlift.com
SUMMARY:Toledo Aerial Training
DESCRIPTION:
URL:https://www.mitlift.com/event/toledo-aerial-training-12/
LOCATION:MIT Toledo\, 10406 Geiser Road\, Toledo\, OH\, 43528\, United States
CATEGORIES:Aerial,Aerial Toledo Training
ORGANIZER;CN="George Mackenzie":MAILTO:gmackenzie@mitlift.com
END:VEVENT
BEGIN:VEVENT
DTSTART;TZID=America/Detroit:20260422T123000
DTEND;TZID=America/Detroit:20260422T123000
DTSTAMP:20260420T024733
CREATED:20250911T163434Z
LAST-MODIFIED:20250911T163454Z
UID:10000611-1776861000-1776861000@www.mitlift.com
SUMMARY:Toledo Aerial Training
DESCRIPTION:
URL:https://www.mitlift.com/event/toledo-aerial-training-13/
LOCATION:MIT Toledo\, 10406 Geiser Road\, Toledo\, OH\, 43528\, United States
CATEGORIES:Aerial,Aerial Toledo Training
ORGANIZER;CN="George Mackenzie":MAILTO:gmackenzie@mitlift.com
END:VEVENT
BEGIN:VEVENT
DTSTART;TZID=America/Detroit:20260520T123000
DTEND;TZID=America/Detroit:20260520T123000
DTSTAMP:20260420T024733
CREATED:20250911T163641Z
LAST-MODIFIED:20250911T163701Z
UID:10000612-1779280200-1779280200@www.mitlift.com
SUMMARY:Toledo Aerial Training
DESCRIPTION:
URL:https://www.mitlift.com/event/toledo-aerial-training-14/
LOCATION:MIT Toledo\, 10406 Geiser Road\, Toledo\, OH\, 43528\, United States
CATEGORIES:Aerial,Aerial Toledo Training
ORGANIZER;CN="George Mackenzie":MAILTO:gmackenzie@mitlift.com
END:VEVENT
BEGIN:VEVENT
DTSTART;TZID=America/Detroit:20260624T123000
DTEND;TZID=America/Detroit:20260624T123000
DTSTAMP:20260420T024733
CREATED:20250911T163845Z
LAST-MODIFIED:20250911T163903Z
UID:10000613-1782304200-1782304200@www.mitlift.com
SUMMARY:Toledo Aerial Training
DESCRIPTION:
URL:https://www.mitlift.com/event/toledo-aerial-training-15/
LOCATION:MIT Toledo\, 10406 Geiser Road\, Toledo\, OH\, 43528\, United States
CATEGORIES:Aerial,Aerial Toledo Training
ORGANIZER;CN="George Mackenzie":MAILTO:gmackenzie@mitlift.com
END:VEVENT
BEGIN:VEVENT
DTSTART;TZID=America/Detroit:20260722T123000
DTEND;TZID=America/Detroit:20260722T123000
DTSTAMP:20260420T024733
CREATED:20250911T164036Z
LAST-MODIFIED:20250911T164047Z
UID:10000614-1784723400-1784723400@www.mitlift.com
SUMMARY:Toledo Aerial Training
DESCRIPTION:
URL:https://www.mitlift.com/event/toledo-aerial-training-16/
LOCATION:MIT Toledo\, 10406 Geiser Road\, Toledo\, OH\, 43528\, United States
CATEGORIES:Aerial,Aerial Toledo Training
ORGANIZER;CN="George Mackenzie":MAILTO:gmackenzie@mitlift.com
END:VEVENT
BEGIN:VEVENT
DTSTART;TZID=America/Detroit:20260826T123000
DTEND;TZID=America/Detroit:20260826T123000
DTSTAMP:20260420T024733
CREATED:20250911T164217Z
LAST-MODIFIED:20250911T164230Z
UID:10000615-1787747400-1787747400@www.mitlift.com
SUMMARY:Toledo Aerial Training
DESCRIPTION:
URL:https://www.mitlift.com/event/toledo-aerial-training-17/
LOCATION:MIT Toledo\, 10406 Geiser Road\, Toledo\, OH\, 43528\, United States
CATEGORIES:Aerial,Aerial Toledo Training
ORGANIZER;CN="George Mackenzie":MAILTO:gmackenzie@mitlift.com
END:VEVENT
BEGIN:VEVENT
DTSTART;TZID=America/Detroit:20260923T123000
DTEND;TZID=America/Detroit:20260923T123000
DTSTAMP:20260420T024733
CREATED:20250911T164355Z
LAST-MODIFIED:20250911T164415Z
UID:10000616-1790166600-1790166600@www.mitlift.com
SUMMARY:Toledo Aerial Training
DESCRIPTION:
URL:https://www.mitlift.com/event/toledo-aerial-training-18/
LOCATION:MIT Toledo\, 10406 Geiser Road\, Toledo\, OH\, 43528\, United States
CATEGORIES:Aerial,Aerial Toledo Training
ORGANIZER;CN="George Mackenzie":MAILTO:gmackenzie@mitlift.com
END:VEVENT
BEGIN:VEVENT
DTSTART;TZID=America/Detroit:20261021T123000
DTEND;TZID=America/Detroit:20261021T123000
DTSTAMP:20260420T024733
CREATED:20250911T164551Z
LAST-MODIFIED:20250911T164606Z
UID:10000617-1792585800-1792585800@www.mitlift.com
SUMMARY:Toledo Aerial Training
DESCRIPTION:
URL:https://www.mitlift.com/event/toledo-aerial-training-19/
LOCATION:MIT Toledo\, 10406 Geiser Road\, Toledo\, OH\, 43528\, United States
CATEGORIES:Aerial,Aerial Toledo Training
ORGANIZER;CN="George Mackenzie":MAILTO:gmackenzie@mitlift.com
END:VEVENT
BEGIN:VEVENT
DTSTART;TZID=America/Detroit:20261118T123000
DTEND;TZID=America/Detroit:20261118T123000
DTSTAMP:20260420T024733
CREATED:20250911T164736Z
LAST-MODIFIED:20250911T164748Z
UID:10000618-1795005000-1795005000@www.mitlift.com
SUMMARY:Toledo Aerial Training
DESCRIPTION:
URL:https://www.mitlift.com/event/toledo-aerial-training-20/
LOCATION:MIT Toledo\, 10406 Geiser Road\, Toledo\, OH\, 43528\, United States
CATEGORIES:Aerial,Aerial Toledo Training
ORGANIZER;CN="George Mackenzie":MAILTO:gmackenzie@mitlift.com
END:VEVENT
BEGIN:VEVENT
DTSTART;TZID=America/Detroit:20261222T123000
DTEND;TZID=America/Detroit:20261222T123000
DTSTAMP:20260420T024733
CREATED:20250911T164931Z
LAST-MODIFIED:20250911T164947Z
UID:10000619-1797942600-1797942600@www.mitlift.com
SUMMARY:Toledo Aerial Training
DESCRIPTION:
URL:https://www.mitlift.com/event/toledo-aerial-training-21/
LOCATION:MIT Toledo\, 10406 Geiser Road\, Toledo\, OH\, 43528\, United States
CATEGORIES:Aerial,Aerial Toledo Training
ORGANIZER;CN="George Mackenzie":MAILTO:gmackenzie@mitlift.com
END:VEVENT
END:VCALENDAR