BEGIN:VCALENDAR
VERSION:2.0
PRODID:-//Miami Industrial Trucks - ECPv6.15.20//NONSGML v1.0//EN
CALSCALE:GREGORIAN
METHOD:PUBLISH
X-ORIGINAL-URL:https://www.mitlift.com
X-WR-CALDESC:Events for Miami Industrial Trucks
REFRESH-INTERVAL;VALUE=DURATION:PT1H
X-Robots-Tag:noindex
X-PUBLISHED-TTL:PT1H
BEGIN:VTIMEZONE
TZID:America/Detroit
BEGIN:DAYLIGHT
TZOFFSETFROM:-0500
TZOFFSETTO:-0400
TZNAME:EDT
DTSTART:20240310T070000
END:DAYLIGHT
BEGIN:STANDARD
TZOFFSETFROM:-0400
TZOFFSETTO:-0500
TZNAME:EST
DTSTART:20241103T060000
END:STANDARD
BEGIN:DAYLIGHT
TZOFFSETFROM:-0500
TZOFFSETTO:-0400
TZNAME:EDT
DTSTART:20250309T070000
END:DAYLIGHT
BEGIN:STANDARD
TZOFFSETFROM:-0400
TZOFFSETTO:-0500
TZNAME:EST
DTSTART:20251102T060000
END:STANDARD
BEGIN:DAYLIGHT
TZOFFSETFROM:-0500
TZOFFSETTO:-0400
TZNAME:EDT
DTSTART:20260308T070000
END:DAYLIGHT
BEGIN:STANDARD
TZOFFSETFROM:-0400
TZOFFSETTO:-0500
TZNAME:EST
DTSTART:20261101T060000
END:STANDARD
BEGIN:DAYLIGHT
TZOFFSETFROM:-0500
TZOFFSETTO:-0400
TZNAME:EDT
DTSTART:20270314T070000
END:DAYLIGHT
BEGIN:STANDARD
TZOFFSETFROM:-0400
TZOFFSETTO:-0500
TZNAME:EST
DTSTART:20271107T060000
END:STANDARD
END:VTIMEZONE
BEGIN:VEVENT
DTSTART;TZID=America/Detroit:20260416T123000
DTEND;TZID=America/Detroit:20260416T123000
DTSTAMP:20260419T113530
CREATED:20250911T160343Z
LAST-MODIFIED:20250911T160354Z
UID:10000599-1776342600-1776342600@www.mitlift.com
SUMMARY:Findlay Aerial Training
DESCRIPTION:
URL:https://www.mitlift.com/event/findlay-aerial-training-51/
LOCATION:MIT Findlay\, 130 Stanford Pkwy\, Findlay\, OH\, 45840\, United States
CATEGORIES:Aerial,Aerial Findlay Training
ORGANIZER;CN="George Mackenzie":MAILTO:gmackenzie@mitlift.com
END:VEVENT
BEGIN:VEVENT
DTSTART;TZID=America/Detroit:20260312T123000
DTEND;TZID=America/Detroit:20260312T123000
DTSTAMP:20260419T113530
CREATED:20250911T160145Z
LAST-MODIFIED:20250911T160158Z
UID:10000598-1773318600-1773318600@www.mitlift.com
SUMMARY:Findlay Aerial Training
DESCRIPTION:
URL:https://www.mitlift.com/event/findlay-aerial-training-50/
LOCATION:MIT Findlay\, 130 Stanford Pkwy\, Findlay\, OH\, 45840\, United States
CATEGORIES:Aerial,Aerial Findlay Training
ORGANIZER;CN="George Mackenzie":MAILTO:gmackenzie@mitlift.com
END:VEVENT
BEGIN:VEVENT
DTSTART;TZID=America/Detroit:20260212T123000
DTEND;TZID=America/Detroit:20260212T123000
DTSTAMP:20260419T113530
CREATED:20250911T155853Z
LAST-MODIFIED:20250911T155916Z
UID:10000597-1770899400-1770899400@www.mitlift.com
SUMMARY:Findlay Aerial Training
DESCRIPTION:
URL:https://www.mitlift.com/event/findlay-aerial-training-49/
LOCATION:MIT Findlay\, 130 Stanford Pkwy\, Findlay\, OH\, 45840\, United States
CATEGORIES:Aerial,Aerial Findlay Training
ORGANIZER;CN="George Mackenzie":MAILTO:gmackenzie@mitlift.com
END:VEVENT
BEGIN:VEVENT
DTSTART;TZID=America/Detroit:20260115T123000
DTEND;TZID=America/Detroit:20260115T123000
DTSTAMP:20260419T113530
CREATED:20250911T155652Z
LAST-MODIFIED:20250911T155706Z
UID:10000596-1768480200-1768480200@www.mitlift.com
SUMMARY:Findlay Aerial Training
DESCRIPTION:
URL:https://www.mitlift.com/event/findlay-aerial-training-39/
LOCATION:MIT Findlay\, 130 Stanford Pkwy\, Findlay\, OH\, 45840\, United States
CATEGORIES:Aerial,Aerial Findlay Training
ORGANIZER;CN="George Mackenzie":MAILTO:gmackenzie@mitlift.com
END:VEVENT
BEGIN:VEVENT
DTSTART;TZID=America/Detroit:20251211T123000
DTEND;TZID=America/Detroit:20251211T123000
DTSTAMP:20260419T113530
CREATED:20251203T140932Z
LAST-MODIFIED:20251203T141113Z
UID:10000632-1765456200-1765456200@www.mitlift.com
SUMMARY:Findlay Aerial Training Dec 11\,2025
DESCRIPTION:
URL:https://www.mitlift.com/event/findlay-aerial-training-dec-112025/
LOCATION:MIT Findlay\, 130 Stanford Pkwy\, Findlay\, OH\, 45840\, United States
CATEGORIES:Aerial,Aerial Findlay Training
ORGANIZER;CN="George Mackenzie":MAILTO:gmackenzie@mitlift.com
END:VEVENT
BEGIN:VEVENT
DTSTART;TZID=America/Detroit:20251113T123000
DTEND;TZID=America/Detroit:20251113T123000
DTSTAMP:20260419T113530
CREATED:20240729T142326Z
LAST-MODIFIED:20250210T214234Z
UID:10000515-1763037000-1763037000@www.mitlift.com
SUMMARY:Findlay Aerial Training
DESCRIPTION:
URL:https://www.mitlift.com/event/findlay-aerial-training-46/
LOCATION:MIT Findlay\, 130 Stanford Pkwy\, Findlay\, OH\, 45840\, United States
CATEGORIES:Aerial,Aerial Findlay Training
ORGANIZER;CN="George Mackenzie":MAILTO:gmackenzie@mitlift.com
END:VEVENT
BEGIN:VEVENT
DTSTART;TZID=America/Detroit:20251016T123000
DTEND;TZID=America/Detroit:20251016T123000
DTSTAMP:20260419T113530
CREATED:20240729T142207Z
LAST-MODIFIED:20250210T214412Z
UID:10000516-1760617800-1760617800@www.mitlift.com
SUMMARY:Findlay Aerial Training
DESCRIPTION:
URL:https://www.mitlift.com/event/findlay-aerial-training-45/
LOCATION:MIT Findlay\, 130 Stanford Pkwy\, Findlay\, OH\, 45840\, United States
CATEGORIES:Aerial,Aerial Findlay Training
ORGANIZER;CN="George Mackenzie":MAILTO:gmackenzie@mitlift.com
END:VEVENT
BEGIN:VEVENT
DTSTART;TZID=America/Detroit:20250918T123000
DTEND;TZID=America/Detroit:20250918T123000
DTSTAMP:20260419T113530
CREATED:20250211T155714Z
LAST-MODIFIED:20250911T155412Z
UID:10000531-1758198600-1758198600@www.mitlift.com
SUMMARY:Findlay Aerial Training
DESCRIPTION:
URL:https://www.mitlift.com/event/findlay-forklift-training-37/
LOCATION:MIT Findlay\, 130 Stanford Pkwy\, Findlay\, OH\, 45840\, United States
CATEGORIES:Aerial,Aerial Findlay Training
ORGANIZER;CN="George Mackenzie":MAILTO:gmackenzie@mitlift.com
END:VEVENT
BEGIN:VEVENT
DTSTART;TZID=America/Detroit:20250814T123000
DTEND;TZID=America/Detroit:20250814T123000
DTSTAMP:20260419T113530
CREATED:20240729T140956Z
LAST-MODIFIED:20250210T215018Z
UID:10000520-1755174600-1755174600@www.mitlift.com
SUMMARY:Findlay Aerial Training
DESCRIPTION:
URL:https://www.mitlift.com/event/findlay-aerial-training-44/
LOCATION:MIT Findlay\, 130 Stanford Pkwy\, Findlay\, OH\, 45840\, United States
CATEGORIES:Aerial,Aerial Findlay Training
ORGANIZER;CN="George Mackenzie":MAILTO:gmackenzie@mitlift.com
END:VEVENT
BEGIN:VEVENT
DTSTART;TZID=America/Detroit:20250723T123000
DTEND;TZID=America/Detroit:20250723T123000
DTSTAMP:20260419T113530
CREATED:20250211T154341Z
LAST-MODIFIED:20250211T154522Z
UID:10000529-1753273800-1753273800@www.mitlift.com
SUMMARY:Toledo Aerial Training
DESCRIPTION:
URL:https://www.mitlift.com/event/toledo-aerial-training-4/
LOCATION:MIT Toledo\, 10406 Geiser Road\, Toledo\, OH\, 43528\, United States
CATEGORIES:Aerial,Aerial Findlay Training
ORGANIZER;CN="George Mackenzie":MAILTO:gmackenzie@mitlift.com
END:VEVENT
BEGIN:VEVENT
DTSTART;TZID=America/Detroit:20250717T123000
DTEND;TZID=America/Detroit:20250717T123000
DTSTAMP:20260419T113530
CREATED:20240729T135718Z
LAST-MODIFIED:20250210T215117Z
UID:10000521-1752755400-1752755400@www.mitlift.com
SUMMARY:Findlay Aerial Training
DESCRIPTION:
URL:https://www.mitlift.com/event/findlay-aerial-training-43/
LOCATION:MIT Findlay\, 130 Stanford Pkwy\, Findlay\, OH\, 45840\, United States
CATEGORIES:Aerial,Aerial Findlay Training
ORGANIZER;CN="George Mackenzie":MAILTO:gmackenzie@mitlift.com
END:VEVENT
BEGIN:VEVENT
DTSTART;TZID=America/Detroit:20250619T123000
DTEND;TZID=America/Detroit:20250619T123000
DTSTAMP:20260419T113530
CREATED:20240729T135555Z
LAST-MODIFIED:20250210T215219Z
UID:10000522-1750336200-1750336200@www.mitlift.com
SUMMARY:Findlay Aerial Training
DESCRIPTION:
URL:https://www.mitlift.com/event/findlay-aerial-training-42/
LOCATION:MIT Findlay\, 130 Stanford Pkwy\, Findlay\, OH\, 45840\, United States
CATEGORIES:Aerial,Aerial Findlay Training
ORGANIZER;CN="George Mackenzie":MAILTO:gmackenzie@mitlift.com
END:VEVENT
BEGIN:VEVENT
DTSTART;TZID=America/Detroit:20250515T123000
DTEND;TZID=America/Detroit:20250515T123000
DTSTAMP:20260419T113530
CREATED:20240729T135428Z
LAST-MODIFIED:20250210T215412Z
UID:10000523-1747312200-1747312200@www.mitlift.com
SUMMARY:Findlay Aerial Training
DESCRIPTION:
URL:https://www.mitlift.com/event/findlay-aerial-training-41/
LOCATION:MIT Findlay\, 130 Stanford Pkwy\, Findlay\, OH\, 45840\, United States
CATEGORIES:Aerial,Aerial Findlay Training
ORGANIZER;CN="George Mackenzie":MAILTO:gmackenzie@mitlift.com
END:VEVENT
BEGIN:VEVENT
DTSTART;TZID=America/Detroit:20250417T123000
DTEND;TZID=America/Detroit:20250417T123000
DTSTAMP:20260419T113530
CREATED:20240729T135246Z
LAST-MODIFIED:20250210T215453Z
UID:10000524-1744893000-1744893000@www.mitlift.com
SUMMARY:Findlay Aerial Training
DESCRIPTION:
URL:https://www.mitlift.com/event/findlay-aerial-training-40/
LOCATION:MIT Findlay\, 130 Stanford Pkwy\, Findlay\, OH\, 45840\, United States
CATEGORIES:Aerial,Aerial Findlay Training
ORGANIZER;CN="George Mackenzie":MAILTO:gmackenzie@mitlift.com
END:VEVENT
BEGIN:VEVENT
DTSTART;TZID=America/Detroit:20250313T123000
DTEND;TZID=America/Detroit:20250313T123000
DTSTAMP:20260419T113530
CREATED:20250210T193217Z
LAST-MODIFIED:20250210T193441Z
UID:10000509-1741869000-1741869000@www.mitlift.com
SUMMARY:Findlay Aerial Training
DESCRIPTION:
URL:https://www.mitlift.com/event/findlay-aerial-training-48/
LOCATION:MIT Findlay\, 130 Stanford Pkwy\, Findlay\, OH\, 45840\, United States
CATEGORIES:Aerial,Aerial Findlay Training
ORGANIZER;CN="George Mackenzie":MAILTO:gmackenzie@mitlift.com
END:VEVENT
END:VCALENDAR