BEGIN:VCALENDAR
VERSION:2.0
PRODID:-//Miami Industrial Trucks - ECPv6.15.20//NONSGML v1.0//EN
CALSCALE:GREGORIAN
METHOD:PUBLISH
X-ORIGINAL-URL:https://www.mitlift.com
X-WR-CALDESC:Events for Miami Industrial Trucks
REFRESH-INTERVAL;VALUE=DURATION:PT1H
X-Robots-Tag:noindex
X-PUBLISHED-TTL:PT1H
BEGIN:VTIMEZONE
TZID:America/Detroit
BEGIN:DAYLIGHT
TZOFFSETFROM:-0500
TZOFFSETTO:-0400
TZNAME:EDT
DTSTART:20250309T070000
END:DAYLIGHT
BEGIN:STANDARD
TZOFFSETFROM:-0400
TZOFFSETTO:-0500
TZNAME:EST
DTSTART:20251102T060000
END:STANDARD
BEGIN:DAYLIGHT
TZOFFSETFROM:-0500
TZOFFSETTO:-0400
TZNAME:EDT
DTSTART:20260308T070000
END:DAYLIGHT
BEGIN:STANDARD
TZOFFSETFROM:-0400
TZOFFSETTO:-0500
TZNAME:EST
DTSTART:20261101T060000
END:STANDARD
BEGIN:DAYLIGHT
TZOFFSETFROM:-0500
TZOFFSETTO:-0400
TZNAME:EDT
DTSTART:20270314T070000
END:DAYLIGHT
BEGIN:STANDARD
TZOFFSETFROM:-0400
TZOFFSETTO:-0500
TZNAME:EST
DTSTART:20271107T060000
END:STANDARD
END:VTIMEZONE
BEGIN:VEVENT
DTSTART;TZID=America/Detroit:20260512T123000
DTEND;TZID=America/Detroit:20260512T123000
DTSTAMP:20260419T100311
CREATED:20250911T165810Z
LAST-MODIFIED:20250911T165823Z
UID:10000624-1778589000-1778589000@www.mitlift.com
SUMMARY:Troy Aerial Training
DESCRIPTION:
URL:https://www.mitlift.com/event/troy-aerial-training-44/
LOCATION:MIT Troy\, 1101 Horizon West Court\, Troy\, OH\, 45373\, United States
CATEGORIES:Aerial,Aerial Troy Training
ORGANIZER;CN="George Mackenzie":MAILTO:gmackenzie@mitlift.com
END:VEVENT
BEGIN:VEVENT
DTSTART;TZID=America/Detroit:20260514T123000
DTEND;TZID=America/Detroit:20260514T123000
DTSTAMP:20260419T100311
CREATED:20250911T160529Z
LAST-MODIFIED:20250911T160541Z
UID:10000600-1778761800-1778761800@www.mitlift.com
SUMMARY:Findlay Aerial Training
DESCRIPTION:
URL:https://www.mitlift.com/event/findlay-aerial-training-52/
LOCATION:MIT Findlay\, 130 Stanford Pkwy\, Findlay\, OH\, 45840\, United States
CATEGORIES:Aerial,Aerial Findlay Training
ORGANIZER;CN="George Mackenzie":MAILTO:gmackenzie@mitlift.com
END:VEVENT
BEGIN:VEVENT
DTSTART;TZID=America/Detroit:20260520T123000
DTEND;TZID=America/Detroit:20260520T123000
DTSTAMP:20260419T100311
CREATED:20250911T163641Z
LAST-MODIFIED:20250911T163701Z
UID:10000612-1779280200-1779280200@www.mitlift.com
SUMMARY:Toledo Aerial Training
DESCRIPTION:
URL:https://www.mitlift.com/event/toledo-aerial-training-14/
LOCATION:MIT Toledo\, 10406 Geiser Road\, Toledo\, OH\, 43528\, United States
CATEGORIES:Aerial,Aerial Toledo Training
ORGANIZER;CN="George Mackenzie":MAILTO:gmackenzie@mitlift.com
END:VEVENT
END:VCALENDAR